BEGIN:VCALENDAR
VERSION:2.0
PRODID:-//jEvents 2.0 for Joomla//EN
CALSCALE:GREGORIAN
METHOD:PUBLISH
BEGIN:VTIMEZONE
TZID:Europe/Berlin
BEGIN:STANDARD
DTSTART:20151025T020000
RDATE:20160327T030000
TZOFFSETFROM:+0200
TZOFFSETTO:+0100
TZNAME:Europe/Berlin CET
END:STANDARD
BEGIN:STANDARD
DTSTART:20161030T020000
RDATE:20170326T030000
TZOFFSETFROM:+0200
TZOFFSETTO:+0100
TZNAME:Europe/Berlin CET
END:STANDARD
BEGIN:STANDARD
DTSTART:20171029T020000
RDATE:20180325T030000
TZOFFSETFROM:+0200
TZOFFSETTO:+0100
TZNAME:Europe/Berlin CET
END:STANDARD
BEGIN:STANDARD
DTSTART:20181028T020000
RDATE:20190331T030000
TZOFFSETFROM:+0200
TZOFFSETTO:+0100
TZNAME:Europe/Berlin CET
END:STANDARD
BEGIN:STANDARD
DTSTART:20191027T020000
RDATE:20200329T030000
TZOFFSETFROM:+0200
TZOFFSETTO:+0100
TZNAME:Europe/Berlin CET
END:STANDARD
BEGIN:STANDARD
DTSTART:20201025T020000
RDATE:20210328T030000
TZOFFSETFROM:+0200
TZOFFSETTO:+0100
TZNAME:Europe/Berlin CET
END:STANDARD
BEGIN:STANDARD
DTSTART:20211031T020000
RDATE:20220327T030000
TZOFFSETFROM:+0200
TZOFFSETTO:+0100
TZNAME:Europe/Berlin CET
END:STANDARD
BEGIN:STANDARD
DTSTART:20221030T020000
RDATE:20230326T030000
TZOFFSETFROM:+0200
TZOFFSETTO:+0100
TZNAME:Europe/Berlin CET
END:STANDARD
BEGIN:STANDARD
DTSTART:20231029T020000
RDATE:20240331T030000
TZOFFSETFROM:+0200
TZOFFSETTO:+0100
TZNAME:Europe/Berlin CET
END:STANDARD
BEGIN:STANDARD
DTSTART:20241027T020000
RDATE:20250330T030000
TZOFFSETFROM:+0200
TZOFFSETTO:+0100
TZNAME:Europe/Berlin CET
END:STANDARD
BEGIN:STANDARD
DTSTART:20251026T020000
RDATE:20260329T030000
TZOFFSETFROM:+0200
TZOFFSETTO:+0100
TZNAME:Europe/Berlin CET
END:STANDARD
BEGIN:STANDARD
DTSTART:20261025T020000
RDATE:20270328T030000
TZOFFSETFROM:+0200
TZOFFSETTO:+0100
TZNAME:Europe/Berlin CET
END:STANDARD
BEGIN:STANDARD
DTSTART:20271031T020000
RDATE:20280326T030000
TZOFFSETFROM:+0200
TZOFFSETTO:+0100
TZNAME:Europe/Berlin CET
END:STANDARD
BEGIN:STANDARD
DTSTART:20281029T020000
RDATE:20290325T030000
TZOFFSETFROM:+0200
TZOFFSETTO:+0100
TZNAME:Europe/Berlin CET
END:STANDARD
BEGIN:STANDARD
DTSTART:20291028T020000
RDATE:20300331T030000
TZOFFSETFROM:+0200
TZOFFSETTO:+0100
TZNAME:Europe/Berlin CET
END:STANDARD
BEGIN:STANDARD
DTSTART:20301027T020000
RDATE:20310330T030000
TZOFFSETFROM:+0200
TZOFFSETTO:+0100
TZNAME:Europe/Berlin CET
END:STANDARD
BEGIN:DAYLIGHT
DTSTART:20150526T190000
RDATE:20151025T020000
TZOFFSETFROM:+0100
TZOFFSETTO:+0200
TZNAME:Europe/Berlin CEST
END:DAYLIGHT
BEGIN:DAYLIGHT
DTSTART:20160327T030000
RDATE:20161030T020000
TZOFFSETFROM:+0100
TZOFFSETTO:+0200
TZNAME:Europe/Berlin CEST
END:DAYLIGHT
BEGIN:DAYLIGHT
DTSTART:20170326T030000
RDATE:20171029T020000
TZOFFSETFROM:+0100
TZOFFSETTO:+0200
TZNAME:Europe/Berlin CEST
END:DAYLIGHT
BEGIN:DAYLIGHT
DTSTART:20180325T030000
RDATE:20181028T020000
TZOFFSETFROM:+0100
TZOFFSETTO:+0200
TZNAME:Europe/Berlin CEST
END:DAYLIGHT
BEGIN:DAYLIGHT
DTSTART:20190331T030000
RDATE:20191027T020000
TZOFFSETFROM:+0100
TZOFFSETTO:+0200
TZNAME:Europe/Berlin CEST
END:DAYLIGHT
BEGIN:DAYLIGHT
DTSTART:20200329T030000
RDATE:20201025T020000
TZOFFSETFROM:+0100
TZOFFSETTO:+0200
TZNAME:Europe/Berlin CEST
END:DAYLIGHT
BEGIN:DAYLIGHT
DTSTART:20210328T030000
RDATE:20211031T020000
TZOFFSETFROM:+0100
TZOFFSETTO:+0200
TZNAME:Europe/Berlin CEST
END:DAYLIGHT
BEGIN:DAYLIGHT
DTSTART:20220327T030000
RDATE:20221030T020000
TZOFFSETFROM:+0100
TZOFFSETTO:+0200
TZNAME:Europe/Berlin CEST
END:DAYLIGHT
BEGIN:DAYLIGHT
DTSTART:20230326T030000
RDATE:20231029T020000
TZOFFSETFROM:+0100
TZOFFSETTO:+0200
TZNAME:Europe/Berlin CEST
END:DAYLIGHT
BEGIN:DAYLIGHT
DTSTART:20240331T030000
RDATE:20241027T020000
TZOFFSETFROM:+0100
TZOFFSETTO:+0200
TZNAME:Europe/Berlin CEST
END:DAYLIGHT
BEGIN:DAYLIGHT
DTSTART:20250330T030000
RDATE:20251026T020000
TZOFFSETFROM:+0100
TZOFFSETTO:+0200
TZNAME:Europe/Berlin CEST
END:DAYLIGHT
BEGIN:DAYLIGHT
DTSTART:20260329T030000
RDATE:20261025T020000
TZOFFSETFROM:+0100
TZOFFSETTO:+0200
TZNAME:Europe/Berlin CEST
END:DAYLIGHT
BEGIN:DAYLIGHT
DTSTART:20270328T030000
RDATE:20271031T020000
TZOFFSETFROM:+0100
TZOFFSETTO:+0200
TZNAME:Europe/Berlin CEST
END:DAYLIGHT
BEGIN:DAYLIGHT
DTSTART:20280326T030000
RDATE:20281029T020000
TZOFFSETFROM:+0100
TZOFFSETTO:+0200
TZNAME:Europe/Berlin CEST
END:DAYLIGHT
BEGIN:DAYLIGHT
DTSTART:20290325T030000
RDATE:20291028T020000
TZOFFSETFROM:+0100
TZOFFSETTO:+0200
TZNAME:Europe/Berlin CEST
END:DAYLIGHT
BEGIN:DAYLIGHT
DTSTART:20300331T030000
RDATE:20301027T020000
TZOFFSETFROM:+0100
TZOFFSETTO:+0200
TZNAME:Europe/Berlin CEST
END:DAYLIGHT
END:VTIMEZONE
BEGIN:VEVENT
UID:6c8b8150cf889fbc4c56bc6c1638ee40
CATEGORIES:Vereinsinterne Veranstaltungen
CREATED:20160210T115722
SUMMARY:Außerordentliche Jahreshauptversammlung
DESCRIPTION:\n - Tagesordnung (Login erforderlich) (aus-dem-vorstand/107-einladung-zur-
 ausserordentlichen-jahreshauptversammlung)\n\n - <a href="aus-dem-vorstand/
 108-antrag-fuer-die-ausserordentliche-jahreshauptversammlung-am-26-05-16-ge
 maess-satzung-12-viii">Antrag 1 (Login erforderlich)</a>\n - Antrag 2 (Logi
 n erforderlich) (aus-dem-vorstand/109-antrag-abrechnung-landlieger-werner-l
 ass)  GMT Detect languageAfrikaansAlbanianArabicArmenianAzerbaijaniBasqueBe
 larusianBengaliBosnianBulgarianCatalanCebuanoChichewaChinese (Simplified)Ch
 inese (Traditional)CroatianCzechDanishDutchEnglishEsperantoEstonianFilipino
 FinnishFrenchGalicianGeorgianGermanGreekGujaratiHaitian CreoleHausaHebrewHi
 ndiHmongHungarianIcelandicIgboIndonesianIrishItalianJapaneseJavaneseKannada
 KazakhKhmerKoreanLaoLatinLatvianLithuanianMacedonianMalagasyMalayMalayalamM
 alteseMaoriMarathiMongolianMyanmar (Burmese)NepaliNorwegianPersianPolishPor
 tuguesePunjabiRomanianRussianSerbianSesothoSinhalaSlovakSlovenianSomaliSpan
 ishSundaneseSwahiliSwedishTajikTamilTeluguThaiTurkishUkrainianUrduUzbekViet
 nameseWelshYiddishYorubaZulu AfrikaansAlbanianArabicArmenianAzerbaijaniBasq
 ueBelarusianBengaliBosnianBulgarianCatalanCebuanoChichewaChinese (Simplifie
 d)Chinese (Traditional)CroatianCzechDanishDutchEnglishEsperantoEstonianFili
 pinoFinnishFrenchGalicianGeorgianGermanGreekGujaratiHaitian CreoleHausaHebr
 ewHindiHmongHungarianIcelandicIgboIndonesianIrishItalianJapaneseJavaneseKan
 nadaKazakhKhmerKoreanLaoLatinLatvianLithuanianMacedonianMalagasyMalayMalaya
 lamMalteseMaoriMarathiMongolianMyanmar (Burmese)NepaliNorwegianPersianPolis
 hPortuguesePunjabiRomanianRussianSerbianSesothoSinhalaSlovakSlovenianSomali
 SpanishSundaneseSwahiliSwedishTajikTamilTeluguThaiTurkishUkrainianUrduUzbek
 VietnameseWelshYiddishYorubaZulu          Text-to-speech function is limite
 d to 100 characters <a href="#" id="OPlnk" title="Show options">Options</a>
  : History (#) : <a href="http://about.imtranslator.net/tutorials/presentat
 ions/imtranslator-translator-for-firefox/popup-bubble-application/" target=
 "_blank" id="HELPlnk" title="Help">Help</a> : Feedback (#)<a href="#" id="S
 L_Balloon_Close" title="Close">Close</a>
X-ALT-DESC;FMTTYPE=text/html:<ul><li><span style="font-size: 11pt; font-family: 'Calibri','sans-serif';"
 ><a href="aus-dem-vorstand/107-einladung-zur-ausserordentlichen-jahreshaupt
 versammlung">Tagesordnung (Login erforderlich)</a><br /></span></li><li><a 
 href="aus-dem-vorstand/108-antrag-fuer-die-ausserordentliche-jahreshauptver
 sammlung-am-26-05-16-gemaess-satzung-12-viii">Antrag 1 (Login erforderlich)
 </a></li><li><a href="aus-dem-vorstand/109-antrag-abrechnung-landlieger-wer
 ner-lass">Antrag 2 (Login erforderlich)</a></li></ul><div id="SL_balloon_ob
 j" style="display: none;"><div id="SL_button" style="background: transparen
 t url('chrome://imtranslator/content/img/util/imtranslator-s.png') repeat s
 croll 0% 0%; display: block; width: 24px; height: 24px; position: absolute;
  cursor: pointer;">&nbsp;</div><div id="SL_shadow_translation_result2" styl
 e="display: none;">&nbsp;</div><div id="SL_shadow_translator"><div id="SL_p
 roviders"><div id="SL_P0" class="SL_BL_LABLE_ON" title="Google">G</div><div
  id="SL_P1" class="SL_BL_LABLE_ON" title="Microsoft">M</div><div id="SL_P2"
  class="SL_BL_LABLE_ON" title="Translator">T</div></div><div id="SL_planshe
 t" style="background: #f4f5f5 url('chrome://imtranslator/content/img/util/b
 g2.png') repeat scroll 0% 0%;"><div id="SL_TB"><div id="bubblelogo" style="
 background: transparent url('chrome://imtranslator/content/img/util/imtrans
 lator-s.png') repeat scroll 0% 0%; display: block; width: 24px; height: 24p
 x; cursor: pointer; position: absolute;">&nbsp;</div><table id="SL_tables">
 <tbody><tr><td align="right" width="10%"><input type="checkbox" id="SLloc" 
 title="Lock-in language" /></td><td align="left" width="20%"><select id="SL
 _lng_from"><option value="auto">Detect language</option><option value="af">
 Afrikaans</option><option value="sq">Albanian</option><option value="ar">Ar
 abic</option><option value="hy">Armenian</option><option value="az">Azerbai
 jani</option><option value="eu">Basque</option><option value="be">Belarusia
 n</option><option value="bn">Bengali</option><option value="bs">Bosnian</op
 tion><option value="bg">Bulgarian</option><option value="ca">Catalan</optio
 n><option value="ceb">Cebuano</option><option value="ny">Chichewa</option><
 option value="zh-CN">Chinese (Simplified)</option><option value="zh-TW">Chi
 nese (Traditional)</option><option value="hr">Croatian</option><option valu
 e="cs">Czech</option><option value="da">Danish</option><option value="nl">D
 utch</option><option value="en">English</option><option value="eo">Esperant
 o</option><option value="et">Estonian</option><option value="tl">Filipino</
 option><option value="fi">Finnish</option><option value="fr">French</option
 ><option value="gl">Galician</option><option value="ka">Georgian</option><o
 ption value="de">German</option><option value="el">Greek</option><option va
 lue="gu">Gujarati</option><option value="ht">Haitian Creole</option><option
  value="ha">Hausa</option><option value="iw">Hebrew</option><option value="
 hi">Hindi</option><option value="hmn">Hmong</option><option value="hu">Hung
 arian</option><option value="is">Icelandic</option><option value="ig">Igbo<
 /option><option value="id">Indonesian</option><option value="ga">Irish</opt
 ion><option value="it">Italian</option><option value="ja">Japanese</option>
 <option value="jw">Javanese</option><option value="kn">Kannada</option><opt
 ion value="kk">Kazakh</option><option value="km">Khmer</option><option valu
 e="ko">Korean</option><option value="lo">Lao</option><option value="la">Lat
 in</option><option value="lv">Latvian</option><option value="lt">Lithuanian
 </option><option value="mk">Macedonian</option><option value="mg">Malagasy<
 /option><option value="ms">Malay</option><option value="ml">Malayalam</opti
 on><option value="mt">Maltese</option><option value="mi">Maori</option><opt
 ion value="mr">Marathi</option><option value="mn">Mongolian</option><option
  value="my">Myanmar (Burmese)</option><option value="ne">Nepali</option><op
 tion value="no">Norwegian</option><option value="fa">Persian</option><optio
 n value="pl">Polish</option><option value="pt">Portuguese</option><option v
 alue="pa">Punjabi</option><option value="ro">Romanian</option><option value
 ="ru">Russian</option><option value="sr">Serbian</option><option value="st"
 >Sesotho</option><option value="si">Sinhala</option><option value="sk">Slov
 ak</option><option value="sl">Slovenian</option><option value="so">Somali</
 option><option value="es">Spanish</option><option value="su">Sundanese</opt
 ion><option value="sw">Swahili</option><option value="sv">Swedish</option><
 option value="tg">Tajik</option><option value="ta">Tamil</option><option va
 lue="te">Telugu</option><option value="th">Thai</option><option value="tr">
 Turkish</option><option value="uk">Ukrainian</option><option value="ur">Urd
 u</option><option value="uz">Uzbek</option><option value="vi">Vietnamese</o
 ption><option value="cy">Welsh</option><option value="yi">Yiddish</option><
 option value="yo">Yoruba</option><option value="zu">Zulu</option></select><
 /td><td align="center" width="5%">&nbsp;</td><td align="left" width="20%"><
 select id="SL_lng_to"><option value="af">Afrikaans</option><option value="s
 q">Albanian</option><option value="ar">Arabic</option><option value="hy">Ar
 menian</option><option value="az">Azerbaijani</option><option value="eu">Ba
 sque</option><option value="be">Belarusian</option><option value="bn">Benga
 li</option><option value="bs">Bosnian</option><option value="bg">Bulgarian<
 /option><option value="ca">Catalan</option><option value="ceb">Cebuano</opt
 ion><option value="ny">Chichewa</option><option value="zh-CN">Chinese (Simp
 lified)</option><option value="zh-TW">Chinese (Traditional)</option><option
  value="hr">Croatian</option><option value="cs">Czech</option><option value
 ="da">Danish</option><option value="nl">Dutch</option><option value="en">En
 glish</option><option value="eo">Esperanto</option><option value="et">Eston
 ian</option><option value="tl">Filipino</option><option value="fi">Finnish<
 /option><option value="fr">French</option><option value="gl">Galician</opti
 on><option value="ka">Georgian</option><option value="de">German</option><o
 ption value="el">Greek</option><option value="gu">Gujarati</option><option 
 value="ht">Haitian Creole</option><option value="ha">Hausa</option><option 
 value="iw">Hebrew</option><option value="hi">Hindi</option><option value="h
 mn">Hmong</option><option value="hu">Hungarian</option><option value="is">I
 celandic</option><option value="ig">Igbo</option><option value="id">Indones
 ian</option><option value="ga">Irish</option><option value="it">Italian</op
 tion><option value="ja">Japanese</option><option value="jw">Javanese</optio
 n><option value="kn">Kannada</option><option value="kk">Kazakh</option><opt
 ion value="km">Khmer</option><option value="ko">Korean</option><option valu
 e="lo">Lao</option><option value="la">Latin</option><option value="lv">Latv
 ian</option><option value="lt">Lithuanian</option><option value="mk">Macedo
 nian</option><option value="mg">Malagasy</option><option value="ms">Malay</
 option><option value="ml">Malayalam</option><option value="mt">Maltese</opt
 ion><option value="mi">Maori</option><option value="mr">Marathi</option><op
 tion value="mn">Mongolian</option><option value="my">Myanmar (Burmese)</opt
 ion><option value="ne">Nepali</option><option value="no">Norwegian</option>
 <option value="fa">Persian</option><option value="pl">Polish</option><optio
 n value="pt">Portuguese</option><option value="pa">Punjabi</option><option 
 value="ro">Romanian</option><option value="ru">Russian</option><option valu
 e="sr">Serbian</option><option value="st">Sesotho</option><option value="si
 ">Sinhala</option><option value="sk">Slovak</option><option value="sl">Slov
 enian</option><option value="so">Somali</option><option value="es">Spanish<
 /option><option value="su">Sundanese</option><option value="sw">Swahili</op
 tion><option value="sv">Swedish</option><option value="tg">Tajik</option><o
 ption value="ta">Tamil</option><option value="te">Telugu</option><option va
 lue="th">Thai</option><option value="tr">Turkish</option><option value="uk"
 >Ukrainian</option><option value="ur">Urdu</option><option value="uz">Uzbek
 </option><option value="vi">Vietnamese</option><option value="cy">Welsh</op
 tion><option value="yi">Yiddish</option><option value="yo">Yoruba</option><
 option value="zu">Zulu</option></select></td><td align="center" width="5%">
 &nbsp;</td><td align="center" width="6%">&nbsp;</td><td align="center" widt
 h="6%">&nbsp;</td><td align="center" width="6%">&nbsp;</td><td align="cente
 r" width="6%">&nbsp;</td><td width="10%">&nbsp;</td><td align="right" width
 ="6%">&nbsp;</td></tr></tbody></table></div></div><div id="SL_shadow_transl
 ation_result" style="background: #ffffff url('chrome://imtranslator/content
 /img/util/bg.png') repeat scroll 0% 0%;">&nbsp;</div><div id="SL_loading" s
 tyle="background: transparent url('chrome://imtranslator/content/img/util/i
 ndicator.gif') repeat scroll 0% 0%; display: block; position: absolute; wid
 th: 35px; margin-left: 180px; margin-top: -40px; height: 35px;">&nbsp;</div
 ><div id="SL_player2">&nbsp;</div><div id="SL_alert100" style="background: 
 transparent url('chrome://imtranslator/content/img/util/bg2.png') repeat sc
 roll 0% 0%;">Text-to-speech function is limited to 100 characters</div><div
  id="SL_bbl_donate" style="background: transparent url('chrome://imtranslat
 or/content/img/util/donate2.png') repeat scroll 0% 0%;" title="Make a small
  conribution">&nbsp;</div><div id="SL_Balloon_options" style="background: #
 ffffff url('chrome://imtranslator/content/img/util/bg3.png') repeat scroll 
 0% 0%;"><a href="#" id="OPlnk" title="Show options">Options</a> : <a href="
 #" id="HISTlnk" title="Translation History">History</a> : <a href="http://a
 bout.imtranslator.net/tutorials/presentations/imtranslator-translator-for-f
 irefox/popup-bubble-application/" target="_blank" id="HELPlnk" title="Help"
 >Help</a> : <a href="#" id="FBlnk" title="Feedback">Feedback</a><a href="#"
  id="SL_Balloon_Close" title="Close">Close</a></div></div></div>
DTSTAMP:20260420T153404
DTSTART;TZID=Europe/Berlin:20160526T190000
SEQUENCE:0
TRANSP:OPAQUE
END:VEVENT
END:VCALENDAR