BEGIN:VCALENDAR
VERSION:2.0
PRODID:-//jEvents 2.0 for Joomla//EN
CALSCALE:GREGORIAN
METHOD:PUBLISH
BEGIN:VEVENT
UID:8de6c0066e7d171a071a3b5833c7af19
CATEGORIES:Feiertage Berlin
CREATED:20160317T101624
SUMMARY:Weihnachten
DESCRIPTION:
DTSTAMP:20260421T035935
DTSTART;TZID=Europe/Berlin;VALUE=DATE:20381225
DTEND;TZID=Europe/Berlin;VALUE=DATE:20381227
SEQUENCE:0
TRANSP:OPAQUE
END:VEVENT
END:VCALENDAR