BEGIN:VCALENDAR
VERSION:2.0
PRODID:-//jEvents 2.0 for Joomla//EN
CALSCALE:GREGORIAN
METHOD:PUBLISH
BEGIN:VTIMEZONE
TZID:Europe/Berlin
END:VTIMEZONE
BEGIN:VEVENT
UID:8de6c0066e7d171a071a3b5833c7af19
CATEGORIES:Feiertage Berlin
CREATED:20160317T101624
SUMMARY:Weihnachten
DESCRIPTION:
DTSTAMP:20260420T205540
DTSTART;TZID=Europe/Berlin;VALUE=DATE:20351225
DTEND;TZID=Europe/Berlin;VALUE=DATE:20351227
SEQUENCE:0
TRANSP:OPAQUE
END:VEVENT
END:VCALENDAR