BEGIN:VCALENDAR
VERSION:2.0
PRODID:-//jEvents 2.0 for Joomla//EN
CALSCALE:GREGORIAN
METHOD:PUBLISH
BEGIN:VTIMEZONE
TZID:Europe/Berlin
END:VTIMEZONE
BEGIN:VEVENT
UID:720ef41a764c852e390265184d4a69f7
CATEGORIES:Feiertage Berlin
CREATED:20160317T101542
SUMMARY:Tag der dtsch. Einheit
DESCRIPTION:
DTSTAMP:20260421T042759
DTSTART;TZID=Europe/Berlin;VALUE=DATE:20351003
DTEND;TZID=Europe/Berlin;VALUE=DATE:20351004
SEQUENCE:0
TRANSP:OPAQUE
END:VEVENT
END:VCALENDAR