BEGIN:VCALENDAR
VERSION:2.0
PRODID:-//jEvents 2.0 for Joomla//EN
CALSCALE:GREGORIAN
METHOD:PUBLISH
BEGIN:VTIMEZONE
TZID:Europe/Berlin
END:VTIMEZONE
BEGIN:VEVENT
UID:8c30a191d669f654a744def102f9adb7
CATEGORIES:Feiertage Berlin
CREATED:20160317T101350
SUMMARY:Tag der Arbeit
DESCRIPTION:
DTSTAMP:20260421T030719
DTSTART;TZID=Europe/Berlin;VALUE=DATE:20360501
DTEND;TZID=Europe/Berlin;VALUE=DATE:20360502
SEQUENCE:0
TRANSP:OPAQUE
END:VEVENT
END:VCALENDAR