BEGIN:VCALENDAR
VERSION:2.0
PRODID:-//jEvents 2.0 for Joomla//EN
CALSCALE:GREGORIAN
METHOD:PUBLISH
BEGIN:VTIMEZONE
TZID:Europe/Berlin
BEGIN:STANDARD
DTSTART:20231029T020000
RDATE:20240331T030000
TZOFFSETFROM:+0200
TZOFFSETTO:+0100
TZNAME:Europe/Berlin CET
END:STANDARD
BEGIN:STANDARD
DTSTART:20241027T020000
RDATE:20250330T030000
TZOFFSETFROM:+0200
TZOFFSETTO:+0100
TZNAME:Europe/Berlin CET
END:STANDARD
BEGIN:STANDARD
DTSTART:20251026T020000
RDATE:20260329T030000
TZOFFSETFROM:+0200
TZOFFSETTO:+0100
TZNAME:Europe/Berlin CET
END:STANDARD
BEGIN:STANDARD
DTSTART:20261025T020000
RDATE:20270328T030000
TZOFFSETFROM:+0200
TZOFFSETTO:+0100
TZNAME:Europe/Berlin CET
END:STANDARD
BEGIN:STANDARD
DTSTART:20271031T020000
RDATE:20280326T030000
TZOFFSETFROM:+0200
TZOFFSETTO:+0100
TZNAME:Europe/Berlin CET
END:STANDARD
BEGIN:STANDARD
DTSTART:20281029T020000
RDATE:20290325T030000
TZOFFSETFROM:+0200
TZOFFSETTO:+0100
TZNAME:Europe/Berlin CET
END:STANDARD
BEGIN:STANDARD
DTSTART:20291028T020000
RDATE:20300331T030000
TZOFFSETFROM:+0200
TZOFFSETTO:+0100
TZNAME:Europe/Berlin CET
END:STANDARD
BEGIN:STANDARD
DTSTART:20301027T020000
RDATE:20310330T030000
TZOFFSETFROM:+0200
TZOFFSETTO:+0100
TZNAME:Europe/Berlin CET
END:STANDARD
BEGIN:DAYLIGHT
DTSTART:20230424T090000
RDATE:20231029T020000
TZOFFSETFROM:+0100
TZOFFSETTO:+0200
TZNAME:Europe/Berlin CEST
END:DAYLIGHT
BEGIN:DAYLIGHT
DTSTART:20240331T030000
RDATE:20241027T020000
TZOFFSETFROM:+0100
TZOFFSETTO:+0200
TZNAME:Europe/Berlin CEST
END:DAYLIGHT
BEGIN:DAYLIGHT
DTSTART:20250330T030000
RDATE:20251026T020000
TZOFFSETFROM:+0100
TZOFFSETTO:+0200
TZNAME:Europe/Berlin CEST
END:DAYLIGHT
BEGIN:DAYLIGHT
DTSTART:20260329T030000
RDATE:20261025T020000
TZOFFSETFROM:+0100
TZOFFSETTO:+0200
TZNAME:Europe/Berlin CEST
END:DAYLIGHT
BEGIN:DAYLIGHT
DTSTART:20270328T030000
RDATE:20271031T020000
TZOFFSETFROM:+0100
TZOFFSETTO:+0200
TZNAME:Europe/Berlin CEST
END:DAYLIGHT
BEGIN:DAYLIGHT
DTSTART:20280326T030000
RDATE:20281029T020000
TZOFFSETFROM:+0100
TZOFFSETTO:+0200
TZNAME:Europe/Berlin CEST
END:DAYLIGHT
BEGIN:DAYLIGHT
DTSTART:20290325T030000
RDATE:20291028T020000
TZOFFSETFROM:+0100
TZOFFSETTO:+0200
TZNAME:Europe/Berlin CEST
END:DAYLIGHT
BEGIN:DAYLIGHT
DTSTART:20300331T030000
RDATE:20301027T020000
TZOFFSETFROM:+0100
TZOFFSETTO:+0200
TZNAME:Europe/Berlin CEST
END:DAYLIGHT
END:VTIMEZONE
BEGIN:VEVENT
UID:6b7ac9fc06ae56b78b84ffd4b2e47098
CATEGORIES:Vereinsinterne Veranstaltungen
CREATED:20240418T094609
SUMMARY:Abbuchung Standgelder
DESCRIPTION:<p>Bei Fragen bitte rechtzeitig Kontakt mit Sabrina aufnehmen (<span id="cl
 oak6b3134e7f2daa0da26e393f19a6276c2">Diese E-Mail-Adresse ist vor Spambots 
 geschützt! Zur Anzeige muss JavaScript eingeschaltet sein!</span><script ty
 pe='text/javascript'>
				document.getElementById('cloak6b3134e7f2daa0da26e
 393f19a6276c2').innerHTML = '';
				var prefix = '&#109;a' + 'i&#108;' + '&
 #116;o';
				var path = 'hr' + 'ef' + '=';
				var addy6b3134e7f2daa0da26e3
 93f19a6276c2 = 'b&#117;&#101;r&#111;' + '&#64;';
				addy6b3134e7f2daa0da26
 e393f19a6276c2 = addy6b3134e7f2daa0da26e393f19a6276c2 + 'svst' + '&#46;' + 
 'd&#101;';
				var addy_text6b3134e7f2daa0da26e393f19a6276c2 = 'b&#117;&#10
 1;r&#111;' + '&#64;' + 'svst' + '&#46;' + 'd&#101;';document.getElementById
 ('cloak6b3134e7f2daa0da26e393f19a6276c2').innerHTML += '<a ' + path + '\'' 
 + prefix + ':' + addy6b3134e7f2daa0da26e393f19a6276c2 + '\'>'+addy_text6b31
 34e7f2daa0da26e393f19a6276c2+'<\/a>';
		</script>).</p>
DTSTAMP:20260420T023025
DTSTART;TZID=Europe/Berlin:20240424T090000
SEQUENCE:0
TRANSP:OPAQUE
END:VEVENT
END:VCALENDAR