BEGIN:VCALENDAR
VERSION:2.0
PRODID:-//jEvents 2.0 for Joomla//EN
CALSCALE:GREGORIAN
METHOD:PUBLISH
BEGIN:VTIMEZONE
TZID:Europe/Berlin
BEGIN:STANDARD
DTSTART:20151216T170000
RDATE:20160327T030000
TZOFFSETFROM:+0200
TZOFFSETTO:+0100
TZNAME:Europe/Berlin CET
END:STANDARD
BEGIN:STANDARD
DTSTART:20161030T020000
RDATE:20170326T030000
TZOFFSETFROM:+0200
TZOFFSETTO:+0100
TZNAME:Europe/Berlin CET
END:STANDARD
BEGIN:STANDARD
DTSTART:20171029T020000
RDATE:20180325T030000
TZOFFSETFROM:+0200
TZOFFSETTO:+0100
TZNAME:Europe/Berlin CET
END:STANDARD
BEGIN:STANDARD
DTSTART:20181028T020000
RDATE:20190331T030000
TZOFFSETFROM:+0200
TZOFFSETTO:+0100
TZNAME:Europe/Berlin CET
END:STANDARD
BEGIN:STANDARD
DTSTART:20191027T020000
RDATE:20200329T030000
TZOFFSETFROM:+0200
TZOFFSETTO:+0100
TZNAME:Europe/Berlin CET
END:STANDARD
BEGIN:STANDARD
DTSTART:20201025T020000
RDATE:20210328T030000
TZOFFSETFROM:+0200
TZOFFSETTO:+0100
TZNAME:Europe/Berlin CET
END:STANDARD
BEGIN:STANDARD
DTSTART:20211031T020000
RDATE:20220327T030000
TZOFFSETFROM:+0200
TZOFFSETTO:+0100
TZNAME:Europe/Berlin CET
END:STANDARD
BEGIN:STANDARD
DTSTART:20221030T020000
RDATE:20230326T030000
TZOFFSETFROM:+0200
TZOFFSETTO:+0100
TZNAME:Europe/Berlin CET
END:STANDARD
BEGIN:STANDARD
DTSTART:20231029T020000
RDATE:20240331T030000
TZOFFSETFROM:+0200
TZOFFSETTO:+0100
TZNAME:Europe/Berlin CET
END:STANDARD
BEGIN:STANDARD
DTSTART:20241027T020000
RDATE:20250330T030000
TZOFFSETFROM:+0200
TZOFFSETTO:+0100
TZNAME:Europe/Berlin CET
END:STANDARD
BEGIN:STANDARD
DTSTART:20251026T020000
RDATE:20260329T030000
TZOFFSETFROM:+0200
TZOFFSETTO:+0100
TZNAME:Europe/Berlin CET
END:STANDARD
BEGIN:STANDARD
DTSTART:20261025T020000
RDATE:20270328T030000
TZOFFSETFROM:+0200
TZOFFSETTO:+0100
TZNAME:Europe/Berlin CET
END:STANDARD
BEGIN:STANDARD
DTSTART:20271031T020000
RDATE:20280326T030000
TZOFFSETFROM:+0200
TZOFFSETTO:+0100
TZNAME:Europe/Berlin CET
END:STANDARD
BEGIN:STANDARD
DTSTART:20281029T020000
RDATE:20290325T030000
TZOFFSETFROM:+0200
TZOFFSETTO:+0100
TZNAME:Europe/Berlin CET
END:STANDARD
BEGIN:STANDARD
DTSTART:20291028T020000
RDATE:20300331T030000
TZOFFSETFROM:+0200
TZOFFSETTO:+0100
TZNAME:Europe/Berlin CET
END:STANDARD
BEGIN:STANDARD
DTSTART:20301027T020000
RDATE:20310330T030000
TZOFFSETFROM:+0200
TZOFFSETTO:+0100
TZNAME:Europe/Berlin CET
END:STANDARD
BEGIN:DAYLIGHT
DTSTART:20160327T030000
RDATE:20161030T020000
TZOFFSETFROM:+0100
TZOFFSETTO:+0200
TZNAME:Europe/Berlin CEST
END:DAYLIGHT
BEGIN:DAYLIGHT
DTSTART:20170326T030000
RDATE:20171029T020000
TZOFFSETFROM:+0100
TZOFFSETTO:+0200
TZNAME:Europe/Berlin CEST
END:DAYLIGHT
BEGIN:DAYLIGHT
DTSTART:20180325T030000
RDATE:20181028T020000
TZOFFSETFROM:+0100
TZOFFSETTO:+0200
TZNAME:Europe/Berlin CEST
END:DAYLIGHT
BEGIN:DAYLIGHT
DTSTART:20190331T030000
RDATE:20191027T020000
TZOFFSETFROM:+0100
TZOFFSETTO:+0200
TZNAME:Europe/Berlin CEST
END:DAYLIGHT
BEGIN:DAYLIGHT
DTSTART:20200329T030000
RDATE:20201025T020000
TZOFFSETFROM:+0100
TZOFFSETTO:+0200
TZNAME:Europe/Berlin CEST
END:DAYLIGHT
BEGIN:DAYLIGHT
DTSTART:20210328T030000
RDATE:20211031T020000
TZOFFSETFROM:+0100
TZOFFSETTO:+0200
TZNAME:Europe/Berlin CEST
END:DAYLIGHT
BEGIN:DAYLIGHT
DTSTART:20220327T030000
RDATE:20221030T020000
TZOFFSETFROM:+0100
TZOFFSETTO:+0200
TZNAME:Europe/Berlin CEST
END:DAYLIGHT
BEGIN:DAYLIGHT
DTSTART:20230326T030000
RDATE:20231029T020000
TZOFFSETFROM:+0100
TZOFFSETTO:+0200
TZNAME:Europe/Berlin CEST
END:DAYLIGHT
BEGIN:DAYLIGHT
DTSTART:20240331T030000
RDATE:20241027T020000
TZOFFSETFROM:+0100
TZOFFSETTO:+0200
TZNAME:Europe/Berlin CEST
END:DAYLIGHT
BEGIN:DAYLIGHT
DTSTART:20250330T030000
RDATE:20251026T020000
TZOFFSETFROM:+0100
TZOFFSETTO:+0200
TZNAME:Europe/Berlin CEST
END:DAYLIGHT
BEGIN:DAYLIGHT
DTSTART:20260329T030000
RDATE:20261025T020000
TZOFFSETFROM:+0100
TZOFFSETTO:+0200
TZNAME:Europe/Berlin CEST
END:DAYLIGHT
BEGIN:DAYLIGHT
DTSTART:20270328T030000
RDATE:20271031T020000
TZOFFSETFROM:+0100
TZOFFSETTO:+0200
TZNAME:Europe/Berlin CEST
END:DAYLIGHT
BEGIN:DAYLIGHT
DTSTART:20280326T030000
RDATE:20281029T020000
TZOFFSETFROM:+0100
TZOFFSETTO:+0200
TZNAME:Europe/Berlin CEST
END:DAYLIGHT
BEGIN:DAYLIGHT
DTSTART:20290325T030000
RDATE:20291028T020000
TZOFFSETFROM:+0100
TZOFFSETTO:+0200
TZNAME:Europe/Berlin CEST
END:DAYLIGHT
BEGIN:DAYLIGHT
DTSTART:20300331T030000
RDATE:20301027T020000
TZOFFSETFROM:+0100
TZOFFSETTO:+0200
TZNAME:Europe/Berlin CEST
END:DAYLIGHT
END:VTIMEZONE
BEGIN:VEVENT
UID:a9f8dca27fb0b2f1ec46e9e6c4afc527
CATEGORIES:Jugend
CREATED:20170113T121126
SUMMARY:Hallentraining Optis (Pütti)
DESCRIPTION:Kannst Du Floorball spielen? Nein? Dann lern es, spiel es und halt' Dich fi
 t für die nächste Segelsaison!\nWo? In der Turnhalle des Heinz-Berggruen-Gy
 mnasiums, Bayernallee 4-5\nWas mitbringen? Turnschuhe und Sportklamotten, S
 chläger sind ausreichend da.\nNoch Fragen? Melde Dich bei unserem Jugendwar
 t Günter Luckfiel, Tel. 030 8546016 oder  Diese E-Mail-Adresse ist vor Spam
 bots geschützt! Zur Anzeige muss JavaScript eingeschaltet sein!
				documen
 t.getElementById('cloakdd6e254aa95f8d551afe88d0dee3059c').innerHTML = '';
	
 			var prefix = '&#109;a' + 'i&#108;' + '&#116;o';
				var path = 'hr' + 'e
 f' + '=';
				var addydd6e254aa95f8d551afe88d0dee3059c = 'j&#117;g&#101;nd'
  + '&#64;';
				addydd6e254aa95f8d551afe88d0dee3059c = addydd6e254aa95f8d55
 1afe88d0dee3059c + 'svst' + '&#46;' + 'd&#101;';
				var addy_textdd6e254aa
 95f8d551afe88d0dee3059c = 'j&#117;g&#101;nd@svst.d&#101; .';document.getEle
 mentById('cloakdd6e254aa95f8d551afe88d0dee3059c').innerHTML += '<a ' + path
  + '\'' + prefix + ':' + addydd6e254aa95f8d551afe88d0dee3059c + '\'>'+addy_
 textdd6e254aa95f8d551afe88d0dee3059c+'';
		\nViel Spaß!\n
X-ALT-DESC;FMTTYPE=text/html:<p>Kannst Du Floorball spielen? Nein? Dann lern es, spiel es und halt' Dich
  fit für die nächste Segelsaison!</p><p><strong>Wo?</strong> In der Turnhal
 le des Heinz-Berggruen-Gymnasiums, Bayernallee 4-5</p><p><strong>Was </stro
 ng>mitbringen? Turnschuhe und Sportklamotten, Schläger sind ausreichend da.
 </p><p><strong>Noch Fragen?</strong> Melde Dich bei unserem Jugendwart Günt
 er Luckfiel, Tel. 030&nbsp;8546016 oder&nbsp; <span id="cloakdd6e254aa95f8d
 551afe88d0dee3059c">Diese E-Mail-Adresse ist vor Spambots geschützt! Zur An
 zeige muss JavaScript eingeschaltet sein!</span><script type='text/javascri
 pt'>
				document.getElementById('cloakdd6e254aa95f8d551afe88d0dee3059c').i
 nnerHTML = '';
				var prefix = '&#109;a' + 'i&#108;' + '&#116;o';
				var 
 path = 'hr' + 'ef' + '=';
				var addydd6e254aa95f8d551afe88d0dee3059c = 'j
 &#117;g&#101;nd' + '&#64;';
				addydd6e254aa95f8d551afe88d0dee3059c = addy
 dd6e254aa95f8d551afe88d0dee3059c + 'svst' + '&#46;' + 'd&#101;';
				var ad
 dy_textdd6e254aa95f8d551afe88d0dee3059c = 'j&#117;g&#101;nd@svst.d&#101; .'
 ;document.getElementById('cloakdd6e254aa95f8d551afe88d0dee3059c').innerHTML
  += '<a ' + path + '\'' + prefix + ':' + addydd6e254aa95f8d551afe88d0dee305
 9c + '\'>'+addy_textdd6e254aa95f8d551afe88d0dee3059c+'<\/a>';
		</script></
 p><p><strong>Viel Spaß!</strong></p>
DTSTAMP:20260420T132013
DTSTART;TZID=Europe/Berlin:20161216T170000
DTEND;TZID=Europe/Berlin:20161216T183000
SEQUENCE:0
TRANSP:OPAQUE
END:VEVENT
END:VCALENDAR