BEGIN:VCALENDAR
VERSION:2.0
PRODID:-//jEvents 2.0 for Joomla//EN
CALSCALE:GREGORIAN
METHOD:PUBLISH
BEGIN:VTIMEZONE
TZID:Europe/Berlin
BEGIN:STANDARD
DTSTART:20150116T100000
RDATE:20150329T030000
TZOFFSETFROM:+0200
TZOFFSETTO:+0100
TZNAME:Europe/Berlin CET
END:STANDARD
BEGIN:STANDARD
DTSTART:20151025T020000
RDATE:20160327T030000
TZOFFSETFROM:+0200
TZOFFSETTO:+0100
TZNAME:Europe/Berlin CET
END:STANDARD
BEGIN:STANDARD
DTSTART:20161030T020000
RDATE:20170326T030000
TZOFFSETFROM:+0200
TZOFFSETTO:+0100
TZNAME:Europe/Berlin CET
END:STANDARD
BEGIN:STANDARD
DTSTART:20171029T020000
RDATE:20180325T030000
TZOFFSETFROM:+0200
TZOFFSETTO:+0100
TZNAME:Europe/Berlin CET
END:STANDARD
BEGIN:STANDARD
DTSTART:20181028T020000
RDATE:20190331T030000
TZOFFSETFROM:+0200
TZOFFSETTO:+0100
TZNAME:Europe/Berlin CET
END:STANDARD
BEGIN:STANDARD
DTSTART:20191027T020000
RDATE:20200329T030000
TZOFFSETFROM:+0200
TZOFFSETTO:+0100
TZNAME:Europe/Berlin CET
END:STANDARD
BEGIN:STANDARD
DTSTART:20201025T020000
RDATE:20210328T030000
TZOFFSETFROM:+0200
TZOFFSETTO:+0100
TZNAME:Europe/Berlin CET
END:STANDARD
BEGIN:STANDARD
DTSTART:20211031T020000
RDATE:20220327T030000
TZOFFSETFROM:+0200
TZOFFSETTO:+0100
TZNAME:Europe/Berlin CET
END:STANDARD
BEGIN:STANDARD
DTSTART:20221030T020000
RDATE:20230326T030000
TZOFFSETFROM:+0200
TZOFFSETTO:+0100
TZNAME:Europe/Berlin CET
END:STANDARD
BEGIN:STANDARD
DTSTART:20231029T020000
RDATE:20240331T030000
TZOFFSETFROM:+0200
TZOFFSETTO:+0100
TZNAME:Europe/Berlin CET
END:STANDARD
BEGIN:STANDARD
DTSTART:20241027T020000
RDATE:20250330T030000
TZOFFSETFROM:+0200
TZOFFSETTO:+0100
TZNAME:Europe/Berlin CET
END:STANDARD
BEGIN:STANDARD
DTSTART:20251026T020000
RDATE:20260329T030000
TZOFFSETFROM:+0200
TZOFFSETTO:+0100
TZNAME:Europe/Berlin CET
END:STANDARD
BEGIN:STANDARD
DTSTART:20261025T020000
RDATE:20270328T030000
TZOFFSETFROM:+0200
TZOFFSETTO:+0100
TZNAME:Europe/Berlin CET
END:STANDARD
BEGIN:STANDARD
DTSTART:20271031T020000
RDATE:20280326T030000
TZOFFSETFROM:+0200
TZOFFSETTO:+0100
TZNAME:Europe/Berlin CET
END:STANDARD
BEGIN:STANDARD
DTSTART:20281029T020000
RDATE:20290325T030000
TZOFFSETFROM:+0200
TZOFFSETTO:+0100
TZNAME:Europe/Berlin CET
END:STANDARD
BEGIN:STANDARD
DTSTART:20291028T020000
RDATE:20300331T030000
TZOFFSETFROM:+0200
TZOFFSETTO:+0100
TZNAME:Europe/Berlin CET
END:STANDARD
BEGIN:STANDARD
DTSTART:20301027T020000
RDATE:20310330T030000
TZOFFSETFROM:+0200
TZOFFSETTO:+0100
TZNAME:Europe/Berlin CET
END:STANDARD
BEGIN:DAYLIGHT
DTSTART:20150329T030000
RDATE:20151025T020000
TZOFFSETFROM:+0100
TZOFFSETTO:+0200
TZNAME:Europe/Berlin CEST
END:DAYLIGHT
BEGIN:DAYLIGHT
DTSTART:20160327T030000
RDATE:20161030T020000
TZOFFSETFROM:+0100
TZOFFSETTO:+0200
TZNAME:Europe/Berlin CEST
END:DAYLIGHT
BEGIN:DAYLIGHT
DTSTART:20170326T030000
RDATE:20171029T020000
TZOFFSETFROM:+0100
TZOFFSETTO:+0200
TZNAME:Europe/Berlin CEST
END:DAYLIGHT
BEGIN:DAYLIGHT
DTSTART:20180325T030000
RDATE:20181028T020000
TZOFFSETFROM:+0100
TZOFFSETTO:+0200
TZNAME:Europe/Berlin CEST
END:DAYLIGHT
BEGIN:DAYLIGHT
DTSTART:20190331T030000
RDATE:20191027T020000
TZOFFSETFROM:+0100
TZOFFSETTO:+0200
TZNAME:Europe/Berlin CEST
END:DAYLIGHT
BEGIN:DAYLIGHT
DTSTART:20200329T030000
RDATE:20201025T020000
TZOFFSETFROM:+0100
TZOFFSETTO:+0200
TZNAME:Europe/Berlin CEST
END:DAYLIGHT
BEGIN:DAYLIGHT
DTSTART:20210328T030000
RDATE:20211031T020000
TZOFFSETFROM:+0100
TZOFFSETTO:+0200
TZNAME:Europe/Berlin CEST
END:DAYLIGHT
BEGIN:DAYLIGHT
DTSTART:20220327T030000
RDATE:20221030T020000
TZOFFSETFROM:+0100
TZOFFSETTO:+0200
TZNAME:Europe/Berlin CEST
END:DAYLIGHT
BEGIN:DAYLIGHT
DTSTART:20230326T030000
RDATE:20231029T020000
TZOFFSETFROM:+0100
TZOFFSETTO:+0200
TZNAME:Europe/Berlin CEST
END:DAYLIGHT
BEGIN:DAYLIGHT
DTSTART:20240331T030000
RDATE:20241027T020000
TZOFFSETFROM:+0100
TZOFFSETTO:+0200
TZNAME:Europe/Berlin CEST
END:DAYLIGHT
BEGIN:DAYLIGHT
DTSTART:20250330T030000
RDATE:20251026T020000
TZOFFSETFROM:+0100
TZOFFSETTO:+0200
TZNAME:Europe/Berlin CEST
END:DAYLIGHT
BEGIN:DAYLIGHT
DTSTART:20260329T030000
RDATE:20261025T020000
TZOFFSETFROM:+0100
TZOFFSETTO:+0200
TZNAME:Europe/Berlin CEST
END:DAYLIGHT
BEGIN:DAYLIGHT
DTSTART:20270328T030000
RDATE:20271031T020000
TZOFFSETFROM:+0100
TZOFFSETTO:+0200
TZNAME:Europe/Berlin CEST
END:DAYLIGHT
BEGIN:DAYLIGHT
DTSTART:20280326T030000
RDATE:20281029T020000
TZOFFSETFROM:+0100
TZOFFSETTO:+0200
TZNAME:Europe/Berlin CEST
END:DAYLIGHT
BEGIN:DAYLIGHT
DTSTART:20290325T030000
RDATE:20291028T020000
TZOFFSETFROM:+0100
TZOFFSETTO:+0200
TZNAME:Europe/Berlin CEST
END:DAYLIGHT
BEGIN:DAYLIGHT
DTSTART:20300331T030000
RDATE:20301027T020000
TZOFFSETFROM:+0100
TZOFFSETTO:+0200
TZNAME:Europe/Berlin CEST
END:DAYLIGHT
END:VTIMEZONE
BEGIN:VEVENT
UID:eaf98f776b61becd7dc62899a152cb7d
CATEGORIES:Schiffergilde
CREATED:20151228T183138
SUMMARY:SBF See
DESCRIPTION:Theoriekurs zum SBF SeePellentesque habitant morbi tristique senectus et ne
 tus et malesuada fames ac turpis egestas, auris placerat eleifend leo. Quis
 que sit amet est et sapien ultricies eget, tempor sit amet\nPellentesque ha
 bitant morbi tristique senectus et netus et malesuada fames ac turpis egest
 as. Vestibulum tortor quam, feugiat vitae, ultricies eget, tempor sit amet,
  ante. Donec eu libero sit amet quam egestas semper. Aenean ultricies mi vi
 tae est. Mauris placerat eleifend leo. Quisque sit amet est et sapien ullam
 corper pharetra. Vestibulum erat wisi, condimentum sed, commodo vitae, orna
 re sit amet, wisi. Aenean fermentum, elit eget tincidunt condimentum, eros 
 ipsum rutrum orci, sagittis tempus lacus enim ac dui. Donec non enim (http:
 //ja-events-ii.demo.joomlart.com/index.php/en/j-events/icalrepeat.detail/20
 15/08/13/3/-/the-good-event-registration-guide) in turpis pulvinar facilisi
 s. Ut felis.\nPellentesque habitant morbi tristique senectus et netus et ma
 lesuada fames ac turpis egestas. Vestibulum tortor quam, feugiat vitae, ult
 ricies eget, tempor sit amet, ante. Donec eu libero sit amet quam egestas s
 emper. Aenean ultricies mi vitae est. Mauris placerat eleifend leo.\n
X-ALT-DESC;FMTTYPE=text/html:<h3>Theoriekurs zum SBF See</h3><div class="jev_evdt_desc"><p>Pellentesque 
 habitant morbi tristique senectus et netus et malesuada fames ac turpis ege
 stas, auris placerat eleifend leo. Quisque sit amet est et sapien ultricies
  eget, tempor sit amet</p><p><strong>Pellentesque habitant morbi tristique<
 /strong> senectus et netus et malesuada fames ac turpis egestas. Vestibulum
  tortor quam, feugiat vitae, ultricies eget, tempor sit amet, ante. Donec e
 u libero sit amet quam egestas semper. <em>Aenean ultricies mi vitae est.</
 em> Mauris placerat eleifend leo. Quisque sit amet est et sapien ullamcorpe
 r pharetra. Vestibulum erat wisi, condimentum sed, <code>commodo vitae</cod
 e>, ornare sit amet, wisi. Aenean fermentum, elit eget tincidunt condimentu
 m, eros ipsum rutrum orci, sagittis tempus lacus enim ac dui. <a href="http
 ://ja-events-ii.demo.joomlart.com/index.php/en/j-events/icalrepeat.detail/2
 015/08/13/3/-/the-good-event-registration-guide">Donec non enim</a> in turp
 is pulvinar facilisis. Ut felis.</p><p>Pellentesque habitant morbi tristiqu
 e senectus et netus et malesuada fames ac turpis egestas. Vestibulum tortor
  quam, feugiat vitae, ultricies eget, tempor sit amet, ante. Donec eu liber
 o sit amet quam egestas semper. Aenean ultricies mi vitae est. Mauris place
 rat eleifend leo.</p></div>
CONTACT:http://www.schiffergilde.de
X-EXTRAINFO:Zusatzinformation
DTSTAMP:20260419T191739
DTSTART;TZID=Europe/Berlin:20160117T100000
DTEND;TZID=Europe/Berlin:20160117T120000
SEQUENCE:0
TRANSP:OPAQUE
END:VEVENT
END:VCALENDAR