BEGIN:VCALENDAR
VERSION:2.0
PRODID:-//jEvents 2.0 for Joomla//EN
CALSCALE:GREGORIAN
METHOD:PUBLISH
BEGIN:VTIMEZONE
TZID:Europe/Berlin
BEGIN:STANDARD
DTSTART:20220210T100000
RDATE:20220327T030000
TZOFFSETFROM:+0200
TZOFFSETTO:+0100
TZNAME:Europe/Berlin CET
END:STANDARD
BEGIN:STANDARD
DTSTART:20221030T020000
RDATE:20230326T030000
TZOFFSETFROM:+0200
TZOFFSETTO:+0100
TZNAME:Europe/Berlin CET
END:STANDARD
BEGIN:STANDARD
DTSTART:20231029T020000
RDATE:20240331T030000
TZOFFSETFROM:+0200
TZOFFSETTO:+0100
TZNAME:Europe/Berlin CET
END:STANDARD
BEGIN:STANDARD
DTSTART:20241027T020000
RDATE:20250330T030000
TZOFFSETFROM:+0200
TZOFFSETTO:+0100
TZNAME:Europe/Berlin CET
END:STANDARD
BEGIN:STANDARD
DTSTART:20251026T020000
RDATE:20260329T030000
TZOFFSETFROM:+0200
TZOFFSETTO:+0100
TZNAME:Europe/Berlin CET
END:STANDARD
BEGIN:STANDARD
DTSTART:20261025T020000
RDATE:20270328T030000
TZOFFSETFROM:+0200
TZOFFSETTO:+0100
TZNAME:Europe/Berlin CET
END:STANDARD
BEGIN:STANDARD
DTSTART:20271031T020000
RDATE:20280326T030000
TZOFFSETFROM:+0200
TZOFFSETTO:+0100
TZNAME:Europe/Berlin CET
END:STANDARD
BEGIN:STANDARD
DTSTART:20281029T020000
RDATE:20290325T030000
TZOFFSETFROM:+0200
TZOFFSETTO:+0100
TZNAME:Europe/Berlin CET
END:STANDARD
BEGIN:STANDARD
DTSTART:20291028T020000
RDATE:20300331T030000
TZOFFSETFROM:+0200
TZOFFSETTO:+0100
TZNAME:Europe/Berlin CET
END:STANDARD
BEGIN:STANDARD
DTSTART:20301027T020000
RDATE:20310330T030000
TZOFFSETFROM:+0200
TZOFFSETTO:+0100
TZNAME:Europe/Berlin CET
END:STANDARD
BEGIN:DAYLIGHT
DTSTART:20220327T030000
RDATE:20221030T020000
TZOFFSETFROM:+0100
TZOFFSETTO:+0200
TZNAME:Europe/Berlin CEST
END:DAYLIGHT
BEGIN:DAYLIGHT
DTSTART:20230326T030000
RDATE:20231029T020000
TZOFFSETFROM:+0100
TZOFFSETTO:+0200
TZNAME:Europe/Berlin CEST
END:DAYLIGHT
BEGIN:DAYLIGHT
DTSTART:20240331T030000
RDATE:20241027T020000
TZOFFSETFROM:+0100
TZOFFSETTO:+0200
TZNAME:Europe/Berlin CEST
END:DAYLIGHT
BEGIN:DAYLIGHT
DTSTART:20250330T030000
RDATE:20251026T020000
TZOFFSETFROM:+0100
TZOFFSETTO:+0200
TZNAME:Europe/Berlin CEST
END:DAYLIGHT
BEGIN:DAYLIGHT
DTSTART:20260329T030000
RDATE:20261025T020000
TZOFFSETFROM:+0100
TZOFFSETTO:+0200
TZNAME:Europe/Berlin CEST
END:DAYLIGHT
BEGIN:DAYLIGHT
DTSTART:20270328T030000
RDATE:20271031T020000
TZOFFSETFROM:+0100
TZOFFSETTO:+0200
TZNAME:Europe/Berlin CEST
END:DAYLIGHT
BEGIN:DAYLIGHT
DTSTART:20280326T030000
RDATE:20281029T020000
TZOFFSETFROM:+0100
TZOFFSETTO:+0200
TZNAME:Europe/Berlin CEST
END:DAYLIGHT
BEGIN:DAYLIGHT
DTSTART:20290325T030000
RDATE:20291028T020000
TZOFFSETFROM:+0100
TZOFFSETTO:+0200
TZNAME:Europe/Berlin CEST
END:DAYLIGHT
BEGIN:DAYLIGHT
DTSTART:20300331T030000
RDATE:20301027T020000
TZOFFSETFROM:+0100
TZOFFSETTO:+0200
TZNAME:Europe/Berlin CEST
END:DAYLIGHT
END:VTIMEZONE
BEGIN:VEVENT
UID:d895e34a852dd8a955d97bfae9c947e6
CATEGORIES:Jugend
CREATED:20221118T113530
SUMMARY:Eislaufen (Jugend)
DESCRIPTION:mit Maria\n⛸Eislaufen für die ganze Familie am 11.2.⛸\nWir treffen uns am S
 amstag um 10 Uhr am Eisstadion Wilmersdorf. Der Eintritt für 2 Stunden kost
 et 3.30 Euro für Erwachsene (1.60€ erm.).\nWer keine Schlittschuhe hat, kan
 n vor Ort welche ausleihen. Vermutlich nur Barzahlung möglich.\nBitte kommt
  zahlreich, damit wir ein schönes Gruppenfoto machen können :)\nGerne die T
 eilnahme mir mitteilen. Freue mich auf euch und bis dahin, Maria\n\nhttps:/
 /www.berlin.de/special/sport-und-fitness/adressen/eisbahn/horstdohmeisstadi
 on-wilmersdorf-4f144289b4fc475f0bcaad00.html\nWeitere Informationen: Maria 
 (jugend [at] svst.de)\n
X-ALT-DESC;FMTTYPE=text/html:<p>mit Maria</p><p>⛸Eislaufen für die ganze Familie am 11.2.⛸<br />Wir tref
 fen uns am Samstag um 10 Uhr am Eisstadion Wilmersdorf. Der Eintritt für 2 
 Stunden kostet 3.30 Euro für Erwachsene (1.60€ erm.).<br />Wer keine Schlit
 tschuhe hat, kann vor Ort welche ausleihen. Vermutlich nur Barzahlung mögli
 ch.<br />Bitte kommt zahlreich, damit wir ein schönes Gruppenfoto machen kö
 nnen :)<br />Gerne die Teilnahme mir mitteilen. Freue mich auf euch und bis
  dahin, Maria<br /><br /><a href="https://www.berlin.de/special/sport-und-f
 itness/adressen/eisbahn/horstdohmeisstadion-wilmersdorf-4f144289b4fc475f0bc
 aad00.html">https://www.berlin.de/special/sport-und-fitness/adressen/eisbah
 n/horstdohmeisstadion-wilmersdorf-4f144289b4fc475f0bcaad00.html</a></p><p>W
 eitere Informationen: Maria (jugend [at] svst.de)</p>
DTSTAMP:20260420T232903
DTSTART;TZID=Europe/Berlin:20230211T100000
SEQUENCE:0
TRANSP:OPAQUE
END:VEVENT
END:VCALENDAR