BEGIN:VCALENDAR
VERSION:2.0
PRODID:-//jEvents 2.0 for Joomla//EN
CALSCALE:GREGORIAN
METHOD:PUBLISH
BEGIN:VTIMEZONE
TZID:Europe/Berlin
BEGIN:STANDARD
DTSTART:20210211T160000
RDATE:20210328T030000
TZOFFSETFROM:+0200
TZOFFSETTO:+0100
TZNAME:Europe/Berlin CET
END:STANDARD
BEGIN:STANDARD
DTSTART:20211031T020000
RDATE:20220327T030000
TZOFFSETFROM:+0200
TZOFFSETTO:+0100
TZNAME:Europe/Berlin CET
END:STANDARD
BEGIN:STANDARD
DTSTART:20221030T020000
RDATE:20230326T030000
TZOFFSETFROM:+0200
TZOFFSETTO:+0100
TZNAME:Europe/Berlin CET
END:STANDARD
BEGIN:STANDARD
DTSTART:20231029T020000
RDATE:20240331T030000
TZOFFSETFROM:+0200
TZOFFSETTO:+0100
TZNAME:Europe/Berlin CET
END:STANDARD
BEGIN:STANDARD
DTSTART:20241027T020000
RDATE:20250330T030000
TZOFFSETFROM:+0200
TZOFFSETTO:+0100
TZNAME:Europe/Berlin CET
END:STANDARD
BEGIN:STANDARD
DTSTART:20251026T020000
RDATE:20260329T030000
TZOFFSETFROM:+0200
TZOFFSETTO:+0100
TZNAME:Europe/Berlin CET
END:STANDARD
BEGIN:STANDARD
DTSTART:20261025T020000
RDATE:20270328T030000
TZOFFSETFROM:+0200
TZOFFSETTO:+0100
TZNAME:Europe/Berlin CET
END:STANDARD
BEGIN:STANDARD
DTSTART:20271031T020000
RDATE:20280326T030000
TZOFFSETFROM:+0200
TZOFFSETTO:+0100
TZNAME:Europe/Berlin CET
END:STANDARD
BEGIN:STANDARD
DTSTART:20281029T020000
RDATE:20290325T030000
TZOFFSETFROM:+0200
TZOFFSETTO:+0100
TZNAME:Europe/Berlin CET
END:STANDARD
BEGIN:STANDARD
DTSTART:20291028T020000
RDATE:20300331T030000
TZOFFSETFROM:+0200
TZOFFSETTO:+0100
TZNAME:Europe/Berlin CET
END:STANDARD
BEGIN:STANDARD
DTSTART:20301027T020000
RDATE:20310330T030000
TZOFFSETFROM:+0200
TZOFFSETTO:+0100
TZNAME:Europe/Berlin CET
END:STANDARD
BEGIN:DAYLIGHT
DTSTART:20210328T030000
RDATE:20211031T020000
TZOFFSETFROM:+0100
TZOFFSETTO:+0200
TZNAME:Europe/Berlin CEST
END:DAYLIGHT
BEGIN:DAYLIGHT
DTSTART:20220327T030000
RDATE:20221030T020000
TZOFFSETFROM:+0100
TZOFFSETTO:+0200
TZNAME:Europe/Berlin CEST
END:DAYLIGHT
BEGIN:DAYLIGHT
DTSTART:20230326T030000
RDATE:20231029T020000
TZOFFSETFROM:+0100
TZOFFSETTO:+0200
TZNAME:Europe/Berlin CEST
END:DAYLIGHT
BEGIN:DAYLIGHT
DTSTART:20240331T030000
RDATE:20241027T020000
TZOFFSETFROM:+0100
TZOFFSETTO:+0200
TZNAME:Europe/Berlin CEST
END:DAYLIGHT
BEGIN:DAYLIGHT
DTSTART:20250330T030000
RDATE:20251026T020000
TZOFFSETFROM:+0100
TZOFFSETTO:+0200
TZNAME:Europe/Berlin CEST
END:DAYLIGHT
BEGIN:DAYLIGHT
DTSTART:20260329T030000
RDATE:20261025T020000
TZOFFSETFROM:+0100
TZOFFSETTO:+0200
TZNAME:Europe/Berlin CEST
END:DAYLIGHT
BEGIN:DAYLIGHT
DTSTART:20270328T030000
RDATE:20271031T020000
TZOFFSETFROM:+0100
TZOFFSETTO:+0200
TZNAME:Europe/Berlin CEST
END:DAYLIGHT
BEGIN:DAYLIGHT
DTSTART:20280326T030000
RDATE:20281029T020000
TZOFFSETFROM:+0100
TZOFFSETTO:+0200
TZNAME:Europe/Berlin CEST
END:DAYLIGHT
BEGIN:DAYLIGHT
DTSTART:20290325T030000
RDATE:20291028T020000
TZOFFSETFROM:+0100
TZOFFSETTO:+0200
TZNAME:Europe/Berlin CEST
END:DAYLIGHT
BEGIN:DAYLIGHT
DTSTART:20300331T030000
RDATE:20301027T020000
TZOFFSETFROM:+0100
TZOFFSETTO:+0200
TZNAME:Europe/Berlin CEST
END:DAYLIGHT
END:VTIMEZONE
BEGIN:VEVENT
UID:f2d49a9f7aab6147b23b0c239aaf9e1c
CATEGORIES:Ausbildung
CREATED:20220128T182343
SUMMARY:Regattaseminar für Anfänger
DESCRIPTION:-- fällt aus --\nDas Seminar ist gedacht für alle, egal ob jung oder alt, d
 ie konkret mit dem Wettsegeln  beginnen möchten und genauso für diejenigen,
  die bei unseren VereinsregattenTonnen auslegen oder auf dem Startschiff di
 e Flaggen ziehen. Weitere Interessenten, die nur mal schnuppern möchten, si
 nd natürlich ebenso herzlich willkommen.\nWir treffen uns online per Zoom!!
 ! Der Link wird im Newsletter bekannt gegeben.\nDie Themen am 12. Februar\n
 \n - Regattasegeln – die große Bandbreite der unterschiedlichen Formate\n -
  Minimalwissen und Fähigkeiten für den Start bei einer Regatta\n - Am Beisp
 iel unserer Vereinsregatta (HighNoon) – wie funktioniert was von A-Z\n - De
 r Regattastart – Flaggen, Taktik\n - Taktik zur 1. Tonne\n - … falls noch g
 enug Zeit bleibt: typische Situationen während der RegattaDurch das Seminar
  führen Melanie und Helen. Während Melanie die letzten Jahre im Hochsee-Reg
 attasegeln aktiv war blickt Helen auf eine erfolgreiche Jollenkarriere mit 
 internationalen Erfolgen zurück. \nDas Format erinnert eher an eine Unterha
 ltung, bei der man sich gegenseitig Fragen stellt. Wir sind schon gespannt 
 auf eure Fragen!\nInteressenten melden sich bitte bis spätestens Donnerstag
 , den 10. Februar unter Diese E-Mail-Adresse ist vor Spambots geschützt! Zu
 r Anzeige muss JavaScript eingeschaltet sein!
				document.getElementById('
 cloak2e19280ee0512a5af7d187cfb078ffe3').innerHTML = '';
				var prefix = '&
 #109;a' + 'i&#108;' + '&#116;o';
				var path = 'hr' + 'ef' + '=';
				var 
 addy2e19280ee0512a5af7d187cfb078ffe3 = '&#97;&#117;sb&#105;ld&#117;ng' + '&
 #64;';
				addy2e19280ee0512a5af7d187cfb078ffe3 = addy2e19280ee0512a5af7d18
 7cfb078ffe3 + 'svst' + '&#46;' + 'd&#101;';
				var addy_text2e19280ee0512a
 5af7d187cfb078ffe3 = '&#97;&#117;sb&#105;ld&#117;ng' + '&#64;' + 'svst' + '
 &#46;' + 'd&#101;';document.getElementById('cloak2e19280ee0512a5af7d187cfb0
 78ffe3').innerHTML += '<a ' + path + '\'' + prefix + ':' + addy2e19280ee051
 2a5af7d187cfb078ffe3 + '\'>'+addy_text2e19280ee0512a5af7d187cfb078ffe3+'';

 		 an. (Mindestteilnehmerzahl: 5)\n!!! Nächster und letzter Termin dieses W
 inters ist voraussichtlich Samstag, der 12. März !!!\nAnsprechpartnerinnen:
 \n\nMelanie Aalburg\nHelen Fischer (München)\n
X-ALT-DESC;FMTTYPE=text/html:<p>-- fällt aus --</p><p>Das Seminar ist gedacht für alle, egal ob jung ode
 r alt, die <strong>konkret </strong>mit dem <strong>Wettsegeln&nbsp; </stro
 ng><strong>beginnen </strong>möchten und genauso für diejenigen, die <stron
 g>bei unseren Vereinsregatten</strong><strong>Tonnen auslegen oder auf dem 
 Startschiff die Flaggen ziehen. </strong>Weitere Interessenten, die nur mal
  schnuppern möchten, sind natürlich ebenso herzlich willkommen.</p><hr id="
 system-readmore" /><p><strong>Wir treffen uns online per Zoom!!! </strong>D
 er Link wird im Newsletter bekannt gegeben.</p><p><strong>Die Themen am 12.
  Februar</strong></p><ul><li>Regattasegeln – die große Bandbreite der unter
 schiedlichen Formate</li><li>Minimalwissen und Fähigkeiten für den Start be
 i einer Regatta</li><li>Am Beispiel unserer Vereinsregatta (HighNoon) – wie
  funktioniert was von A-Z</li><li>Der Regattastart – Flaggen, Taktik</li><l
 i>Taktik zur 1. Tonne</li><li>… falls noch genug Zeit bleibt: typische Situ
 ationen während der Regatta</li></ul><p>Durch das Seminar führen <strong>Me
 lanie</strong> und <strong>Helen</strong>. Während Melanie die letzten Jahr
 e im Hochsee-Regattasegeln aktiv war blickt Helen auf eine erfolgreiche Jol
 lenkarriere mit internationalen Erfolgen zurück.&nbsp;</p><p>Das <strong>Fo
 rmat</strong> erinnert eher an eine <strong>Unterhaltung,</strong> bei der 
 man sich gegenseitig <strong>Fragen</strong> stellt. Wir sind schon gespann
 t auf eure Fragen!</p><p>Interessenten melden sich bitte bis spätestens Don
 nerstag, den 10. Februar unter <span id="cloak2e19280ee0512a5af7d187cfb078f
 fe3">Diese E-Mail-Adresse ist vor Spambots geschützt! Zur Anzeige muss Java
 Script eingeschaltet sein!</span><script type='text/javascript'>
				docume
 nt.getElementById('cloak2e19280ee0512a5af7d187cfb078ffe3').innerHTML = '';

 				var prefix = '&#109;a' + 'i&#108;' + '&#116;o';
				var path = 'hr' + '
 ef' + '=';
				var addy2e19280ee0512a5af7d187cfb078ffe3 = '&#97;&#117;sb&#1
 05;ld&#117;ng' + '&#64;';
				addy2e19280ee0512a5af7d187cfb078ffe3 = addy2e
 19280ee0512a5af7d187cfb078ffe3 + 'svst' + '&#46;' + 'd&#101;';
				var addy
 _text2e19280ee0512a5af7d187cfb078ffe3 = '&#97;&#117;sb&#105;ld&#117;ng' + '
 &#64;' + 'svst' + '&#46;' + 'd&#101;';document.getElementById('cloak2e19280
 ee0512a5af7d187cfb078ffe3').innerHTML += '<a ' + path + '\'' + prefix + ':'
  + addy2e19280ee0512a5af7d187cfb078ffe3 + '\'>'+addy_text2e19280ee0512a5af7
 d187cfb078ffe3+'<\/a>';
		</script> an. (Mindestteilnehmerzahl: 5)</p><p>!!
 ! Nächster und letzter Termin dieses Winters ist voraussichtlich Samstag, d
 er 12. März !!!</p><p><strong>Ansprechpartnerinnen:</strong><br /><strong><
 /strong></p><p>Melanie Aalburg<br />Helen Fischer (München)</p>
DTSTAMP:20260420T120725
DTSTART;TZID=Europe/Berlin:20220212T160000
DTEND;TZID=Europe/Berlin:20220212T173000
SEQUENCE:0
TRANSP:OPAQUE
END:VEVENT
END:VCALENDAR