BEGIN:VCALENDAR
VERSION:2.0
PRODID:-//jEvents 2.0 for Joomla//EN
CALSCALE:GREGORIAN
METHOD:PUBLISH
BEGIN:VTIMEZONE
TZID:Europe/Berlin
BEGIN:STANDARD
DTSTART:20201025T020000
RDATE:20210328T030000
TZOFFSETFROM:+0200
TZOFFSETTO:+0100
TZNAME:Europe/Berlin CET
END:STANDARD
BEGIN:STANDARD
DTSTART:20211031T020000
RDATE:20220327T030000
TZOFFSETFROM:+0200
TZOFFSETTO:+0100
TZNAME:Europe/Berlin CET
END:STANDARD
BEGIN:STANDARD
DTSTART:20221030T020000
RDATE:20230326T030000
TZOFFSETFROM:+0200
TZOFFSETTO:+0100
TZNAME:Europe/Berlin CET
END:STANDARD
BEGIN:STANDARD
DTSTART:20231029T020000
RDATE:20240331T030000
TZOFFSETFROM:+0200
TZOFFSETTO:+0100
TZNAME:Europe/Berlin CET
END:STANDARD
BEGIN:STANDARD
DTSTART:20241027T020000
RDATE:20250330T030000
TZOFFSETFROM:+0200
TZOFFSETTO:+0100
TZNAME:Europe/Berlin CET
END:STANDARD
BEGIN:STANDARD
DTSTART:20251026T020000
RDATE:20260329T030000
TZOFFSETFROM:+0200
TZOFFSETTO:+0100
TZNAME:Europe/Berlin CET
END:STANDARD
BEGIN:STANDARD
DTSTART:20261025T020000
RDATE:20270328T030000
TZOFFSETFROM:+0200
TZOFFSETTO:+0100
TZNAME:Europe/Berlin CET
END:STANDARD
BEGIN:STANDARD
DTSTART:20271031T020000
RDATE:20280326T030000
TZOFFSETFROM:+0200
TZOFFSETTO:+0100
TZNAME:Europe/Berlin CET
END:STANDARD
BEGIN:STANDARD
DTSTART:20281029T020000
RDATE:20290325T030000
TZOFFSETFROM:+0200
TZOFFSETTO:+0100
TZNAME:Europe/Berlin CET
END:STANDARD
BEGIN:STANDARD
DTSTART:20291028T020000
RDATE:20300331T030000
TZOFFSETFROM:+0200
TZOFFSETTO:+0100
TZNAME:Europe/Berlin CET
END:STANDARD
BEGIN:STANDARD
DTSTART:20301027T020000
RDATE:20310330T030000
TZOFFSETFROM:+0200
TZOFFSETTO:+0100
TZNAME:Europe/Berlin CET
END:STANDARD
BEGIN:DAYLIGHT
DTSTART:20200827T150000
RDATE:20201025T020000
TZOFFSETFROM:+0100
TZOFFSETTO:+0200
TZNAME:Europe/Berlin CEST
END:DAYLIGHT
BEGIN:DAYLIGHT
DTSTART:20210328T030000
RDATE:20211031T020000
TZOFFSETFROM:+0100
TZOFFSETTO:+0200
TZNAME:Europe/Berlin CEST
END:DAYLIGHT
BEGIN:DAYLIGHT
DTSTART:20220327T030000
RDATE:20221030T020000
TZOFFSETFROM:+0100
TZOFFSETTO:+0200
TZNAME:Europe/Berlin CEST
END:DAYLIGHT
BEGIN:DAYLIGHT
DTSTART:20230326T030000
RDATE:20231029T020000
TZOFFSETFROM:+0100
TZOFFSETTO:+0200
TZNAME:Europe/Berlin CEST
END:DAYLIGHT
BEGIN:DAYLIGHT
DTSTART:20240331T030000
RDATE:20241027T020000
TZOFFSETFROM:+0100
TZOFFSETTO:+0200
TZNAME:Europe/Berlin CEST
END:DAYLIGHT
BEGIN:DAYLIGHT
DTSTART:20250330T030000
RDATE:20251026T020000
TZOFFSETFROM:+0100
TZOFFSETTO:+0200
TZNAME:Europe/Berlin CEST
END:DAYLIGHT
BEGIN:DAYLIGHT
DTSTART:20260329T030000
RDATE:20261025T020000
TZOFFSETFROM:+0100
TZOFFSETTO:+0200
TZNAME:Europe/Berlin CEST
END:DAYLIGHT
BEGIN:DAYLIGHT
DTSTART:20270328T030000
RDATE:20271031T020000
TZOFFSETFROM:+0100
TZOFFSETTO:+0200
TZNAME:Europe/Berlin CEST
END:DAYLIGHT
BEGIN:DAYLIGHT
DTSTART:20280326T030000
RDATE:20281029T020000
TZOFFSETFROM:+0100
TZOFFSETTO:+0200
TZNAME:Europe/Berlin CEST
END:DAYLIGHT
BEGIN:DAYLIGHT
DTSTART:20290325T030000
RDATE:20291028T020000
TZOFFSETFROM:+0100
TZOFFSETTO:+0200
TZNAME:Europe/Berlin CEST
END:DAYLIGHT
BEGIN:DAYLIGHT
DTSTART:20300331T030000
RDATE:20301027T020000
TZOFFSETFROM:+0100
TZOFFSETTO:+0200
TZNAME:Europe/Berlin CEST
END:DAYLIGHT
END:VTIMEZONE
BEGIN:VEVENT
UID:e346dd6d001622bb97afe7546b2bc08e
CATEGORIES:Vereinsinterne Veranstaltungen
CREATED:20210814T123230
SUMMARY:Jahreshauptversammlung
DESCRIPTION:Aktuelle Hinweis der Hygienekommission für die Jahreshauptversammlung am Sa
 . 28. Aug. 2021\nLiebe Mitglieder,\nin Vorbereitung auf die Jahreshauptvers
 ammlung hier die dafür gültigen Coronaregeln:\n\n - Vollständig Geimpfte un
 d Genesene bringen bitte ihren Nachweis mit. Er wird am Eingang kontrollier
 t.\nDie Durchführung eines zusätzlichen Schnelltests ist nicht verpflichten
 d. Wir bitten aber nach eigener Einschätzung des persönlichen Infektionsris
 ikos trotzdem einen Schnelltest zu machen, um Unsicherheiten zu verringern.
 \n\n\n - Alle anderen können nur mit aktuellem neg. Coronatestergebnis teil
 nehmen. \nUm den Einlass zügig ohne langes Anstehen zu ermöglichen aber auc
 h aus Gründen des Infektionsschutzes bitten wir euch, den Schnelltest (PoC)
  oder PCR-Test extern durchzuführen.\nWährend der gesamten Veranstaltung is
 t (auch am Platz) eine FFP2-Maske zu tragen.\nEuer Hygieneteam\n
X-ALT-DESC;FMTTYPE=text/html:<p><strong>Aktuelle Hinweis der Hygienekommission für die Jahreshauptversam
 mlung am Sa. 28. Aug. 2021</strong></p><hr id="system-readmore" /><p>Liebe 
 Mitglieder,</p><p>in Vorbereitung auf die Jahreshauptversammlung hier die d
 afür gültigen Coronaregeln:</p><ol><li>Vollständig Geimpfte und Genesene br
 ingen bitte ihren Nachweis mit. Er wird am Eingang kontrolliert.<br />Die D
 urchführung eines zusätzlichen Schnelltests ist nicht verpflichtend. Wir bi
 tten aber nach eigener Einschätzung des persönlichen Infektionsrisikos trot
 zdem einen Schnelltest zu machen, um Unsicherheiten zu verringern.<br /><br
  /></li><li>Alle anderen können nur mit aktuellem neg. Coronatestergebnis t
 eilnehmen.</li></ol><p>&nbsp;</p><p>Um den Einlass zügig ohne langes Ansteh
 en zu ermöglichen aber auch aus Gründen des Infektionsschutzes bitten wir e
 uch, den Schnelltest (PoC) oder PCR-Test <strong>extern </strong>durchzufüh
 ren.</p><p>Während der gesamten Veranstaltung ist (auch am Platz) eine FFP2
 -Maske zu tragen.</p><p>Euer Hygieneteam</p>
DTSTAMP:20260420T085620
DTSTART;TZID=Europe/Berlin:20210828T150000
SEQUENCE:0
TRANSP:OPAQUE
END:VEVENT
END:VCALENDAR