BEGIN:VCALENDAR
VERSION:2.0
PRODID:-//jEvents 2.0 for Joomla//EN
CALSCALE:GREGORIAN
METHOD:PUBLISH
BEGIN:VTIMEZONE
TZID:Europe/Berlin
BEGIN:STANDARD
DTSTART:20200129T190000
RDATE:20200329T030000
TZOFFSETFROM:+0200
TZOFFSETTO:+0100
TZNAME:Europe/Berlin CET
END:STANDARD
BEGIN:STANDARD
DTSTART:20201025T020000
RDATE:20210328T030000
TZOFFSETFROM:+0200
TZOFFSETTO:+0100
TZNAME:Europe/Berlin CET
END:STANDARD
BEGIN:STANDARD
DTSTART:20211031T020000
RDATE:20220327T030000
TZOFFSETFROM:+0200
TZOFFSETTO:+0100
TZNAME:Europe/Berlin CET
END:STANDARD
BEGIN:STANDARD
DTSTART:20221030T020000
RDATE:20230326T030000
TZOFFSETFROM:+0200
TZOFFSETTO:+0100
TZNAME:Europe/Berlin CET
END:STANDARD
BEGIN:STANDARD
DTSTART:20231029T020000
RDATE:20240331T030000
TZOFFSETFROM:+0200
TZOFFSETTO:+0100
TZNAME:Europe/Berlin CET
END:STANDARD
BEGIN:STANDARD
DTSTART:20241027T020000
RDATE:20250330T030000
TZOFFSETFROM:+0200
TZOFFSETTO:+0100
TZNAME:Europe/Berlin CET
END:STANDARD
BEGIN:STANDARD
DTSTART:20251026T020000
RDATE:20260329T030000
TZOFFSETFROM:+0200
TZOFFSETTO:+0100
TZNAME:Europe/Berlin CET
END:STANDARD
BEGIN:STANDARD
DTSTART:20261025T020000
RDATE:20270328T030000
TZOFFSETFROM:+0200
TZOFFSETTO:+0100
TZNAME:Europe/Berlin CET
END:STANDARD
BEGIN:STANDARD
DTSTART:20271031T020000
RDATE:20280326T030000
TZOFFSETFROM:+0200
TZOFFSETTO:+0100
TZNAME:Europe/Berlin CET
END:STANDARD
BEGIN:STANDARD
DTSTART:20281029T020000
RDATE:20290325T030000
TZOFFSETFROM:+0200
TZOFFSETTO:+0100
TZNAME:Europe/Berlin CET
END:STANDARD
BEGIN:STANDARD
DTSTART:20291028T020000
RDATE:20300331T030000
TZOFFSETFROM:+0200
TZOFFSETTO:+0100
TZNAME:Europe/Berlin CET
END:STANDARD
BEGIN:STANDARD
DTSTART:20301027T020000
RDATE:20310330T030000
TZOFFSETFROM:+0200
TZOFFSETTO:+0100
TZNAME:Europe/Berlin CET
END:STANDARD
BEGIN:DAYLIGHT
DTSTART:20200329T030000
RDATE:20201025T020000
TZOFFSETFROM:+0100
TZOFFSETTO:+0200
TZNAME:Europe/Berlin CEST
END:DAYLIGHT
BEGIN:DAYLIGHT
DTSTART:20210328T030000
RDATE:20211031T020000
TZOFFSETFROM:+0100
TZOFFSETTO:+0200
TZNAME:Europe/Berlin CEST
END:DAYLIGHT
BEGIN:DAYLIGHT
DTSTART:20220327T030000
RDATE:20221030T020000
TZOFFSETFROM:+0100
TZOFFSETTO:+0200
TZNAME:Europe/Berlin CEST
END:DAYLIGHT
BEGIN:DAYLIGHT
DTSTART:20230326T030000
RDATE:20231029T020000
TZOFFSETFROM:+0100
TZOFFSETTO:+0200
TZNAME:Europe/Berlin CEST
END:DAYLIGHT
BEGIN:DAYLIGHT
DTSTART:20240331T030000
RDATE:20241027T020000
TZOFFSETFROM:+0100
TZOFFSETTO:+0200
TZNAME:Europe/Berlin CEST
END:DAYLIGHT
BEGIN:DAYLIGHT
DTSTART:20250330T030000
RDATE:20251026T020000
TZOFFSETFROM:+0100
TZOFFSETTO:+0200
TZNAME:Europe/Berlin CEST
END:DAYLIGHT
BEGIN:DAYLIGHT
DTSTART:20260329T030000
RDATE:20261025T020000
TZOFFSETFROM:+0100
TZOFFSETTO:+0200
TZNAME:Europe/Berlin CEST
END:DAYLIGHT
BEGIN:DAYLIGHT
DTSTART:20270328T030000
RDATE:20271031T020000
TZOFFSETFROM:+0100
TZOFFSETTO:+0200
TZNAME:Europe/Berlin CEST
END:DAYLIGHT
BEGIN:DAYLIGHT
DTSTART:20280326T030000
RDATE:20281029T020000
TZOFFSETFROM:+0100
TZOFFSETTO:+0200
TZNAME:Europe/Berlin CEST
END:DAYLIGHT
BEGIN:DAYLIGHT
DTSTART:20290325T030000
RDATE:20291028T020000
TZOFFSETFROM:+0100
TZOFFSETTO:+0200
TZNAME:Europe/Berlin CEST
END:DAYLIGHT
BEGIN:DAYLIGHT
DTSTART:20300331T030000
RDATE:20301027T020000
TZOFFSETFROM:+0100
TZOFFSETTO:+0200
TZNAME:Europe/Berlin CEST
END:DAYLIGHT
END:VTIMEZONE
BEGIN:VEVENT
UID:90661766bcb4fbb09a4a839a7e8da40b
CATEGORIES:SVSt Veranstaltungen
CREATED:20210129T131432
SUMMARY:Vendee Globe/Boris Herrmann Zoom-Nachbesprechung für Mitglieder und deren Gäste
DESCRIPTION:Was für ein Finale! Der Zieleinlauf von Boris Herrmann bei der Vendee Globe
  war unvorhersehbar aufregend! \nHarry und Melanie hatten aufgrund des inte
 resses an drei Abenden den Endspurt begleitet. Nun noch ein Rückblick.\nThe
 ma: Vendee Globe - Rückblick auf die Fahr und Leistung von Boris Herrmann /
  Wer ist noch unterwegs? \nZoom-Beginn: ab 19 Uhr\nGesprächsleitung: Dr. Me
 lanie Aalburg (unsere Offshore-Regatta-Skipperin)\nJeder möge sich gemütlic
 h mit einem Getränk seiner Wahl an Rechner, Tablet oder Handy setzen und te
 ilnehmen. Bitte die Mikrofone immer wieder ausschalten.\nDie Einladung wird
  per Newsletter an alle Mitglieder gesendet, die den Newsletter abboniert h
 aben und im internen Bereich der Webseite stehen. Alle Mitglieder dürfen au
 ch interessierte Freunde einladen.\n
X-ALT-DESC;FMTTYPE=text/html:<p>Was für ein Finale! Der Zieleinlauf von Boris Herrmann bei der <strong>V
 endee Globe </strong>war unvorhersehbar aufregend! <br />Harry und Melanie 
 hatten aufgrund des interesses an drei Abenden den Endspurt begleitet. Nun 
 noch ein Rückblick.</p><p><strong>Thema:</strong> Vendee Globe - Rückblick 
 auf die Fahr und Leistung von Boris Herrmann / Wer ist noch unterwegs? <br 
 /><strong>Zoom-Beginn:</strong> ab 19 Uhr<br /><strong>Gesprächsleitung:</s
 trong> Dr. Melanie Aalburg (unsere Offshore-Regatta-Skipperin)</p><p>Jeder 
 möge sich gemütlich mit einem Getränk seiner Wahl an Rechner, Tablet oder H
 andy setzen und teilnehmen. Bitte die Mikrofone immer wieder ausschalten.</
 p><p>Die Einladung wird per Newsletter an alle Mitglieder gesendet, die den
  Newsletter abboniert haben und im internen Bereich der Webseite stehen. Al
 le Mitglieder dürfen auch interessierte Freunde einladen.</p>
DTSTAMP:20260420T181330
DTSTART;TZID=Europe/Berlin:20210129T190000
SEQUENCE:0
TRANSP:OPAQUE
END:VEVENT
END:VCALENDAR