BEGIN:VCALENDAR
VERSION:2.0
PRODID:-//jEvents 2.0 for Joomla//EN
CALSCALE:GREGORIAN
METHOD:PUBLISH
BEGIN:VTIMEZONE
TZID:Europe/Berlin
BEGIN:STANDARD
DTSTART:20200127T190000
RDATE:20200329T030000
TZOFFSETFROM:+0200
TZOFFSETTO:+0100
TZNAME:Europe/Berlin CET
END:STANDARD
BEGIN:STANDARD
DTSTART:20201025T020000
RDATE:20210328T030000
TZOFFSETFROM:+0200
TZOFFSETTO:+0100
TZNAME:Europe/Berlin CET
END:STANDARD
BEGIN:STANDARD
DTSTART:20211031T020000
RDATE:20220327T030000
TZOFFSETFROM:+0200
TZOFFSETTO:+0100
TZNAME:Europe/Berlin CET
END:STANDARD
BEGIN:STANDARD
DTSTART:20221030T020000
RDATE:20230326T030000
TZOFFSETFROM:+0200
TZOFFSETTO:+0100
TZNAME:Europe/Berlin CET
END:STANDARD
BEGIN:STANDARD
DTSTART:20231029T020000
RDATE:20240331T030000
TZOFFSETFROM:+0200
TZOFFSETTO:+0100
TZNAME:Europe/Berlin CET
END:STANDARD
BEGIN:STANDARD
DTSTART:20241027T020000
RDATE:20250330T030000
TZOFFSETFROM:+0200
TZOFFSETTO:+0100
TZNAME:Europe/Berlin CET
END:STANDARD
BEGIN:STANDARD
DTSTART:20251026T020000
RDATE:20260329T030000
TZOFFSETFROM:+0200
TZOFFSETTO:+0100
TZNAME:Europe/Berlin CET
END:STANDARD
BEGIN:STANDARD
DTSTART:20261025T020000
RDATE:20270328T030000
TZOFFSETFROM:+0200
TZOFFSETTO:+0100
TZNAME:Europe/Berlin CET
END:STANDARD
BEGIN:STANDARD
DTSTART:20271031T020000
RDATE:20280326T030000
TZOFFSETFROM:+0200
TZOFFSETTO:+0100
TZNAME:Europe/Berlin CET
END:STANDARD
BEGIN:STANDARD
DTSTART:20281029T020000
RDATE:20290325T030000
TZOFFSETFROM:+0200
TZOFFSETTO:+0100
TZNAME:Europe/Berlin CET
END:STANDARD
BEGIN:STANDARD
DTSTART:20291028T020000
RDATE:20300331T030000
TZOFFSETFROM:+0200
TZOFFSETTO:+0100
TZNAME:Europe/Berlin CET
END:STANDARD
BEGIN:STANDARD
DTSTART:20301027T020000
RDATE:20310330T030000
TZOFFSETFROM:+0200
TZOFFSETTO:+0100
TZNAME:Europe/Berlin CET
END:STANDARD
BEGIN:DAYLIGHT
DTSTART:20200329T030000
RDATE:20201025T020000
TZOFFSETFROM:+0100
TZOFFSETTO:+0200
TZNAME:Europe/Berlin CEST
END:DAYLIGHT
BEGIN:DAYLIGHT
DTSTART:20210328T030000
RDATE:20211031T020000
TZOFFSETFROM:+0100
TZOFFSETTO:+0200
TZNAME:Europe/Berlin CEST
END:DAYLIGHT
BEGIN:DAYLIGHT
DTSTART:20220327T030000
RDATE:20221030T020000
TZOFFSETFROM:+0100
TZOFFSETTO:+0200
TZNAME:Europe/Berlin CEST
END:DAYLIGHT
BEGIN:DAYLIGHT
DTSTART:20230326T030000
RDATE:20231029T020000
TZOFFSETFROM:+0100
TZOFFSETTO:+0200
TZNAME:Europe/Berlin CEST
END:DAYLIGHT
BEGIN:DAYLIGHT
DTSTART:20240331T030000
RDATE:20241027T020000
TZOFFSETFROM:+0100
TZOFFSETTO:+0200
TZNAME:Europe/Berlin CEST
END:DAYLIGHT
BEGIN:DAYLIGHT
DTSTART:20250330T030000
RDATE:20251026T020000
TZOFFSETFROM:+0100
TZOFFSETTO:+0200
TZNAME:Europe/Berlin CEST
END:DAYLIGHT
BEGIN:DAYLIGHT
DTSTART:20260329T030000
RDATE:20261025T020000
TZOFFSETFROM:+0100
TZOFFSETTO:+0200
TZNAME:Europe/Berlin CEST
END:DAYLIGHT
BEGIN:DAYLIGHT
DTSTART:20270328T030000
RDATE:20271031T020000
TZOFFSETFROM:+0100
TZOFFSETTO:+0200
TZNAME:Europe/Berlin CEST
END:DAYLIGHT
BEGIN:DAYLIGHT
DTSTART:20280326T030000
RDATE:20281029T020000
TZOFFSETFROM:+0100
TZOFFSETTO:+0200
TZNAME:Europe/Berlin CEST
END:DAYLIGHT
BEGIN:DAYLIGHT
DTSTART:20290325T030000
RDATE:20291028T020000
TZOFFSETFROM:+0100
TZOFFSETTO:+0200
TZNAME:Europe/Berlin CEST
END:DAYLIGHT
BEGIN:DAYLIGHT
DTSTART:20300331T030000
RDATE:20301027T020000
TZOFFSETFROM:+0100
TZOFFSETTO:+0200
TZNAME:Europe/Berlin CEST
END:DAYLIGHT
END:VTIMEZONE
BEGIN:VEVENT
UID:bc543bb6880656c8cb413926af00e865
CATEGORIES:SVSt Veranstaltungen
CREATED:20210127T093330
SUMMARY:Vendee Globe/Boris Herrmann Zoom-Endspurt für Mitglieder und deren Gäste
DESCRIPTION:Der Zieleinlauf beginnt abends gegen 20 Uhr. Harry und Melanie bieten ein 3
 tes Vendee Globe Zoom-Meeting "Endspurt" an. \n Thema: Vendee Globe - Gemei
 nsam beim Endspurt mitfiebern - Boris Herrmann segelt auf Platz 2 oder 3 du
 rch die Biskaya. Wird er mit der Zeitgutschrift doch noch siegen können? Zo
 om-Beginn ab 19 Uhr UND 21 Uhr, nach neuester Hochrechnung kommt der erste 
 gegen 20:00 Uhr ins Ziel.\nGesprächsleitung: Dr. Melanie Aalburg (unsere Of
 fshore-Regatta-Skipperin)\nJeder möge sich gemütlich mit einem Getränk sein
 er Wahl an Rechner, Tablet oder Handy setzen und teilnehmen. Bitte die Mikr
 ofone immer wieder ausschalten.\nDie Einladung zum 2ten Treffen wurde per E
 -Mail an alle Mitglieder gesendet und soll weiter gelten. Mitglieder dürfen
  auch interessierte Freunde persönlich einladen.\n
X-ALT-DESC;FMTTYPE=text/html:<p>Der Zieleinlauf beginnt abends gegen 20 Uhr. Harry und Melanie bieten ei
 n 3tes <strong>Vendee Globe Zoom-Meeting "</strong><strong>Endspurt" </stro
 ng>an. <br /> <strong>Thema:</strong> Vendee Globe - Gemeinsam beim Endspur
 t mitfiebern - Boris Herrmann segelt auf Platz 2 oder 3 durch die Biskaya. 
 Wird er mit der Zeitgutschrift doch noch siegen können? <strong>Zoom-Beginn
  ab 19 Uhr UND 21 Uhr</strong>, nach neuester Hochrechnung kommt der erste 
 gegen 20:00 Uhr ins Ziel.<br /><strong>Gesprächsleitung:</strong> Dr. Melan
 ie Aalburg (unsere Offshore-Regatta-Skipperin)</p><p>Jeder möge sich gemütl
 ich mit einem Getränk seiner Wahl an Rechner, Tablet oder Handy setzen und 
 teilnehmen. Bitte die Mikrofone immer wieder ausschalten.</p><p>Die Einladu
 ng zum 2ten Treffen wurde per E-Mail an alle Mitglieder gesendet und soll w
 eiter gelten. Mitglieder dürfen auch interessierte Freunde persönlich einla
 den.</p>
DTSTAMP:20260420T195025
DTSTART;TZID=Europe/Berlin:20210127T190000
SEQUENCE:0
TRANSP:OPAQUE
END:VEVENT
END:VCALENDAR