BEGIN:VCALENDAR
VERSION:2.0
PRODID:-//jEvents 2.0 for Joomla//EN
CALSCALE:GREGORIAN
METHOD:PUBLISH
BEGIN:VTIMEZONE
TZID:Europe/Berlin
BEGIN:STANDARD
DTSTART:20151025T020000
RDATE:20160327T030000
TZOFFSETFROM:+0200
TZOFFSETTO:+0100
TZNAME:Europe/Berlin CET
END:STANDARD
BEGIN:STANDARD
DTSTART:20161030T020000
RDATE:20170326T030000
TZOFFSETFROM:+0200
TZOFFSETTO:+0100
TZNAME:Europe/Berlin CET
END:STANDARD
BEGIN:STANDARD
DTSTART:20171029T020000
RDATE:20180325T030000
TZOFFSETFROM:+0200
TZOFFSETTO:+0100
TZNAME:Europe/Berlin CET
END:STANDARD
BEGIN:STANDARD
DTSTART:20181028T020000
RDATE:20190331T030000
TZOFFSETFROM:+0200
TZOFFSETTO:+0100
TZNAME:Europe/Berlin CET
END:STANDARD
BEGIN:STANDARD
DTSTART:20191027T020000
RDATE:20200329T030000
TZOFFSETFROM:+0200
TZOFFSETTO:+0100
TZNAME:Europe/Berlin CET
END:STANDARD
BEGIN:STANDARD
DTSTART:20201025T020000
RDATE:20210328T030000
TZOFFSETFROM:+0200
TZOFFSETTO:+0100
TZNAME:Europe/Berlin CET
END:STANDARD
BEGIN:STANDARD
DTSTART:20211031T020000
RDATE:20220327T030000
TZOFFSETFROM:+0200
TZOFFSETTO:+0100
TZNAME:Europe/Berlin CET
END:STANDARD
BEGIN:STANDARD
DTSTART:20221030T020000
RDATE:20230326T030000
TZOFFSETFROM:+0200
TZOFFSETTO:+0100
TZNAME:Europe/Berlin CET
END:STANDARD
BEGIN:STANDARD
DTSTART:20231029T020000
RDATE:20240331T030000
TZOFFSETFROM:+0200
TZOFFSETTO:+0100
TZNAME:Europe/Berlin CET
END:STANDARD
BEGIN:STANDARD
DTSTART:20241027T020000
RDATE:20250330T030000
TZOFFSETFROM:+0200
TZOFFSETTO:+0100
TZNAME:Europe/Berlin CET
END:STANDARD
BEGIN:STANDARD
DTSTART:20251026T020000
RDATE:20260329T030000
TZOFFSETFROM:+0200
TZOFFSETTO:+0100
TZNAME:Europe/Berlin CET
END:STANDARD
BEGIN:STANDARD
DTSTART:20261025T020000
RDATE:20270328T030000
TZOFFSETFROM:+0200
TZOFFSETTO:+0100
TZNAME:Europe/Berlin CET
END:STANDARD
BEGIN:STANDARD
DTSTART:20271031T020000
RDATE:20280326T030000
TZOFFSETFROM:+0200
TZOFFSETTO:+0100
TZNAME:Europe/Berlin CET
END:STANDARD
BEGIN:STANDARD
DTSTART:20281029T020000
RDATE:20290325T030000
TZOFFSETFROM:+0200
TZOFFSETTO:+0100
TZNAME:Europe/Berlin CET
END:STANDARD
BEGIN:STANDARD
DTSTART:20291028T020000
RDATE:20300331T030000
TZOFFSETFROM:+0200
TZOFFSETTO:+0100
TZNAME:Europe/Berlin CET
END:STANDARD
BEGIN:STANDARD
DTSTART:20301027T020000
RDATE:20310330T030000
TZOFFSETFROM:+0200
TZOFFSETTO:+0100
TZNAME:Europe/Berlin CET
END:STANDARD
BEGIN:DAYLIGHT
DTSTART:20150710T170000
RDATE:20151025T020000
TZOFFSETFROM:+0100
TZOFFSETTO:+0200
TZNAME:Europe/Berlin CEST
END:DAYLIGHT
BEGIN:DAYLIGHT
DTSTART:20160327T030000
RDATE:20161030T020000
TZOFFSETFROM:+0100
TZOFFSETTO:+0200
TZNAME:Europe/Berlin CEST
END:DAYLIGHT
BEGIN:DAYLIGHT
DTSTART:20170326T030000
RDATE:20171029T020000
TZOFFSETFROM:+0100
TZOFFSETTO:+0200
TZNAME:Europe/Berlin CEST
END:DAYLIGHT
BEGIN:DAYLIGHT
DTSTART:20180325T030000
RDATE:20181028T020000
TZOFFSETFROM:+0100
TZOFFSETTO:+0200
TZNAME:Europe/Berlin CEST
END:DAYLIGHT
BEGIN:DAYLIGHT
DTSTART:20190331T030000
RDATE:20191027T020000
TZOFFSETFROM:+0100
TZOFFSETTO:+0200
TZNAME:Europe/Berlin CEST
END:DAYLIGHT
BEGIN:DAYLIGHT
DTSTART:20200329T030000
RDATE:20201025T020000
TZOFFSETFROM:+0100
TZOFFSETTO:+0200
TZNAME:Europe/Berlin CEST
END:DAYLIGHT
BEGIN:DAYLIGHT
DTSTART:20210328T030000
RDATE:20211031T020000
TZOFFSETFROM:+0100
TZOFFSETTO:+0200
TZNAME:Europe/Berlin CEST
END:DAYLIGHT
BEGIN:DAYLIGHT
DTSTART:20220327T030000
RDATE:20221030T020000
TZOFFSETFROM:+0100
TZOFFSETTO:+0200
TZNAME:Europe/Berlin CEST
END:DAYLIGHT
BEGIN:DAYLIGHT
DTSTART:20230326T030000
RDATE:20231029T020000
TZOFFSETFROM:+0100
TZOFFSETTO:+0200
TZNAME:Europe/Berlin CEST
END:DAYLIGHT
BEGIN:DAYLIGHT
DTSTART:20240331T030000
RDATE:20241027T020000
TZOFFSETFROM:+0100
TZOFFSETTO:+0200
TZNAME:Europe/Berlin CEST
END:DAYLIGHT
BEGIN:DAYLIGHT
DTSTART:20250330T030000
RDATE:20251026T020000
TZOFFSETFROM:+0100
TZOFFSETTO:+0200
TZNAME:Europe/Berlin CEST
END:DAYLIGHT
BEGIN:DAYLIGHT
DTSTART:20260329T030000
RDATE:20261025T020000
TZOFFSETFROM:+0100
TZOFFSETTO:+0200
TZNAME:Europe/Berlin CEST
END:DAYLIGHT
BEGIN:DAYLIGHT
DTSTART:20270328T030000
RDATE:20271031T020000
TZOFFSETFROM:+0100
TZOFFSETTO:+0200
TZNAME:Europe/Berlin CEST
END:DAYLIGHT
BEGIN:DAYLIGHT
DTSTART:20280326T030000
RDATE:20281029T020000
TZOFFSETFROM:+0100
TZOFFSETTO:+0200
TZNAME:Europe/Berlin CEST
END:DAYLIGHT
BEGIN:DAYLIGHT
DTSTART:20290325T030000
RDATE:20291028T020000
TZOFFSETFROM:+0100
TZOFFSETTO:+0200
TZNAME:Europe/Berlin CEST
END:DAYLIGHT
BEGIN:DAYLIGHT
DTSTART:20300331T030000
RDATE:20301027T020000
TZOFFSETFROM:+0100
TZOFFSETTO:+0200
TZNAME:Europe/Berlin CEST
END:DAYLIGHT
END:VTIMEZONE
BEGIN:VEVENT
UID:3d68254e854c0566a675f4f1a7799143
CATEGORIES:SVSt Veranstaltungen
CREATED:20160428T204655
SUMMARY:Finaaale! Public viewing im SVSt
DESCRIPTION:Wir feiern das Finale - egal, gegen welche Mannschaft "unsere Jungs" spiele
 n ;-)\nUm 21:00 ist Anpfiff - vorher stimmen wir uns mit Torwandschießen, T
 ischfußball, Fußball-Fachsimpeleien und französischer Lebensfreude ein. Es 
 gibt Köstlichkeiten vom Grill - die Ökonomie wählt die Zutaten aus den Länd
 ern aus, deren Mannschaften um die Coupe Henri-Delaunay, die Gewinntrophäe 
 der Fußball-Europameisterschaft, spielen.\nWir bitten um Anmeldung bis 8. J
 uli per Telefon 030 30814561, E-Mail Diese E-Mail-Adresse ist vor Spambots 
 geschützt! Zur Anzeige muss JavaScript eingeschaltet sein!
				document.get
 ElementById('cloak00c6c3923702c8529b909a4da94c53eb').innerHTML = '';
				va
 r prefix = '&#109;a' + 'i&#108;' + '&#116;o';
				var path = 'hr' + 'ef' + 
 '=';
				var addy00c6c3923702c8529b909a4da94c53eb = '&#97;ndr&#101;&#97;.l&
 #97;mb&#101;ck' + '&#64;';
				addy00c6c3923702c8529b909a4da94c53eb = addy0
 0c6c3923702c8529b909a4da94c53eb + 't-&#111;nl&#105;n&#101;' + '&#46;' + 'd&
 #101;';
				var addy_text00c6c3923702c8529b909a4da94c53eb = '&#97;ndr&#101;
 &#97;.l&#97;mb&#101;ck' + '&#64;' + 't-&#111;nl&#105;n&#101;' + '&#46;' + '
 d&#101;';document.getElementById('cloak00c6c3923702c8529b909a4da94c53eb').i
 nnerHTML += '<a ' + path + '\'' + prefix + ':' + addy00c6c3923702c8529b909a
 4da94c53eb + '\'>'+addy_text00c6c3923702c8529b909a4da94c53eb+'';
		 oder in
  der aushängenden Liste.\n"Beau jeu" wünschen Siegrid, Andrea, Martin\n
X-ALT-DESC;FMTTYPE=text/html:<p>Wir feiern das Finale - egal, gegen welche Mannschaft "unsere Jungs" spi
 elen ;-)</p><p>Um 21:00 ist Anpfiff - vorher stimmen wir uns mit Torwandsch
 ie&szlig;en, Tischfu&szlig;ball, Fu&szlig;ball-Fachsimpeleien und franz&oum
 l;sischer Lebensfreude ein. Es gibt K&ouml;stlichkeiten vom Grill - die &Ou
 ml;konomie w&auml;hlt die Zutaten aus den L&auml;ndern aus, deren Mannschaf
 ten um die Coupe Henri-Delaunay, die Gewinntroph&auml;e der Fu&szlig;ball-E
 uropameisterschaft, spielen.</p><p>Wir bitten um <strong>Anmeldung bis 8. J
 uli</strong> per Telefon 030 30814561, E-Mail <span id="cloak00c6c3923702c8
 529b909a4da94c53eb">Diese E-Mail-Adresse ist vor Spambots geschützt! Zur An
 zeige muss JavaScript eingeschaltet sein!</span><script type='text/javascri
 pt'>
				document.getElementById('cloak00c6c3923702c8529b909a4da94c53eb').i
 nnerHTML = '';
				var prefix = '&#109;a' + 'i&#108;' + '&#116;o';
				var 
 path = 'hr' + 'ef' + '=';
				var addy00c6c3923702c8529b909a4da94c53eb = '&
 #97;ndr&#101;&#97;.l&#97;mb&#101;ck' + '&#64;';
				addy00c6c3923702c8529b9
 09a4da94c53eb = addy00c6c3923702c8529b909a4da94c53eb + 't-&#111;nl&#105;n&#
 101;' + '&#46;' + 'd&#101;';
				var addy_text00c6c3923702c8529b909a4da94c5
 3eb = '&#97;ndr&#101;&#97;.l&#97;mb&#101;ck' + '&#64;' + 't-&#111;nl&#105;n
 &#101;' + '&#46;' + 'd&#101;';document.getElementById('cloak00c6c3923702c85
 29b909a4da94c53eb').innerHTML += '<a ' + path + '\'' + prefix + ':' + addy0
 0c6c3923702c8529b909a4da94c53eb + '\'>'+addy_text00c6c3923702c8529b909a4da9
 4c53eb+'<\/a>';
		</script> oder in der aush&auml;ngenden Liste.</p><p>"Bea
 u jeu" w&uuml;nschen Siegrid, Andrea, Martin</p>
DTSTAMP:20260420T181228
DTSTART;TZID=Europe/Berlin:20160710T170000
SEQUENCE:0
TRANSP:OPAQUE
END:VEVENT
END:VCALENDAR