BEGIN:VCALENDAR
VERSION:2.0
PRODID:-//jEvents 2.0 for Joomla//EN
CALSCALE:GREGORIAN
METHOD:PUBLISH
BEGIN:VTIMEZONE
TZID:Europe/Berlin
BEGIN:STANDARD
DTSTART:20151025T020000
RDATE:20160327T030000
TZOFFSETFROM:+0200
TZOFFSETTO:+0100
TZNAME:Europe/Berlin CET
END:STANDARD
BEGIN:STANDARD
DTSTART:20161030T020000
RDATE:20170326T030000
TZOFFSETFROM:+0200
TZOFFSETTO:+0100
TZNAME:Europe/Berlin CET
END:STANDARD
BEGIN:STANDARD
DTSTART:20171029T020000
RDATE:20180325T030000
TZOFFSETFROM:+0200
TZOFFSETTO:+0100
TZNAME:Europe/Berlin CET
END:STANDARD
BEGIN:STANDARD
DTSTART:20181028T020000
RDATE:20190331T030000
TZOFFSETFROM:+0200
TZOFFSETTO:+0100
TZNAME:Europe/Berlin CET
END:STANDARD
BEGIN:STANDARD
DTSTART:20191027T020000
RDATE:20200329T030000
TZOFFSETFROM:+0200
TZOFFSETTO:+0100
TZNAME:Europe/Berlin CET
END:STANDARD
BEGIN:STANDARD
DTSTART:20201025T020000
RDATE:20210328T030000
TZOFFSETFROM:+0200
TZOFFSETTO:+0100
TZNAME:Europe/Berlin CET
END:STANDARD
BEGIN:STANDARD
DTSTART:20211031T020000
RDATE:20220327T030000
TZOFFSETFROM:+0200
TZOFFSETTO:+0100
TZNAME:Europe/Berlin CET
END:STANDARD
BEGIN:STANDARD
DTSTART:20221030T020000
RDATE:20230326T030000
TZOFFSETFROM:+0200
TZOFFSETTO:+0100
TZNAME:Europe/Berlin CET
END:STANDARD
BEGIN:STANDARD
DTSTART:20231029T020000
RDATE:20240331T030000
TZOFFSETFROM:+0200
TZOFFSETTO:+0100
TZNAME:Europe/Berlin CET
END:STANDARD
BEGIN:STANDARD
DTSTART:20241027T020000
RDATE:20250330T030000
TZOFFSETFROM:+0200
TZOFFSETTO:+0100
TZNAME:Europe/Berlin CET
END:STANDARD
BEGIN:STANDARD
DTSTART:20251026T020000
RDATE:20260329T030000
TZOFFSETFROM:+0200
TZOFFSETTO:+0100
TZNAME:Europe/Berlin CET
END:STANDARD
BEGIN:STANDARD
DTSTART:20261025T020000
RDATE:20270328T030000
TZOFFSETFROM:+0200
TZOFFSETTO:+0100
TZNAME:Europe/Berlin CET
END:STANDARD
BEGIN:STANDARD
DTSTART:20271031T020000
RDATE:20280326T030000
TZOFFSETFROM:+0200
TZOFFSETTO:+0100
TZNAME:Europe/Berlin CET
END:STANDARD
BEGIN:STANDARD
DTSTART:20281029T020000
RDATE:20290325T030000
TZOFFSETFROM:+0200
TZOFFSETTO:+0100
TZNAME:Europe/Berlin CET
END:STANDARD
BEGIN:STANDARD
DTSTART:20291028T020000
RDATE:20300331T030000
TZOFFSETFROM:+0200
TZOFFSETTO:+0100
TZNAME:Europe/Berlin CET
END:STANDARD
BEGIN:STANDARD
DTSTART:20301027T020000
RDATE:20310330T030000
TZOFFSETFROM:+0200
TZOFFSETTO:+0100
TZNAME:Europe/Berlin CET
END:STANDARD
BEGIN:DAYLIGHT
DTSTART:20150515T170000
RDATE:20151025T020000
TZOFFSETFROM:+0100
TZOFFSETTO:+0200
TZNAME:Europe/Berlin CEST
END:DAYLIGHT
BEGIN:DAYLIGHT
DTSTART:20160327T030000
RDATE:20161030T020000
TZOFFSETFROM:+0100
TZOFFSETTO:+0200
TZNAME:Europe/Berlin CEST
END:DAYLIGHT
BEGIN:DAYLIGHT
DTSTART:20170326T030000
RDATE:20171029T020000
TZOFFSETFROM:+0100
TZOFFSETTO:+0200
TZNAME:Europe/Berlin CEST
END:DAYLIGHT
BEGIN:DAYLIGHT
DTSTART:20180325T030000
RDATE:20181028T020000
TZOFFSETFROM:+0100
TZOFFSETTO:+0200
TZNAME:Europe/Berlin CEST
END:DAYLIGHT
BEGIN:DAYLIGHT
DTSTART:20190331T030000
RDATE:20191027T020000
TZOFFSETFROM:+0100
TZOFFSETTO:+0200
TZNAME:Europe/Berlin CEST
END:DAYLIGHT
BEGIN:DAYLIGHT
DTSTART:20200329T030000
RDATE:20201025T020000
TZOFFSETFROM:+0100
TZOFFSETTO:+0200
TZNAME:Europe/Berlin CEST
END:DAYLIGHT
BEGIN:DAYLIGHT
DTSTART:20210328T030000
RDATE:20211031T020000
TZOFFSETFROM:+0100
TZOFFSETTO:+0200
TZNAME:Europe/Berlin CEST
END:DAYLIGHT
BEGIN:DAYLIGHT
DTSTART:20220327T030000
RDATE:20221030T020000
TZOFFSETFROM:+0100
TZOFFSETTO:+0200
TZNAME:Europe/Berlin CEST
END:DAYLIGHT
BEGIN:DAYLIGHT
DTSTART:20230326T030000
RDATE:20231029T020000
TZOFFSETFROM:+0100
TZOFFSETTO:+0200
TZNAME:Europe/Berlin CEST
END:DAYLIGHT
BEGIN:DAYLIGHT
DTSTART:20240331T030000
RDATE:20241027T020000
TZOFFSETFROM:+0100
TZOFFSETTO:+0200
TZNAME:Europe/Berlin CEST
END:DAYLIGHT
BEGIN:DAYLIGHT
DTSTART:20250330T030000
RDATE:20251026T020000
TZOFFSETFROM:+0100
TZOFFSETTO:+0200
TZNAME:Europe/Berlin CEST
END:DAYLIGHT
BEGIN:DAYLIGHT
DTSTART:20260329T030000
RDATE:20261025T020000
TZOFFSETFROM:+0100
TZOFFSETTO:+0200
TZNAME:Europe/Berlin CEST
END:DAYLIGHT
BEGIN:DAYLIGHT
DTSTART:20270328T030000
RDATE:20271031T020000
TZOFFSETFROM:+0100
TZOFFSETTO:+0200
TZNAME:Europe/Berlin CEST
END:DAYLIGHT
BEGIN:DAYLIGHT
DTSTART:20280326T030000
RDATE:20281029T020000
TZOFFSETFROM:+0100
TZOFFSETTO:+0200
TZNAME:Europe/Berlin CEST
END:DAYLIGHT
BEGIN:DAYLIGHT
DTSTART:20290325T030000
RDATE:20291028T020000
TZOFFSETFROM:+0100
TZOFFSETTO:+0200
TZNAME:Europe/Berlin CEST
END:DAYLIGHT
BEGIN:DAYLIGHT
DTSTART:20300331T030000
RDATE:20301027T020000
TZOFFSETFROM:+0100
TZOFFSETTO:+0200
TZNAME:Europe/Berlin CEST
END:DAYLIGHT
END:VTIMEZONE
BEGIN:VEVENT
UID:c69e012c0e3263a32ba5ce7da1212e24
CATEGORIES:SVSt Veranstaltungen
CREATED:20160414T195947
SUMMARY:JAZZ am See
DESCRIPTION:Jazz am See - an Pfingsten im SVSt\nmit BERLINs FINEST | Jazz, Pop &amp; So
 ul Classics. Passend dazu bereitet Frau Harnisch ein köstliches Frühlingsbu
 ffet und selbstverständlich gibt es frische Maibowle mit Waldmeister aus de
 m SVSt-Garten!\nBERLINs FINEST hat seine Wurzeln in der Berliner Jazzszene 
 und spannt gleichzeitig einen musikalischen Bogen zu Pop &amp; Soul. Ein Ba
 ndsound der viele Einflüsse auf leichte Art und mit einer Prise Swing verei
 nt, spannend interpretiert mit einer kleinen Besetzung, die spontan interag
 iert und improvisiert. Ein stilvoller Liveact der uns mitnimmt auf eine mus
 ikalische Reise von New York´s Jazzbars über die Strände von Rio bis zu den
  Soul- &amp; Popgrooves der 60er &amp; 70er Jahre.\n \nFrühlingsbuffet (19,
 00 Euro p.P.)\nKarotten-Ingwer-Süppchen\n♦\nSchinkenplatte\nRucola-Salat mi
 t gerösteten Pinienkernen und Parmesan mit Himbeerdressing\nTomaten-Mozzare
 lla-Salat\n♦\nBeelitzer Spargel, Schnitzel, neue Kartoffeln und Sauce Holla
 ndaise\n♦Schokopudding mit Vanillesauce\n \n* Änderungen vorbehalten\n z.B.
  bei schönem Wetter Grillbuffet\n \n \nWir freuen uns auf Sie &amp; Euch!\n
 Siegrid Heilmann | Andrea Lambeck | Martin Praetorius\nAnmeldungen ab sofor
 t\n♦ telefonisch bei Frau Harnisch 0172 9561570 oder 030 30814561\n♦ per E-
 Mail Diese E-Mail-Adresse ist vor Spambots geschützt! Zur Anzeige muss Java
 Script eingeschaltet sein!
				document.getElementById('cloakbfe281e3cd57d9
 acdba07289b32d1f2b').innerHTML = '';
				var prefix = '&#109;a' + 'i&#108;'
  + '&#116;o';
				var path = 'hr' + 'ef' + '=';
				var addybfe281e3cd57d9a
 cdba07289b32d1f2b = '&#97;ndr&#101;&#97;.l&#97;mb&#101;ck' + '&#64;';
				a
 ddybfe281e3cd57d9acdba07289b32d1f2b = addybfe281e3cd57d9acdba07289b32d1f2b 
 + 't-&#111;nl&#105;n&#101;' + '&#46;' + 'd&#101;';
				var addy_textbfe281e
 3cd57d9acdba07289b32d1f2b = '&#97;ndr&#101;&#97;.l&#97;mb&#101;ck' + '&#64;
 ' + 't-&#111;nl&#105;n&#101;' + '&#46;' + 'd&#101;';document.getElementById
 ('cloakbfe281e3cd57d9acdba07289b32d1f2b').innerHTML += '<a ' + path + '\'' 
 + prefix + ':' + addybfe281e3cd57d9acdba07289b32d1f2b + '\'>'+addy_textbfe2
 81e3cd57d9acdba07289b32d1f2b+'';
		\n♦ oder in der aushängenden Liste\n
X-ALT-DESC;FMTTYPE=text/html:<p style="text-align: left;"><strong>Jazz am See - an Pfingsten im SVSt</st
 rong></p><p>mit BERLINs FINEST | Jazz, Pop &amp; Soul Classics. Passend daz
 u bereitet Frau Harnisch ein k&ouml;stliches Fr&uuml;hlingsbuffet und selbs
 tverst&auml;ndlich gibt es frische Maibowle mit Waldmeister aus dem SVSt-Ga
 rten!</p><p>BERLINs FINEST hat seine Wurzeln in der Berliner Jazzszene und 
 spannt gleichzeitig einen musikalischen Bogen zu Pop &amp; Soul. Ein Bandso
 und der viele Einfl&uuml;sse auf leichte Art und mit einer Prise Swing vere
 int, spannend interpretiert mit einer kleinen Besetzung, die spontan intera
 giert und improvisiert. Ein stilvoller Liveact der uns mitnimmt auf eine mu
 sikalische Reise von New York&acute;s Jazzbars &uuml;ber die Str&auml;nde v
 on Rio bis zu den Soul- &amp; Popgrooves der 60er &amp; 70er Jahre.</p><div
  class="WordSection1" style="text-align: center;"><p>&nbsp;</p><p style="te
 xt-align: center;"><strong><span style="font-size: 14pt; line-height: 115%;
  font-family: 'TheSansOffice','sans-serif'; color: #003d77;">Fr&uuml;hlings
 buffet (19,00 Euro p.P.)</span></strong></p><p style="text-align: center;">
 <span style="font-size: 14pt; line-height: 115%; font-family: 'TheSansOffic
 e','sans-serif'; color: #003d77;">Karotten-Ingwer-S&uuml;ppchen</span></p><
 p style="text-align: center;"><span style="font-size: 14pt; line-height: 11
 5%; font-family: 'Arial','sans-serif'; color: red;">&diams;</span></p><p st
 yle="text-align: center;"><span style="font-size: 14pt; line-height: 115%; 
 font-family: 'TheSansOffice','sans-serif'; color: #003d77;">Schinkenplatte<
 /span></p><p style="text-align: center;"><span style="font-size: 14pt; line
 -height: 115%; font-family: 'TheSansOffice','sans-serif'; color: #003d77;">
 Rucola-Salat mit ger&ouml;steten Pinienkernen und Parmesan mit Himbeerdress
 ing</span></p><p style="text-align: center;"><span style="font-size: 14pt; 
 line-height: 115%; font-family: 'TheSansOffice','sans-serif'; color: #003d7
 7;">Tomaten-Mozzarella-Salat</span></p><p style="text-align: center;"><span
  style="font-size: 14pt; line-height: 115%; font-family: 'Arial','sans-seri
 f'; color: red;">&diams;</span></p><p style="text-align: center;"><span sty
 le="font-size: 14pt; line-height: 115%; font-family: 'TheSansOffice','sans-
 serif'; color: #003d77;">Beelitzer Spargel, Schnitzel, neue Kartoffeln und 
 Sauce Hollandaise</span></p><span style="font-size: 14pt; line-height: 115%
 ; font-family: 'Arial','sans-serif'; color: red;">&diams;</span><p style="m
 argin: 0.5pt 3.65pt 0.0001pt -1px; text-align: center; line-height: 170%;">
 <span style="font-size: 14pt; line-height: 170%; font-family: 'TheSansOffic
 e','sans-serif'; color: #003d77;">Schokopudding mit Vanillesauce</span></p>
 <p>&nbsp;</p><p style="margin: 0.5pt 3.65pt 0.0001pt 30px; text-align: righ
 t; line-height: normal;"><span style="font-size: 14pt; font-family: 'TheSan
 sOffice','sans-serif'; color: #003d77;">* &Auml;nderungen vorbehalten<br />
  z.B. bei sch&ouml;nem Wetter Grillbuffet</span></p></div><p><span style="f
 ont-size: 11pt; font-family: 'TheSansOffice','sans-serif';"><br style="page
 -break-before: always;" clear="all" /> </span></p><p>&nbsp;</p><p>Wir freue
 n uns auf Sie &amp; Euch!</p><p>Siegrid Heilmann | Andrea Lambeck | Martin 
 Praetorius</p><p>Anmeldungen ab sofort</p><p>&diams; telefonisch bei Frau H
 arnisch 0172 9561570 oder 030 30814561</p><p>&diams; per E-Mail <span id="c
 loakbfe281e3cd57d9acdba07289b32d1f2b">Diese E-Mail-Adresse ist vor Spambots
  geschützt! Zur Anzeige muss JavaScript eingeschaltet sein!</span><script t
 ype='text/javascript'>
				document.getElementById('cloakbfe281e3cd57d9acdb
 a07289b32d1f2b').innerHTML = '';
				var prefix = '&#109;a' + 'i&#108;' + '
 &#116;o';
				var path = 'hr' + 'ef' + '=';
				var addybfe281e3cd57d9acdba
 07289b32d1f2b = '&#97;ndr&#101;&#97;.l&#97;mb&#101;ck' + '&#64;';
				addyb
 fe281e3cd57d9acdba07289b32d1f2b = addybfe281e3cd57d9acdba07289b32d1f2b + 't
 -&#111;nl&#105;n&#101;' + '&#46;' + 'd&#101;';
				var addy_textbfe281e3cd5
 7d9acdba07289b32d1f2b = '&#97;ndr&#101;&#97;.l&#97;mb&#101;ck' + '&#64;' + 
 't-&#111;nl&#105;n&#101;' + '&#46;' + 'd&#101;';document.getElementById('cl
 oakbfe281e3cd57d9acdba07289b32d1f2b').innerHTML += '<a ' + path + '\'' + pr
 efix + ':' + addybfe281e3cd57d9acdba07289b32d1f2b + '\'>'+addy_textbfe281e3
 cd57d9acdba07289b32d1f2b+'<\/a>';
		</script></p><p>&diams; oder in der aus
 h&auml;ngenden Liste</p>
DTSTAMP:20260420T111746
DTSTART;TZID=Europe/Berlin:20160515T170000
SEQUENCE:0
TRANSP:OPAQUE
END:VEVENT
END:VCALENDAR