BEGIN:VCALENDAR
VERSION:2.0
PRODID:-//jEvents 2.0 for Joomla//EN
CALSCALE:GREGORIAN
METHOD:PUBLISH
BEGIN:VTIMEZONE
TZID:Europe/Berlin
BEGIN:STANDARD
DTSTART:20171029T020000
RDATE:20180325T030000
TZOFFSETFROM:+0200
TZOFFSETTO:+0100
TZNAME:Europe/Berlin CET
END:STANDARD
BEGIN:STANDARD
DTSTART:20181028T020000
RDATE:20190331T030000
TZOFFSETFROM:+0200
TZOFFSETTO:+0100
TZNAME:Europe/Berlin CET
END:STANDARD
BEGIN:STANDARD
DTSTART:20191027T020000
RDATE:20200329T030000
TZOFFSETFROM:+0200
TZOFFSETTO:+0100
TZNAME:Europe/Berlin CET
END:STANDARD
BEGIN:STANDARD
DTSTART:20201025T020000
RDATE:20210328T030000
TZOFFSETFROM:+0200
TZOFFSETTO:+0100
TZNAME:Europe/Berlin CET
END:STANDARD
BEGIN:STANDARD
DTSTART:20211031T020000
RDATE:20220327T030000
TZOFFSETFROM:+0200
TZOFFSETTO:+0100
TZNAME:Europe/Berlin CET
END:STANDARD
BEGIN:STANDARD
DTSTART:20221030T020000
RDATE:20230326T030000
TZOFFSETFROM:+0200
TZOFFSETTO:+0100
TZNAME:Europe/Berlin CET
END:STANDARD
BEGIN:STANDARD
DTSTART:20231029T020000
RDATE:20240331T030000
TZOFFSETFROM:+0200
TZOFFSETTO:+0100
TZNAME:Europe/Berlin CET
END:STANDARD
BEGIN:STANDARD
DTSTART:20241027T020000
RDATE:20250330T030000
TZOFFSETFROM:+0200
TZOFFSETTO:+0100
TZNAME:Europe/Berlin CET
END:STANDARD
BEGIN:STANDARD
DTSTART:20251026T020000
RDATE:20260329T030000
TZOFFSETFROM:+0200
TZOFFSETTO:+0100
TZNAME:Europe/Berlin CET
END:STANDARD
BEGIN:STANDARD
DTSTART:20261025T020000
RDATE:20270328T030000
TZOFFSETFROM:+0200
TZOFFSETTO:+0100
TZNAME:Europe/Berlin CET
END:STANDARD
BEGIN:STANDARD
DTSTART:20271031T020000
RDATE:20280326T030000
TZOFFSETFROM:+0200
TZOFFSETTO:+0100
TZNAME:Europe/Berlin CET
END:STANDARD
BEGIN:STANDARD
DTSTART:20281029T020000
RDATE:20290325T030000
TZOFFSETFROM:+0200
TZOFFSETTO:+0100
TZNAME:Europe/Berlin CET
END:STANDARD
BEGIN:STANDARD
DTSTART:20291028T020000
RDATE:20300331T030000
TZOFFSETFROM:+0200
TZOFFSETTO:+0100
TZNAME:Europe/Berlin CET
END:STANDARD
BEGIN:STANDARD
DTSTART:20301027T020000
RDATE:20310330T030000
TZOFFSETFROM:+0200
TZOFFSETTO:+0100
TZNAME:Europe/Berlin CET
END:STANDARD
BEGIN:DAYLIGHT
DTSTART:20171019T090000
RDATE:20171029T020000
TZOFFSETFROM:+0100
TZOFFSETTO:+0200
TZNAME:Europe/Berlin CEST
END:DAYLIGHT
BEGIN:DAYLIGHT
DTSTART:20180325T030000
RDATE:20181028T020000
TZOFFSETFROM:+0100
TZOFFSETTO:+0200
TZNAME:Europe/Berlin CEST
END:DAYLIGHT
BEGIN:DAYLIGHT
DTSTART:20190331T030000
RDATE:20191027T020000
TZOFFSETFROM:+0100
TZOFFSETTO:+0200
TZNAME:Europe/Berlin CEST
END:DAYLIGHT
BEGIN:DAYLIGHT
DTSTART:20200329T030000
RDATE:20201025T020000
TZOFFSETFROM:+0100
TZOFFSETTO:+0200
TZNAME:Europe/Berlin CEST
END:DAYLIGHT
BEGIN:DAYLIGHT
DTSTART:20210328T030000
RDATE:20211031T020000
TZOFFSETFROM:+0100
TZOFFSETTO:+0200
TZNAME:Europe/Berlin CEST
END:DAYLIGHT
BEGIN:DAYLIGHT
DTSTART:20220327T030000
RDATE:20221030T020000
TZOFFSETFROM:+0100
TZOFFSETTO:+0200
TZNAME:Europe/Berlin CEST
END:DAYLIGHT
BEGIN:DAYLIGHT
DTSTART:20230326T030000
RDATE:20231029T020000
TZOFFSETFROM:+0100
TZOFFSETTO:+0200
TZNAME:Europe/Berlin CEST
END:DAYLIGHT
BEGIN:DAYLIGHT
DTSTART:20240331T030000
RDATE:20241027T020000
TZOFFSETFROM:+0100
TZOFFSETTO:+0200
TZNAME:Europe/Berlin CEST
END:DAYLIGHT
BEGIN:DAYLIGHT
DTSTART:20250330T030000
RDATE:20251026T020000
TZOFFSETFROM:+0100
TZOFFSETTO:+0200
TZNAME:Europe/Berlin CEST
END:DAYLIGHT
BEGIN:DAYLIGHT
DTSTART:20260329T030000
RDATE:20261025T020000
TZOFFSETFROM:+0100
TZOFFSETTO:+0200
TZNAME:Europe/Berlin CEST
END:DAYLIGHT
BEGIN:DAYLIGHT
DTSTART:20270328T030000
RDATE:20271031T020000
TZOFFSETFROM:+0100
TZOFFSETTO:+0200
TZNAME:Europe/Berlin CEST
END:DAYLIGHT
BEGIN:DAYLIGHT
DTSTART:20280326T030000
RDATE:20281029T020000
TZOFFSETFROM:+0100
TZOFFSETTO:+0200
TZNAME:Europe/Berlin CEST
END:DAYLIGHT
BEGIN:DAYLIGHT
DTSTART:20290325T030000
RDATE:20291028T020000
TZOFFSETFROM:+0100
TZOFFSETTO:+0200
TZNAME:Europe/Berlin CEST
END:DAYLIGHT
BEGIN:DAYLIGHT
DTSTART:20300331T030000
RDATE:20301027T020000
TZOFFSETFROM:+0100
TZOFFSETTO:+0200
TZNAME:Europe/Berlin CEST
END:DAYLIGHT
END:VTIMEZONE
BEGIN:VEVENT
UID:0ba5c0f51fe23b55a6521620dc61292f
CATEGORIES:Vereinsarbeit
CREATED:20181005T111004
SUMMARY:allgem. Arbeitdienst Hafen/Messe
DESCRIPTION:Arbeitsdienst am 20. Oktober 2018, 9:00 Uhr bis 13:00 Uhr\nUm pünktliches E
 rscheinen wird gebeten!\n \nAufstellung der zu leistenden Arbeiten\n-      
   Bootsböcke ausräumen und an ihre Plätze stellen. Gasse für Autokran freil
 assen - 10 Helfer\n-        Laub harken, Laub in den Container -  2 Helfer\
 n-        Rasenflächen mähen, wo nötig. Gras in den Container - 1 Helfer\n-
         Terrassenmöbel demontieren, am Grillplatz lagern und winterfest ein
 packen - 6 Helfer\n-        Festzelttische und -bänke, abbauen und am Motor
 schuppen an der Nordseite lagern und winterfest einpacken - 2 Helfer\n-    
     Kinderspielplatz, Spielgeräte beiseite legen, Laub entfernen, Sand eine
 bnen, mit Folie abdecken - 2 Helfer\n-        Slipschienen säubern, Laub in
  den Container - 1 Helfer\n-        Rinne am Bootswaschplatz säubern, Sandf
 ang säubern - 1 Helfer\n-        Jollen, Kleinboote, Surfbretter an ihre vo
 rgegebenen Plätze verbringen (s. Lageplan) - 4 Helfer\n-        Geländer an
  Außentreppe einbauen - 2 Helfer\n-        Anstrich Tore Optilager, 2. Anst
 rich Optilager - 2 Helfer\n-        Abdeckung für Wassermesserschacht herst
 ellen. Isolieren. - 2 Helfer (Zusage für Oktober)\n-        Uferstützwand s
 äubern, entrosten, streichen - 2 Helfer\n-        Verputzen der Türlaibunge
 n am Neubau. -2 Helfer\nIch wünsche ein Gutes Gelingen! Bei Fragen hilft Jü
 rgen Küpper, Platz u. Hafen\nZur Stärkung gibt es Eintopf für alle Helfer.\
 n
X-ALT-DESC;FMTTYPE=text/html:<p><strong>Arbeitsdienst am 20. Oktober 2018, 9:00 Uhr bis 13:00 Uhr</stron
 g></p><p>Um pünktliches Erscheinen wird gebeten!</p><p><strong>&nbsp;</stro
 ng></p><p><strong>Aufstellung der zu leistenden Arbeiten</strong></p><p>-&n
 bsp;&nbsp;&nbsp;&nbsp;&nbsp;&nbsp;&nbsp; Bootsböcke ausräumen und an ihre P
 lätze stellen. Gasse für Autokran freilassen - 10 Helfer</p><p>-&nbsp;&nbsp
 ;&nbsp;&nbsp;&nbsp;&nbsp;&nbsp; Laub harken, Laub in den Container -&nbsp; 
 2 Helfer</p><p>-&nbsp;&nbsp;&nbsp;&nbsp;&nbsp;&nbsp;&nbsp; Rasenflächen mäh
 en, wo nötig. Gras in den Container - 1 Helfer</p><p>-&nbsp;&nbsp;&nbsp;&nb
 sp;&nbsp;&nbsp;&nbsp; Terrassenmöbel demontieren, am Grillplatz lagern und 
 winterfest einpacken - 6 Helfer</p><p>-&nbsp;&nbsp;&nbsp;&nbsp;&nbsp;&nbsp;
 &nbsp; Festzelttische und -bänke, abbauen und am Motorschuppen an der Nords
 eite lagern und winterfest einpacken - 2 Helfer</p><p>-&nbsp;&nbsp;&nbsp;&n
 bsp;&nbsp;&nbsp;&nbsp; Kinderspielplatz, Spielgeräte beiseite legen, Laub e
 ntfernen, Sand einebnen, mit Folie abdecken - 2 Helfer</p><p>-&nbsp;&nbsp;&
 nbsp;&nbsp;&nbsp;&nbsp;&nbsp; Slipschienen säubern, Laub in den Container -
  1 Helfer</p><p>-&nbsp;&nbsp;&nbsp;&nbsp;&nbsp;&nbsp;&nbsp; Rinne am Bootsw
 aschplatz säubern, Sandfang säubern - 1 Helfer</p><p>-&nbsp;&nbsp;&nbsp;&nb
 sp;&nbsp;&nbsp;&nbsp; Jollen, Kleinboote, Surfbretter an ihre vorgegebenen 
 Plätze verbringen (s. Lageplan) - 4 Helfer</p><p>-&nbsp;&nbsp;&nbsp;&nbsp;&
 nbsp;&nbsp;&nbsp; Geländer an Außentreppe einbauen - 2 Helfer</p><p>-&nbsp;
 &nbsp;&nbsp;&nbsp;&nbsp;&nbsp;&nbsp; Anstrich Tore Optilager, 2. Anstrich O
 ptilager - 2 Helfer</p><p>-&nbsp;&nbsp;&nbsp;&nbsp;&nbsp;&nbsp;&nbsp; Abdec
 kung für Wassermesserschacht herstellen. Isolieren. - 2 Helfer (Zusage für 
 Oktober)</p><p>-&nbsp;&nbsp;&nbsp;&nbsp;&nbsp;&nbsp;&nbsp; Uferstützwand sä
 ubern, entrosten, streichen - 2 Helfer</p><p>-&nbsp;&nbsp;&nbsp;&nbsp;&nbsp
 ;&nbsp;&nbsp; Verputzen der Türlaibungen am Neubau. -2 Helfer</p><p>Ich wün
 sche ein Gutes Gelingen! Bei Fragen hilft Jürgen Küpper, Platz u. Hafen</p>
 <p>Zur Stärkung gibt es Eintopf für alle Helfer.</p>
DTSTAMP:20260420T135223
DTSTART;TZID=Europe/Berlin:20181020T090000
SEQUENCE:0
TRANSP:OPAQUE
END:VEVENT
END:VCALENDAR