BEGIN:VCALENDAR
VERSION:2.0
PRODID:-//jEvents 2.0 for Joomla//EN
CALSCALE:GREGORIAN
METHOD:PUBLISH
BEGIN:VTIMEZONE
TZID:Europe/Berlin
BEGIN:STANDARD
DTSTART:20171029T020000
RDATE:20180325T030000
TZOFFSETFROM:+0200
TZOFFSETTO:+0100
TZNAME:Europe/Berlin CET
END:STANDARD
BEGIN:STANDARD
DTSTART:20181028T020000
RDATE:20190331T030000
TZOFFSETFROM:+0200
TZOFFSETTO:+0100
TZNAME:Europe/Berlin CET
END:STANDARD
BEGIN:STANDARD
DTSTART:20191027T020000
RDATE:20200329T030000
TZOFFSETFROM:+0200
TZOFFSETTO:+0100
TZNAME:Europe/Berlin CET
END:STANDARD
BEGIN:STANDARD
DTSTART:20201025T020000
RDATE:20210328T030000
TZOFFSETFROM:+0200
TZOFFSETTO:+0100
TZNAME:Europe/Berlin CET
END:STANDARD
BEGIN:STANDARD
DTSTART:20211031T020000
RDATE:20220327T030000
TZOFFSETFROM:+0200
TZOFFSETTO:+0100
TZNAME:Europe/Berlin CET
END:STANDARD
BEGIN:STANDARD
DTSTART:20221030T020000
RDATE:20230326T030000
TZOFFSETFROM:+0200
TZOFFSETTO:+0100
TZNAME:Europe/Berlin CET
END:STANDARD
BEGIN:STANDARD
DTSTART:20231029T020000
RDATE:20240331T030000
TZOFFSETFROM:+0200
TZOFFSETTO:+0100
TZNAME:Europe/Berlin CET
END:STANDARD
BEGIN:STANDARD
DTSTART:20241027T020000
RDATE:20250330T030000
TZOFFSETFROM:+0200
TZOFFSETTO:+0100
TZNAME:Europe/Berlin CET
END:STANDARD
BEGIN:STANDARD
DTSTART:20251026T020000
RDATE:20260329T030000
TZOFFSETFROM:+0200
TZOFFSETTO:+0100
TZNAME:Europe/Berlin CET
END:STANDARD
BEGIN:STANDARD
DTSTART:20261025T020000
RDATE:20270328T030000
TZOFFSETFROM:+0200
TZOFFSETTO:+0100
TZNAME:Europe/Berlin CET
END:STANDARD
BEGIN:STANDARD
DTSTART:20271031T020000
RDATE:20280326T030000
TZOFFSETFROM:+0200
TZOFFSETTO:+0100
TZNAME:Europe/Berlin CET
END:STANDARD
BEGIN:STANDARD
DTSTART:20281029T020000
RDATE:20290325T030000
TZOFFSETFROM:+0200
TZOFFSETTO:+0100
TZNAME:Europe/Berlin CET
END:STANDARD
BEGIN:STANDARD
DTSTART:20291028T020000
RDATE:20300331T030000
TZOFFSETFROM:+0200
TZOFFSETTO:+0100
TZNAME:Europe/Berlin CET
END:STANDARD
BEGIN:STANDARD
DTSTART:20301027T020000
RDATE:20310330T030000
TZOFFSETFROM:+0200
TZOFFSETTO:+0100
TZNAME:Europe/Berlin CET
END:STANDARD
BEGIN:DAYLIGHT
DTSTART:20170525T120000
RDATE:20171029T020000
TZOFFSETFROM:+0100
TZOFFSETTO:+0200
TZNAME:Europe/Berlin CEST
END:DAYLIGHT
BEGIN:DAYLIGHT
DTSTART:20180325T030000
RDATE:20181028T020000
TZOFFSETFROM:+0100
TZOFFSETTO:+0200
TZNAME:Europe/Berlin CEST
END:DAYLIGHT
BEGIN:DAYLIGHT
DTSTART:20190331T030000
RDATE:20191027T020000
TZOFFSETFROM:+0100
TZOFFSETTO:+0200
TZNAME:Europe/Berlin CEST
END:DAYLIGHT
BEGIN:DAYLIGHT
DTSTART:20200329T030000
RDATE:20201025T020000
TZOFFSETFROM:+0100
TZOFFSETTO:+0200
TZNAME:Europe/Berlin CEST
END:DAYLIGHT
BEGIN:DAYLIGHT
DTSTART:20210328T030000
RDATE:20211031T020000
TZOFFSETFROM:+0100
TZOFFSETTO:+0200
TZNAME:Europe/Berlin CEST
END:DAYLIGHT
BEGIN:DAYLIGHT
DTSTART:20220327T030000
RDATE:20221030T020000
TZOFFSETFROM:+0100
TZOFFSETTO:+0200
TZNAME:Europe/Berlin CEST
END:DAYLIGHT
BEGIN:DAYLIGHT
DTSTART:20230326T030000
RDATE:20231029T020000
TZOFFSETFROM:+0100
TZOFFSETTO:+0200
TZNAME:Europe/Berlin CEST
END:DAYLIGHT
BEGIN:DAYLIGHT
DTSTART:20240331T030000
RDATE:20241027T020000
TZOFFSETFROM:+0100
TZOFFSETTO:+0200
TZNAME:Europe/Berlin CEST
END:DAYLIGHT
BEGIN:DAYLIGHT
DTSTART:20250330T030000
RDATE:20251026T020000
TZOFFSETFROM:+0100
TZOFFSETTO:+0200
TZNAME:Europe/Berlin CEST
END:DAYLIGHT
BEGIN:DAYLIGHT
DTSTART:20260329T030000
RDATE:20261025T020000
TZOFFSETFROM:+0100
TZOFFSETTO:+0200
TZNAME:Europe/Berlin CEST
END:DAYLIGHT
BEGIN:DAYLIGHT
DTSTART:20270328T030000
RDATE:20271031T020000
TZOFFSETFROM:+0100
TZOFFSETTO:+0200
TZNAME:Europe/Berlin CEST
END:DAYLIGHT
BEGIN:DAYLIGHT
DTSTART:20280326T030000
RDATE:20281029T020000
TZOFFSETFROM:+0100
TZOFFSETTO:+0200
TZNAME:Europe/Berlin CEST
END:DAYLIGHT
BEGIN:DAYLIGHT
DTSTART:20290325T030000
RDATE:20291028T020000
TZOFFSETFROM:+0100
TZOFFSETTO:+0200
TZNAME:Europe/Berlin CEST
END:DAYLIGHT
BEGIN:DAYLIGHT
DTSTART:20300331T030000
RDATE:20301027T020000
TZOFFSETFROM:+0100
TZOFFSETTO:+0200
TZNAME:Europe/Berlin CEST
END:DAYLIGHT
END:VTIMEZONE
BEGIN:VEVENT
UID:71cb750f10ba2d0e2d18eb6208895132
CATEGORIES:Regatten SVSt
CREATED:20180102T101332
SUMMARY:HighNoon 2/2018
DESCRIPTION:AusschreibungHighNoon 2018/2 im SVSt am 26.05.201812.00h Start der 2.High-N
 oon-Regatta 2018 im Bereich Pichelsdorfer Gemünd\nGesegelt wird um Fahrwass
 ertonnen der Unterhavel.\nLänge der Kurse sind nach Windstärke unterschiedl
 ich. \n Bahnkarten werden ausgegeben. Steuermannsbesprechung 11.00h. \n Mel
 deschluss 26.05.2018, 9.00h Startgeld 0€\n Wertung für alle nach Yardstick 
 Berliner Liste ohne Spi +2\n Für Mitsegler aus der Jugendabteilung Yardstic
 k +1.\nEs sind weitere 2 Wettfahrten in 2018 geplant.\n Bei vier gesegelten
  Wettfahrten ein Streicher.\n Wer als erster dur chs Ziel fährt baut mit se
 iner Crew denHolzkohlegrill auf.\n Der Zweite im Ziel säubert Grillroste un
 d Grill und gibt den Grill an Frau Harnisch zurück\n Nach der Wettfahrt Seg
 lerhock am Grill. Bitte Grillgut mitbringen, Getränke hält die Ökonomie ber
 eit.\nMeldungen über  \n Vor der Meldung muss sich jeder Steuermann bei <a 
 href="https://www.manage2sail.com/de-DE/event/9abeaaa0-c813-4ebd-a15d-cdbb4
 31eddfc#!/onb?tab=documents&amp;classId=1485b9f3-17b5-4892-a890-71081bbff63
 2" target="_blank" rel="noopener">www.manage2sail.com</a> als Segler mit se
 inem Schiff und Crew einmalig und kostenlos registrieren. Die Registrierung
  kann dann bei allen weiteren Wettfahrten verwendet werden.\nIhr Sportwart 
      \nHarry Gluch        \n
X-ALT-DESC;FMTTYPE=text/html:<h3>Ausschreibung</h3><h4>HighNoon 2018/2 im SVSt am 26.05.2018</h4><p>12.0
 0h Start der 2.High-Noon-Regatta 2018 im Bereich Pichelsdorfer Gemünd</p><p
 >Gesegelt wird um Fahrwassertonnen der Unterhavel.</p><p>Länge der Kurse si
 nd nach Windstärke unterschiedlich. <br /> Bahnkarten werden ausgegeben. St
 euermannsbesprechung 11.00h. <br /> Meldeschluss 26.05.2018, 9.00h Startgel
 d 0€<br /> Wertung für alle nach Yardstick Berliner Liste ohne Spi +2<br />
  Für Mitsegler aus der Jugendabteilung Yardstick +1.</p><p>Es sind weitere 
 2 Wettfahrten in 2018 geplant.<br /> Bei vier gesegelten Wettfahrten ein St
 reicher.<br /> Wer als erster dur chs Ziel fährt baut mit seiner Crew denHo
 lzkohlegrill auf.<br /> Der Zweite im Ziel säubert Grillroste und Grill und
  gibt den Grill an Frau Harnisch zurück<br /> Nach der Wettfahrt Seglerhock
  am Grill. Bitte Grillgut mitbringen, Getränke hält die Ökonomie bereit.</p
 ><p>Meldungen über&nbsp; <a href="https://www.manage2sail.com/de-DE/event/9
 abeaaa0-c813-4ebd-a15d-cdbb431eddfc#!/onb?tab=documents&amp;classId=1485b9f
 3-17b5-4892-a890-71081bbff632" target="_blank" rel="noopener">www.manage2sa
 il.com</a><br /> Vor der Meldung muss sich jeder Steuermann bei <a href="ht
 tps://www.manage2sail.com/de-DE/event/9abeaaa0-c813-4ebd-a15d-cdbb431eddfc#
 !/onb?tab=documents&amp;classId=1485b9f3-17b5-4892-a890-71081bbff632" targe
 t="_blank" rel="noopener">www.manage2sail.com</a> als Segler mit seinem Sch
 iff und Crew einmalig und kostenlos registrieren. Die Registrierung kann da
 nn bei allen weiteren Wettfahrten verwendet werden.</p><p>Ihr Sportwart&nbs
 p;&nbsp;&nbsp;&nbsp;&nbsp; <br />Harry Gluch&nbsp;&nbsp;&nbsp;&nbsp;&nbsp;&
 nbsp;&nbsp;&nbsp;</p>
DTSTAMP:20260420T080659
DTSTART;TZID=Europe/Berlin:20180526T120000
SEQUENCE:0
TRANSP:OPAQUE
END:VEVENT
END:VCALENDAR