BEGIN:VCALENDAR
VERSION:2.0
PRODID:-//jEvents 2.0 for Joomla//EN
CALSCALE:GREGORIAN
METHOD:PUBLISH
BEGIN:VTIMEZONE
TZID:Europe/Berlin
BEGIN:STANDARD
DTSTART:20161216T150000
RDATE:20170326T030000
TZOFFSETFROM:+0200
TZOFFSETTO:+0100
TZNAME:Europe/Berlin CET
END:STANDARD
BEGIN:STANDARD
DTSTART:20171029T020000
RDATE:20180325T030000
TZOFFSETFROM:+0200
TZOFFSETTO:+0100
TZNAME:Europe/Berlin CET
END:STANDARD
BEGIN:STANDARD
DTSTART:20181028T020000
RDATE:20190331T030000
TZOFFSETFROM:+0200
TZOFFSETTO:+0100
TZNAME:Europe/Berlin CET
END:STANDARD
BEGIN:STANDARD
DTSTART:20191027T020000
RDATE:20200329T030000
TZOFFSETFROM:+0200
TZOFFSETTO:+0100
TZNAME:Europe/Berlin CET
END:STANDARD
BEGIN:STANDARD
DTSTART:20201025T020000
RDATE:20210328T030000
TZOFFSETFROM:+0200
TZOFFSETTO:+0100
TZNAME:Europe/Berlin CET
END:STANDARD
BEGIN:STANDARD
DTSTART:20211031T020000
RDATE:20220327T030000
TZOFFSETFROM:+0200
TZOFFSETTO:+0100
TZNAME:Europe/Berlin CET
END:STANDARD
BEGIN:STANDARD
DTSTART:20221030T020000
RDATE:20230326T030000
TZOFFSETFROM:+0200
TZOFFSETTO:+0100
TZNAME:Europe/Berlin CET
END:STANDARD
BEGIN:STANDARD
DTSTART:20231029T020000
RDATE:20240331T030000
TZOFFSETFROM:+0200
TZOFFSETTO:+0100
TZNAME:Europe/Berlin CET
END:STANDARD
BEGIN:STANDARD
DTSTART:20241027T020000
RDATE:20250330T030000
TZOFFSETFROM:+0200
TZOFFSETTO:+0100
TZNAME:Europe/Berlin CET
END:STANDARD
BEGIN:STANDARD
DTSTART:20251026T020000
RDATE:20260329T030000
TZOFFSETFROM:+0200
TZOFFSETTO:+0100
TZNAME:Europe/Berlin CET
END:STANDARD
BEGIN:STANDARD
DTSTART:20261025T020000
RDATE:20270328T030000
TZOFFSETFROM:+0200
TZOFFSETTO:+0100
TZNAME:Europe/Berlin CET
END:STANDARD
BEGIN:STANDARD
DTSTART:20271031T020000
RDATE:20280326T030000
TZOFFSETFROM:+0200
TZOFFSETTO:+0100
TZNAME:Europe/Berlin CET
END:STANDARD
BEGIN:STANDARD
DTSTART:20281029T020000
RDATE:20290325T030000
TZOFFSETFROM:+0200
TZOFFSETTO:+0100
TZNAME:Europe/Berlin CET
END:STANDARD
BEGIN:STANDARD
DTSTART:20291028T020000
RDATE:20300331T030000
TZOFFSETFROM:+0200
TZOFFSETTO:+0100
TZNAME:Europe/Berlin CET
END:STANDARD
BEGIN:STANDARD
DTSTART:20301027T020000
RDATE:20310330T030000
TZOFFSETFROM:+0200
TZOFFSETTO:+0100
TZNAME:Europe/Berlin CET
END:STANDARD
BEGIN:DAYLIGHT
DTSTART:20170326T030000
RDATE:20171029T020000
TZOFFSETFROM:+0100
TZOFFSETTO:+0200
TZNAME:Europe/Berlin CEST
END:DAYLIGHT
BEGIN:DAYLIGHT
DTSTART:20180325T030000
RDATE:20181028T020000
TZOFFSETFROM:+0100
TZOFFSETTO:+0200
TZNAME:Europe/Berlin CEST
END:DAYLIGHT
BEGIN:DAYLIGHT
DTSTART:20190331T030000
RDATE:20191027T020000
TZOFFSETFROM:+0100
TZOFFSETTO:+0200
TZNAME:Europe/Berlin CEST
END:DAYLIGHT
BEGIN:DAYLIGHT
DTSTART:20200329T030000
RDATE:20201025T020000
TZOFFSETFROM:+0100
TZOFFSETTO:+0200
TZNAME:Europe/Berlin CEST
END:DAYLIGHT
BEGIN:DAYLIGHT
DTSTART:20210328T030000
RDATE:20211031T020000
TZOFFSETFROM:+0100
TZOFFSETTO:+0200
TZNAME:Europe/Berlin CEST
END:DAYLIGHT
BEGIN:DAYLIGHT
DTSTART:20220327T030000
RDATE:20221030T020000
TZOFFSETFROM:+0100
TZOFFSETTO:+0200
TZNAME:Europe/Berlin CEST
END:DAYLIGHT
BEGIN:DAYLIGHT
DTSTART:20230326T030000
RDATE:20231029T020000
TZOFFSETFROM:+0100
TZOFFSETTO:+0200
TZNAME:Europe/Berlin CEST
END:DAYLIGHT
BEGIN:DAYLIGHT
DTSTART:20240331T030000
RDATE:20241027T020000
TZOFFSETFROM:+0100
TZOFFSETTO:+0200
TZNAME:Europe/Berlin CEST
END:DAYLIGHT
BEGIN:DAYLIGHT
DTSTART:20250330T030000
RDATE:20251026T020000
TZOFFSETFROM:+0100
TZOFFSETTO:+0200
TZNAME:Europe/Berlin CEST
END:DAYLIGHT
BEGIN:DAYLIGHT
DTSTART:20260329T030000
RDATE:20261025T020000
TZOFFSETFROM:+0100
TZOFFSETTO:+0200
TZNAME:Europe/Berlin CEST
END:DAYLIGHT
BEGIN:DAYLIGHT
DTSTART:20270328T030000
RDATE:20271031T020000
TZOFFSETFROM:+0100
TZOFFSETTO:+0200
TZNAME:Europe/Berlin CEST
END:DAYLIGHT
BEGIN:DAYLIGHT
DTSTART:20280326T030000
RDATE:20281029T020000
TZOFFSETFROM:+0100
TZOFFSETTO:+0200
TZNAME:Europe/Berlin CEST
END:DAYLIGHT
BEGIN:DAYLIGHT
DTSTART:20290325T030000
RDATE:20291028T020000
TZOFFSETFROM:+0100
TZOFFSETTO:+0200
TZNAME:Europe/Berlin CEST
END:DAYLIGHT
BEGIN:DAYLIGHT
DTSTART:20300331T030000
RDATE:20301027T020000
TZOFFSETFROM:+0100
TZOFFSETTO:+0200
TZNAME:Europe/Berlin CEST
END:DAYLIGHT
END:VTIMEZONE
BEGIN:VEVENT
UID:7473e1b87f266b74d50a794a32dca14c
CATEGORIES:SVSt Veranstaltungen
CREATED:20170823T065544
SUMMARY:3. Advent & SVSt-Weihnachtsfeier
DESCRIPTION:Alle Jahre wieder ... warten die SVSt-Mitglieder und besonders deren Kinder
  am 3. Advent \nauf den Weihnachtsmann.\nAb 15 Uhr gibt es eine Stärkung; d
 ie Mitglieder kredenzen ein Kuchenbuffet und die \nÖkonomie spendiert Kaffe
 e und Tee.\nUm 16 Uhr beginnt die Kinder-Weihnacht mit Kasperle-Theater, de
 r beliebten Eisenbahn,\n die durch eine schön dekorierte Weihnachtslandscha
 ft mit vielen bunten Tellern fährt.\nKinderaugen leuchten und bei den Erwac
 hsenen werden Erinnerungen wach.\nAlle singen Weihnachtslieder und dann kom
 mt endlich der Weihnachtsmann - \nund belohnt die Kinder, die ein Gedicht a
 ufsagen mit Geschenken.\nDie kleinen und die großen Gäste können sich auf P
 reise aus der Tombola freuen \nund zum Ausklang gibt es eine leckere Suppe,
  zu der die Ökonomie alle einlädt.\nChristkind Eva Hering freut sich auf An
 meldungen! Bitte per Diese E-Mail-Adresse ist vor Spambots geschützt! Zur A
 nzeige muss JavaScript eingeschaltet sein!
				document.getElementById('clo
 ak34f6858d133a88d5c82687ed31500183').innerHTML = '';
				var prefix = '&#10
 9;a' + 'i&#108;' + '&#116;o';
				var path = 'hr' + 'ef' + '=';
				var add
 y34f6858d133a88d5c82687ed31500183 = 'h&#101;r&#105;ng.&#101;v&#97;-m&#97;r&
 #105;&#101;' + '&#64;';
				addy34f6858d133a88d5c82687ed31500183 = addy34f6
 858d133a88d5c82687ed31500183 + 't-&#111;nl&#105;n&#101;' + '&#46;' + 'd&#10
 1;';
				var addy_text34f6858d133a88d5c82687ed31500183 = 'E-M&#97;&#105;l';
 document.getElementById('cloak34f6858d133a88d5c82687ed31500183').innerHTML 
 += '<a ' + path + '\'' + prefix + ':' + addy34f6858d133a88d5c82687ed3150018
 3 + '\'>'+addy_text34f6858d133a88d5c82687ed31500183+'';
		 oder per \nTelef
 on 03322 4253394, in der aushängenden Liste oder direkt bei der Ökonomie.\n
X-ALT-DESC;FMTTYPE=text/html:<p>Alle Jahre wieder ... warten die SVSt-Mitglieder und besonders deren Kin
 der am 3. Advent <br />auf den Weihnachtsmann.</p><hr id="system-readmore" 
 /><p>Ab 15 Uhr gibt es eine Stärkung; die Mitglieder kredenzen ein Kuchenbu
 ffet und die <br />Ökonomie spendiert Kaffee und Tee.</p><p>Um 16 Uhr begin
 nt die Kinder-Weihnacht mit Kasperle-Theater, der beliebten Eisenbahn,<br /
 > die durch eine schön dekorierte Weihnachtslandschaft mit vielen bunten Te
 llern fährt.</p><p>Kinderaugen leuchten und bei den Erwachsenen werden Erin
 nerungen wach.</p><p>Alle singen Weihnachtslieder und dann kommt endlich de
 r Weihnachtsmann - <br />und belohnt die Kinder, die ein Gedicht aufsagen m
 it Geschenken.</p><p>Die kleinen und die großen Gäste können sich auf Preis
 e aus der Tombola freuen <br />und zum Ausklang gibt es eine leckere Suppe,
  zu der die Ökonomie alle einlädt.</p><p>Christkind Eva Hering freut sich a
 uf Anmeldungen! Bitte per <span id="cloak34f6858d133a88d5c82687ed31500183">
 Diese E-Mail-Adresse ist vor Spambots geschützt! Zur Anzeige muss JavaScrip
 t eingeschaltet sein!</span><script type='text/javascript'>
				document.ge
 tElementById('cloak34f6858d133a88d5c82687ed31500183').innerHTML = '';
				v
 ar prefix = '&#109;a' + 'i&#108;' + '&#116;o';
				var path = 'hr' + 'ef' +
  '=';
				var addy34f6858d133a88d5c82687ed31500183 = 'h&#101;r&#105;ng.&#10
 1;v&#97;-m&#97;r&#105;&#101;' + '&#64;';
				addy34f6858d133a88d5c82687ed31
 500183 = addy34f6858d133a88d5c82687ed31500183 + 't-&#111;nl&#105;n&#101;' +
  '&#46;' + 'd&#101;';
				var addy_text34f6858d133a88d5c82687ed31500183 = '
 E-M&#97;&#105;l';document.getElementById('cloak34f6858d133a88d5c82687ed3150
 0183').innerHTML += '<a ' + path + '\'' + prefix + ':' + addy34f6858d133a88
 d5c82687ed31500183 + '\'>'+addy_text34f6858d133a88d5c82687ed31500183+'<\/a>
 ';
		</script> oder per <br />Telefon 03322 4253394, in der aushängenden Li
 ste oder direkt bei der Ökonomie.</p>
DTSTAMP:20260420T100651
DTSTART;TZID=Europe/Berlin:20171217T150000
SEQUENCE:0
TRANSP:OPAQUE
END:VEVENT
END:VCALENDAR