BEGIN:VCALENDAR
VERSION:2.0
PRODID:-//jEvents 2.0 for Joomla//EN
CALSCALE:GREGORIAN
METHOD:PUBLISH
BEGIN:VTIMEZONE
TZID:Europe/Berlin
BEGIN:STANDARD
DTSTART:20161030T020000
RDATE:20170326T030000
TZOFFSETFROM:+0200
TZOFFSETTO:+0100
TZNAME:Europe/Berlin CET
END:STANDARD
BEGIN:STANDARD
DTSTART:20171029T020000
RDATE:20180325T030000
TZOFFSETFROM:+0200
TZOFFSETTO:+0100
TZNAME:Europe/Berlin CET
END:STANDARD
BEGIN:STANDARD
DTSTART:20181028T020000
RDATE:20190331T030000
TZOFFSETFROM:+0200
TZOFFSETTO:+0100
TZNAME:Europe/Berlin CET
END:STANDARD
BEGIN:STANDARD
DTSTART:20191027T020000
RDATE:20200329T030000
TZOFFSETFROM:+0200
TZOFFSETTO:+0100
TZNAME:Europe/Berlin CET
END:STANDARD
BEGIN:STANDARD
DTSTART:20201025T020000
RDATE:20210328T030000
TZOFFSETFROM:+0200
TZOFFSETTO:+0100
TZNAME:Europe/Berlin CET
END:STANDARD
BEGIN:STANDARD
DTSTART:20211031T020000
RDATE:20220327T030000
TZOFFSETFROM:+0200
TZOFFSETTO:+0100
TZNAME:Europe/Berlin CET
END:STANDARD
BEGIN:STANDARD
DTSTART:20221030T020000
RDATE:20230326T030000
TZOFFSETFROM:+0200
TZOFFSETTO:+0100
TZNAME:Europe/Berlin CET
END:STANDARD
BEGIN:STANDARD
DTSTART:20231029T020000
RDATE:20240331T030000
TZOFFSETFROM:+0200
TZOFFSETTO:+0100
TZNAME:Europe/Berlin CET
END:STANDARD
BEGIN:STANDARD
DTSTART:20241027T020000
RDATE:20250330T030000
TZOFFSETFROM:+0200
TZOFFSETTO:+0100
TZNAME:Europe/Berlin CET
END:STANDARD
BEGIN:STANDARD
DTSTART:20251026T020000
RDATE:20260329T030000
TZOFFSETFROM:+0200
TZOFFSETTO:+0100
TZNAME:Europe/Berlin CET
END:STANDARD
BEGIN:STANDARD
DTSTART:20261025T020000
RDATE:20270328T030000
TZOFFSETFROM:+0200
TZOFFSETTO:+0100
TZNAME:Europe/Berlin CET
END:STANDARD
BEGIN:STANDARD
DTSTART:20271031T020000
RDATE:20280326T030000
TZOFFSETFROM:+0200
TZOFFSETTO:+0100
TZNAME:Europe/Berlin CET
END:STANDARD
BEGIN:STANDARD
DTSTART:20281029T020000
RDATE:20290325T030000
TZOFFSETFROM:+0200
TZOFFSETTO:+0100
TZNAME:Europe/Berlin CET
END:STANDARD
BEGIN:STANDARD
DTSTART:20291028T020000
RDATE:20300331T030000
TZOFFSETFROM:+0200
TZOFFSETTO:+0100
TZNAME:Europe/Berlin CET
END:STANDARD
BEGIN:STANDARD
DTSTART:20301027T020000
RDATE:20310330T030000
TZOFFSETFROM:+0200
TZOFFSETTO:+0100
TZNAME:Europe/Berlin CET
END:STANDARD
BEGIN:DAYLIGHT
DTSTART:20160503T190000
RDATE:20161030T020000
TZOFFSETFROM:+0100
TZOFFSETTO:+0200
TZNAME:Europe/Berlin CEST
END:DAYLIGHT
BEGIN:DAYLIGHT
DTSTART:20170326T030000
RDATE:20171029T020000
TZOFFSETFROM:+0100
TZOFFSETTO:+0200
TZNAME:Europe/Berlin CEST
END:DAYLIGHT
BEGIN:DAYLIGHT
DTSTART:20180325T030000
RDATE:20181028T020000
TZOFFSETFROM:+0100
TZOFFSETTO:+0200
TZNAME:Europe/Berlin CEST
END:DAYLIGHT
BEGIN:DAYLIGHT
DTSTART:20190331T030000
RDATE:20191027T020000
TZOFFSETFROM:+0100
TZOFFSETTO:+0200
TZNAME:Europe/Berlin CEST
END:DAYLIGHT
BEGIN:DAYLIGHT
DTSTART:20200329T030000
RDATE:20201025T020000
TZOFFSETFROM:+0100
TZOFFSETTO:+0200
TZNAME:Europe/Berlin CEST
END:DAYLIGHT
BEGIN:DAYLIGHT
DTSTART:20210328T030000
RDATE:20211031T020000
TZOFFSETFROM:+0100
TZOFFSETTO:+0200
TZNAME:Europe/Berlin CEST
END:DAYLIGHT
BEGIN:DAYLIGHT
DTSTART:20220327T030000
RDATE:20221030T020000
TZOFFSETFROM:+0100
TZOFFSETTO:+0200
TZNAME:Europe/Berlin CEST
END:DAYLIGHT
BEGIN:DAYLIGHT
DTSTART:20230326T030000
RDATE:20231029T020000
TZOFFSETFROM:+0100
TZOFFSETTO:+0200
TZNAME:Europe/Berlin CEST
END:DAYLIGHT
BEGIN:DAYLIGHT
DTSTART:20240331T030000
RDATE:20241027T020000
TZOFFSETFROM:+0100
TZOFFSETTO:+0200
TZNAME:Europe/Berlin CEST
END:DAYLIGHT
BEGIN:DAYLIGHT
DTSTART:20250330T030000
RDATE:20251026T020000
TZOFFSETFROM:+0100
TZOFFSETTO:+0200
TZNAME:Europe/Berlin CEST
END:DAYLIGHT
BEGIN:DAYLIGHT
DTSTART:20260329T030000
RDATE:20261025T020000
TZOFFSETFROM:+0100
TZOFFSETTO:+0200
TZNAME:Europe/Berlin CEST
END:DAYLIGHT
BEGIN:DAYLIGHT
DTSTART:20270328T030000
RDATE:20271031T020000
TZOFFSETFROM:+0100
TZOFFSETTO:+0200
TZNAME:Europe/Berlin CEST
END:DAYLIGHT
BEGIN:DAYLIGHT
DTSTART:20280326T030000
RDATE:20281029T020000
TZOFFSETFROM:+0100
TZOFFSETTO:+0200
TZNAME:Europe/Berlin CEST
END:DAYLIGHT
BEGIN:DAYLIGHT
DTSTART:20290325T030000
RDATE:20291028T020000
TZOFFSETFROM:+0100
TZOFFSETTO:+0200
TZNAME:Europe/Berlin CEST
END:DAYLIGHT
BEGIN:DAYLIGHT
DTSTART:20300331T030000
RDATE:20301027T020000
TZOFFSETFROM:+0100
TZOFFSETTO:+0200
TZNAME:Europe/Berlin CEST
END:DAYLIGHT
END:VTIMEZONE
BEGIN:VEVENT
UID:be267ab0c3c6929df4d6faecab4bcd93
CATEGORIES:SVSt Veranstaltungen
CREATED:20170418T185032
SUMMARY:Regatta-Einweisung
DESCRIPTION:Unser Verein richtet in diesem Jahr vier Regatten aus. Für die Organisation
  wird jede Hand, an Land und auf dem Wasser, gebraucht. Wir möchten alle Mi
 tglieder informieren, welche Aufgaben zu übernehmen sind. Wie ist die Aufga
 benverteilung auf dem Wasser und an Land?\n Über diese Themen wollen wir un
 s am 4.5.2017 um 19.00 Uhr im Vereinshaus austauschen.\n Die Idee ist, ein 
 Sportteam zu bilden, in dem interessierte Mitglieder ausgebildet werden, um
  mitzuarbeiten damit alle Regatten ein Erfolg werden.\n Wir bitten um rege 
 Teilnahme und freuen uns über Anmeldungen per E-Mail, SMS oder Anruf. Wer s
 chon jetzt weiß, bei welchen Regatten eine Mitarbeit möglich ist, kann sich
  auch gerne schon fest einteilen lassen.\nH-Jollen Seenkampf: 7.-8. August 
 \n H-Jollen IDM: 9.-13. August\n Berolina Cup: 19.-20. August\n Stößenseepo
 kal: 09.-10.September\n Berliner Meisterschaft Nordische Folkeboote - 75 Ja
 hre Folkeboote: 29. September - 2.Oktober\nMit sportlichen Grüßen \n Jens M
 erda Wettfahrtleiter, Jörn Merda Wettfahrtleiter\nHarry Gluch Wettfahrtleit
 er/Sportwart   Diese E-Mail-Adresse ist vor Spambots geschützt! Zur Anzeige
  muss JavaScript eingeschaltet sein!
				document.getElementById('cloaka806
 7d907df2ab1f32bce65ad7b2a134').innerHTML = '';
				var prefix = '&#109;a' +
  'i&#108;' + '&#116;o';
				var path = 'hr' + 'ef' + '=';
				var addya8067
 d907df2ab1f32bce65ad7b2a134 = 'sp&#111;rt' + '&#64;';
				addya8067d907df2a
 b1f32bce65ad7b2a134 = addya8067d907df2ab1f32bce65ad7b2a134 + 'svst' + '&#46
 ;' + 'd&#101;';
				var addy_texta8067d907df2ab1f32bce65ad7b2a134 = 'sp&#11
 1;rt' + '&#64;' + 'svst' + '&#46;' + 'd&#101;';document.getElementById('clo
 aka8067d907df2ab1f32bce65ad7b2a134').innerHTML += '<a ' + path + '\'' + pre
 fix + ':' + addya8067d907df2ab1f32bce65ad7b2a134 + '\'>'+addy_texta8067d907
 df2ab1f32bce65ad7b2a134+'';
		, 0176 45700998\n
X-ALT-DESC;FMTTYPE=text/html:<p>Unser Verein richtet in diesem Jahr <strong>vier Regatten</strong> aus. 
 F&uuml;r die Organisation wird jede Hand, an Land und auf dem Wasser, gebra
 ucht. Wir m&ouml;chten alle Mitglieder informieren, welche Aufgaben zu &uum
 l;bernehmen sind. Wie ist die Aufgabenverteilung auf dem Wasser und an Land
 ?<br /> <strong>&Uuml;ber diese Themen wollen wir uns am 4.5.2017 um 19.00 
 Uhr im Vereinshaus austauschen</strong>.<br /> Die Idee ist, ein <strong>Sp
 ortteam</strong> zu bilden, in dem interessierte Mitglieder ausgebildet wer
 den, um mitzuarbeiten damit alle Regatten ein Erfolg werden.<br /> Wir bitt
 en um rege Teilnahme und freuen uns &uuml;ber Anmeldungen per E-Mail, SMS o
 der Anruf. Wer schon jetzt wei&szlig;, bei welchen Regatten eine Mitarbeit 
 m&ouml;glich ist, kann sich auch gerne schon fest einteilen lassen.</p><p>H
 -Jollen Seenkampf: 7.-8. August <br /> H-Jollen IDM: 9.-13. August<br /> Be
 rolina Cup: 19.-20. August<br /> St&ouml;&szlig;enseepokal: 09.-10.Septembe
 r<br /> Berliner Meisterschaft Nordische Folkeboote - 75 Jahre Folkeboote: 
 29. September - 2.Oktober</p><p>Mit sportlichen Gr&uuml;&szlig;en <br /> Je
 ns Merda Wettfahrtleiter, J&ouml;rn Merda Wettfahrtleiter</p><p>Harry Gluch
  Wettfahrtleiter/Sportwart&nbsp;&nbsp; <span id="cloaka8067d907df2ab1f32bce
 65ad7b2a134">Diese E-Mail-Adresse ist vor Spambots geschützt! Zur Anzeige m
 uss JavaScript eingeschaltet sein!</span><script type='text/javascript'>
		
 		document.getElementById('cloaka8067d907df2ab1f32bce65ad7b2a134').innerHTM
 L = '';
				var prefix = '&#109;a' + 'i&#108;' + '&#116;o';
				var path = 
 'hr' + 'ef' + '=';
				var addya8067d907df2ab1f32bce65ad7b2a134 = 'sp&#111;
 rt' + '&#64;';
				addya8067d907df2ab1f32bce65ad7b2a134 = addya8067d907df2a
 b1f32bce65ad7b2a134 + 'svst' + '&#46;' + 'd&#101;';
				var addy_texta8067d
 907df2ab1f32bce65ad7b2a134 = 'sp&#111;rt' + '&#64;' + 'svst' + '&#46;' + 'd
 &#101;';document.getElementById('cloaka8067d907df2ab1f32bce65ad7b2a134').in
 nerHTML += '<a ' + path + '\'' + prefix + ':' + addya8067d907df2ab1f32bce65
 ad7b2a134 + '\'>'+addy_texta8067d907df2ab1f32bce65ad7b2a134+'<\/a>';
		</sc
 ript>, 0176 45700998</p>
DTSTAMP:20260420T132447
DTSTART;TZID=Europe/Berlin:20170504T190000
SEQUENCE:0
TRANSP:OPAQUE
END:VEVENT
END:VCALENDAR