BEGIN:VCALENDAR
VERSION:2.0
PRODID:-//jEvents 2.0 for Joomla//EN
CALSCALE:GREGORIAN
METHOD:PUBLISH
BEGIN:VTIMEZONE
TZID:Europe/Berlin
BEGIN:STANDARD
DTSTART:20160318T130000
RDATE:20160327T030000
TZOFFSETFROM:+0200
TZOFFSETTO:+0100
TZNAME:Europe/Berlin CET
END:STANDARD
BEGIN:STANDARD
DTSTART:20161030T020000
RDATE:20170326T030000
TZOFFSETFROM:+0200
TZOFFSETTO:+0100
TZNAME:Europe/Berlin CET
END:STANDARD
BEGIN:STANDARD
DTSTART:20171029T020000
RDATE:20180325T030000
TZOFFSETFROM:+0200
TZOFFSETTO:+0100
TZNAME:Europe/Berlin CET
END:STANDARD
BEGIN:STANDARD
DTSTART:20181028T020000
RDATE:20190331T030000
TZOFFSETFROM:+0200
TZOFFSETTO:+0100
TZNAME:Europe/Berlin CET
END:STANDARD
BEGIN:STANDARD
DTSTART:20191027T020000
RDATE:20200329T030000
TZOFFSETFROM:+0200
TZOFFSETTO:+0100
TZNAME:Europe/Berlin CET
END:STANDARD
BEGIN:STANDARD
DTSTART:20201025T020000
RDATE:20210328T030000
TZOFFSETFROM:+0200
TZOFFSETTO:+0100
TZNAME:Europe/Berlin CET
END:STANDARD
BEGIN:STANDARD
DTSTART:20211031T020000
RDATE:20220327T030000
TZOFFSETFROM:+0200
TZOFFSETTO:+0100
TZNAME:Europe/Berlin CET
END:STANDARD
BEGIN:STANDARD
DTSTART:20221030T020000
RDATE:20230326T030000
TZOFFSETFROM:+0200
TZOFFSETTO:+0100
TZNAME:Europe/Berlin CET
END:STANDARD
BEGIN:STANDARD
DTSTART:20231029T020000
RDATE:20240331T030000
TZOFFSETFROM:+0200
TZOFFSETTO:+0100
TZNAME:Europe/Berlin CET
END:STANDARD
BEGIN:STANDARD
DTSTART:20241027T020000
RDATE:20250330T030000
TZOFFSETFROM:+0200
TZOFFSETTO:+0100
TZNAME:Europe/Berlin CET
END:STANDARD
BEGIN:STANDARD
DTSTART:20251026T020000
RDATE:20260329T030000
TZOFFSETFROM:+0200
TZOFFSETTO:+0100
TZNAME:Europe/Berlin CET
END:STANDARD
BEGIN:STANDARD
DTSTART:20261025T020000
RDATE:20270328T030000
TZOFFSETFROM:+0200
TZOFFSETTO:+0100
TZNAME:Europe/Berlin CET
END:STANDARD
BEGIN:STANDARD
DTSTART:20271031T020000
RDATE:20280326T030000
TZOFFSETFROM:+0200
TZOFFSETTO:+0100
TZNAME:Europe/Berlin CET
END:STANDARD
BEGIN:STANDARD
DTSTART:20281029T020000
RDATE:20290325T030000
TZOFFSETFROM:+0200
TZOFFSETTO:+0100
TZNAME:Europe/Berlin CET
END:STANDARD
BEGIN:STANDARD
DTSTART:20291028T020000
RDATE:20300331T030000
TZOFFSETFROM:+0200
TZOFFSETTO:+0100
TZNAME:Europe/Berlin CET
END:STANDARD
BEGIN:STANDARD
DTSTART:20301027T020000
RDATE:20310330T030000
TZOFFSETFROM:+0200
TZOFFSETTO:+0100
TZNAME:Europe/Berlin CET
END:STANDARD
BEGIN:DAYLIGHT
DTSTART:20160327T030000
RDATE:20161030T020000
TZOFFSETFROM:+0100
TZOFFSETTO:+0200
TZNAME:Europe/Berlin CEST
END:DAYLIGHT
BEGIN:DAYLIGHT
DTSTART:20170326T030000
RDATE:20171029T020000
TZOFFSETFROM:+0100
TZOFFSETTO:+0200
TZNAME:Europe/Berlin CEST
END:DAYLIGHT
BEGIN:DAYLIGHT
DTSTART:20180325T030000
RDATE:20181028T020000
TZOFFSETFROM:+0100
TZOFFSETTO:+0200
TZNAME:Europe/Berlin CEST
END:DAYLIGHT
BEGIN:DAYLIGHT
DTSTART:20190331T030000
RDATE:20191027T020000
TZOFFSETFROM:+0100
TZOFFSETTO:+0200
TZNAME:Europe/Berlin CEST
END:DAYLIGHT
BEGIN:DAYLIGHT
DTSTART:20200329T030000
RDATE:20201025T020000
TZOFFSETFROM:+0100
TZOFFSETTO:+0200
TZNAME:Europe/Berlin CEST
END:DAYLIGHT
BEGIN:DAYLIGHT
DTSTART:20210328T030000
RDATE:20211031T020000
TZOFFSETFROM:+0100
TZOFFSETTO:+0200
TZNAME:Europe/Berlin CEST
END:DAYLIGHT
BEGIN:DAYLIGHT
DTSTART:20220327T030000
RDATE:20221030T020000
TZOFFSETFROM:+0100
TZOFFSETTO:+0200
TZNAME:Europe/Berlin CEST
END:DAYLIGHT
BEGIN:DAYLIGHT
DTSTART:20230326T030000
RDATE:20231029T020000
TZOFFSETFROM:+0100
TZOFFSETTO:+0200
TZNAME:Europe/Berlin CEST
END:DAYLIGHT
BEGIN:DAYLIGHT
DTSTART:20240331T030000
RDATE:20241027T020000
TZOFFSETFROM:+0100
TZOFFSETTO:+0200
TZNAME:Europe/Berlin CEST
END:DAYLIGHT
BEGIN:DAYLIGHT
DTSTART:20250330T030000
RDATE:20251026T020000
TZOFFSETFROM:+0100
TZOFFSETTO:+0200
TZNAME:Europe/Berlin CEST
END:DAYLIGHT
BEGIN:DAYLIGHT
DTSTART:20260329T030000
RDATE:20261025T020000
TZOFFSETFROM:+0100
TZOFFSETTO:+0200
TZNAME:Europe/Berlin CEST
END:DAYLIGHT
BEGIN:DAYLIGHT
DTSTART:20270328T030000
RDATE:20271031T020000
TZOFFSETFROM:+0100
TZOFFSETTO:+0200
TZNAME:Europe/Berlin CEST
END:DAYLIGHT
BEGIN:DAYLIGHT
DTSTART:20280326T030000
RDATE:20281029T020000
TZOFFSETFROM:+0100
TZOFFSETTO:+0200
TZNAME:Europe/Berlin CEST
END:DAYLIGHT
BEGIN:DAYLIGHT
DTSTART:20290325T030000
RDATE:20291028T020000
TZOFFSETFROM:+0100
TZOFFSETTO:+0200
TZNAME:Europe/Berlin CEST
END:DAYLIGHT
BEGIN:DAYLIGHT
DTSTART:20300331T030000
RDATE:20301027T020000
TZOFFSETFROM:+0100
TZOFFSETTO:+0200
TZNAME:Europe/Berlin CEST
END:DAYLIGHT
END:VTIMEZONE
BEGIN:VEVENT
UID:ef55b59be109b0f4dc7a1dbe01bc33d8
CATEGORIES:Termine der Berliner Seglerwelt
CREATED:20170228T140330
SUMMARY:VSaW: Basar für die Jugendabteilung
DESCRIPTION:gebraucht &amp; neu - kaufen &amp; verkaufen\nWie in jedem Jahr veranstalte
 t der VSaW einen Basar für die Jugendabteilung, damit die Kids optimal auf 
 die Segelsaison vorbereitet sind, und lädt dazu die Jugendmitglieder der Ve
 reine rund um Wannseee und Unterhavel mit ihren Eltern ein.\nAuf dem Basar 
 im VSaW werden gebrauchte und neue Segelkleidungsstücke angeboten. Unterand
 erem wird Mike Zok einige Sachen aus seinem Laden anbieten. Es besteht auch
  die Möglichkeit eigene Sachen zu verkaufen, die nicht mehr passen bzw. ben
 ötigt werden. Um eine rechtzeitige Anmeldung beim VSaW wird gebeten.\nVerei
 n Seglerhaus am Wannsee, Am Großen Wannsee 22-26, 14109 Berlin \nTel. +49  
 (30)  805 20 06, Fax +49 (30)  805 11 56, \nE-Mail:  (http://www.vsaw.de/)<
 a href="mailto:vsaw@vsaw.de,">Diese E-Mail-Adresse ist vor Spambots geschüt
 zt! Zur Anzeige muss JavaScript eingeschaltet sein!
				document.getElement
 ById('cloaka3ba6e4882511477329041b70442ebca').innerHTML = '';
				var prefi
 x = '&#109;a' + 'i&#108;' + '&#116;o';
				var path = 'hr' + 'ef' + '=';
		
 		var addya3ba6e4882511477329041b70442ebca = 'vs&#97;w' + '&#64;';
				addy
 a3ba6e4882511477329041b70442ebca = addya3ba6e4882511477329041b70442ebca + '
 vs&#97;w' + '&#46;' + 'd&#101;';
				var addy_texta3ba6e4882511477329041b70
 442ebca = 'vs&#97;w' + '&#64;' + 'vs&#97;w' + '&#46;' + 'd&#101;';document.
 getElementById('cloaka3ba6e4882511477329041b70442ebca').innerHTML += '<a ' 
 + path + '\'' + prefix + ':' + addya3ba6e4882511477329041b70442ebca + '\'>'
 +addy_texta3ba6e4882511477329041b70442ebca+'';
		,</a> www.vsaw.de\n
X-ALT-DESC;FMTTYPE=text/html:<p>gebraucht &amp; neu - kaufen &amp; verkaufen</p><p>Wie in jedem Jahr ver
 anstaltet der <strong>VSaW</strong> einen <strong>Basar f&uuml;r die Jugend
 </strong>abteilung, damit die Kids optimal auf die Segelsaison vorbereitet 
 sind, und l&auml;dt dazu die Jugendmitglieder der Vereine rund um Wannseee 
 und Unterhavel mit ihren Eltern ein.</p><p>Auf dem Basar im VSaW werden geb
 rauchte und neue Segelkleidungsst&uuml;cke angeboten. Unteranderem wird Mik
 e Zok einige Sachen aus seinem Laden anbieten. Es besteht auch die M&ouml;g
 lichkeit eigene Sachen zu verkaufen, die nicht mehr passen bzw. ben&ouml;ti
 gt werden. Um eine rechtzeitige Anmeldung beim VSaW wird gebeten.</p><p><sp
 an style="font-size: 10pt;">Verein Seglerhaus am Wannsee, Am Gro&szlig;en W
 annsee 22-26, 14109 Berlin <br />Tel. +49&nbsp; (30)&nbsp; 805 20 06, Fax +
 49 (30) &nbsp;805 11 56, <br />E-Mail: <a href="http://www.vsaw.de/"></a><a
  href="mailto:vsaw@vsaw.de,"><span id="cloaka3ba6e4882511477329041b70442ebc
 a">Diese E-Mail-Adresse ist vor Spambots geschützt! Zur Anzeige muss JavaSc
 ript eingeschaltet sein!</span><script type='text/javascript'>
				document
 .getElementById('cloaka3ba6e4882511477329041b70442ebca').innerHTML = '';
		
 		var prefix = '&#109;a' + 'i&#108;' + '&#116;o';
				var path = 'hr' + 'ef
 ' + '=';
				var addya3ba6e4882511477329041b70442ebca = 'vs&#97;w' + '&#64;
 ';
				addya3ba6e4882511477329041b70442ebca = addya3ba6e4882511477329041b70
 442ebca + 'vs&#97;w' + '&#46;' + 'd&#101;';
				var addy_texta3ba6e48825114
 77329041b70442ebca = 'vs&#97;w' + '&#64;' + 'vs&#97;w' + '&#46;' + 'd&#101;
 ';document.getElementById('cloaka3ba6e4882511477329041b70442ebca').innerHTM
 L += '<a ' + path + '\'' + prefix + ':' + addya3ba6e4882511477329041b70442e
 bca + '\'>'+addy_texta3ba6e4882511477329041b70442ebca+'<\/a>';
		</script>,
 </a> www.vsaw.de</span></p>
DTSTAMP:20260420T122656
DTSTART;TZID=Europe/Berlin:20170319T130000
SEQUENCE:0
TRANSP:OPAQUE
END:VEVENT
END:VCALENDAR