BEGIN:VCALENDAR
VERSION:2.0
PRODID:-//jEvents 2.0 for Joomla//EN
CALSCALE:GREGORIAN
METHOD:PUBLISH
BEGIN:VTIMEZONE
TZID:Europe/Berlin
BEGIN:STANDARD
DTSTART:20160317T150000
RDATE:20160327T030000
TZOFFSETFROM:+0200
TZOFFSETTO:+0100
TZNAME:Europe/Berlin CET
END:STANDARD
BEGIN:STANDARD
DTSTART:20161030T020000
RDATE:20170326T030000
TZOFFSETFROM:+0200
TZOFFSETTO:+0100
TZNAME:Europe/Berlin CET
END:STANDARD
BEGIN:STANDARD
DTSTART:20171029T020000
RDATE:20180325T030000
TZOFFSETFROM:+0200
TZOFFSETTO:+0100
TZNAME:Europe/Berlin CET
END:STANDARD
BEGIN:STANDARD
DTSTART:20181028T020000
RDATE:20190331T030000
TZOFFSETFROM:+0200
TZOFFSETTO:+0100
TZNAME:Europe/Berlin CET
END:STANDARD
BEGIN:STANDARD
DTSTART:20191027T020000
RDATE:20200329T030000
TZOFFSETFROM:+0200
TZOFFSETTO:+0100
TZNAME:Europe/Berlin CET
END:STANDARD
BEGIN:STANDARD
DTSTART:20201025T020000
RDATE:20210328T030000
TZOFFSETFROM:+0200
TZOFFSETTO:+0100
TZNAME:Europe/Berlin CET
END:STANDARD
BEGIN:STANDARD
DTSTART:20211031T020000
RDATE:20220327T030000
TZOFFSETFROM:+0200
TZOFFSETTO:+0100
TZNAME:Europe/Berlin CET
END:STANDARD
BEGIN:STANDARD
DTSTART:20221030T020000
RDATE:20230326T030000
TZOFFSETFROM:+0200
TZOFFSETTO:+0100
TZNAME:Europe/Berlin CET
END:STANDARD
BEGIN:STANDARD
DTSTART:20231029T020000
RDATE:20240331T030000
TZOFFSETFROM:+0200
TZOFFSETTO:+0100
TZNAME:Europe/Berlin CET
END:STANDARD
BEGIN:STANDARD
DTSTART:20241027T020000
RDATE:20250330T030000
TZOFFSETFROM:+0200
TZOFFSETTO:+0100
TZNAME:Europe/Berlin CET
END:STANDARD
BEGIN:STANDARD
DTSTART:20251026T020000
RDATE:20260329T030000
TZOFFSETFROM:+0200
TZOFFSETTO:+0100
TZNAME:Europe/Berlin CET
END:STANDARD
BEGIN:STANDARD
DTSTART:20261025T020000
RDATE:20270328T030000
TZOFFSETFROM:+0200
TZOFFSETTO:+0100
TZNAME:Europe/Berlin CET
END:STANDARD
BEGIN:STANDARD
DTSTART:20271031T020000
RDATE:20280326T030000
TZOFFSETFROM:+0200
TZOFFSETTO:+0100
TZNAME:Europe/Berlin CET
END:STANDARD
BEGIN:STANDARD
DTSTART:20281029T020000
RDATE:20290325T030000
TZOFFSETFROM:+0200
TZOFFSETTO:+0100
TZNAME:Europe/Berlin CET
END:STANDARD
BEGIN:STANDARD
DTSTART:20291028T020000
RDATE:20300331T030000
TZOFFSETFROM:+0200
TZOFFSETTO:+0100
TZNAME:Europe/Berlin CET
END:STANDARD
BEGIN:STANDARD
DTSTART:20301027T020000
RDATE:20310330T030000
TZOFFSETFROM:+0200
TZOFFSETTO:+0100
TZNAME:Europe/Berlin CET
END:STANDARD
BEGIN:DAYLIGHT
DTSTART:20160327T030000
RDATE:20161030T020000
TZOFFSETFROM:+0100
TZOFFSETTO:+0200
TZNAME:Europe/Berlin CEST
END:DAYLIGHT
BEGIN:DAYLIGHT
DTSTART:20170326T030000
RDATE:20171029T020000
TZOFFSETFROM:+0100
TZOFFSETTO:+0200
TZNAME:Europe/Berlin CEST
END:DAYLIGHT
BEGIN:DAYLIGHT
DTSTART:20180325T030000
RDATE:20181028T020000
TZOFFSETFROM:+0100
TZOFFSETTO:+0200
TZNAME:Europe/Berlin CEST
END:DAYLIGHT
BEGIN:DAYLIGHT
DTSTART:20190331T030000
RDATE:20191027T020000
TZOFFSETFROM:+0100
TZOFFSETTO:+0200
TZNAME:Europe/Berlin CEST
END:DAYLIGHT
BEGIN:DAYLIGHT
DTSTART:20200329T030000
RDATE:20201025T020000
TZOFFSETFROM:+0100
TZOFFSETTO:+0200
TZNAME:Europe/Berlin CEST
END:DAYLIGHT
BEGIN:DAYLIGHT
DTSTART:20210328T030000
RDATE:20211031T020000
TZOFFSETFROM:+0100
TZOFFSETTO:+0200
TZNAME:Europe/Berlin CEST
END:DAYLIGHT
BEGIN:DAYLIGHT
DTSTART:20220327T030000
RDATE:20221030T020000
TZOFFSETFROM:+0100
TZOFFSETTO:+0200
TZNAME:Europe/Berlin CEST
END:DAYLIGHT
BEGIN:DAYLIGHT
DTSTART:20230326T030000
RDATE:20231029T020000
TZOFFSETFROM:+0100
TZOFFSETTO:+0200
TZNAME:Europe/Berlin CEST
END:DAYLIGHT
BEGIN:DAYLIGHT
DTSTART:20240331T030000
RDATE:20241027T020000
TZOFFSETFROM:+0100
TZOFFSETTO:+0200
TZNAME:Europe/Berlin CEST
END:DAYLIGHT
BEGIN:DAYLIGHT
DTSTART:20250330T030000
RDATE:20251026T020000
TZOFFSETFROM:+0100
TZOFFSETTO:+0200
TZNAME:Europe/Berlin CEST
END:DAYLIGHT
BEGIN:DAYLIGHT
DTSTART:20260329T030000
RDATE:20261025T020000
TZOFFSETFROM:+0100
TZOFFSETTO:+0200
TZNAME:Europe/Berlin CEST
END:DAYLIGHT
BEGIN:DAYLIGHT
DTSTART:20270328T030000
RDATE:20271031T020000
TZOFFSETFROM:+0100
TZOFFSETTO:+0200
TZNAME:Europe/Berlin CEST
END:DAYLIGHT
BEGIN:DAYLIGHT
DTSTART:20280326T030000
RDATE:20281029T020000
TZOFFSETFROM:+0100
TZOFFSETTO:+0200
TZNAME:Europe/Berlin CEST
END:DAYLIGHT
BEGIN:DAYLIGHT
DTSTART:20290325T030000
RDATE:20291028T020000
TZOFFSETFROM:+0100
TZOFFSETTO:+0200
TZNAME:Europe/Berlin CEST
END:DAYLIGHT
BEGIN:DAYLIGHT
DTSTART:20300331T030000
RDATE:20301027T020000
TZOFFSETFROM:+0100
TZOFFSETTO:+0200
TZNAME:Europe/Berlin CEST
END:DAYLIGHT
END:VTIMEZONE
BEGIN:VEVENT
UID:0e14de6027f75508a1e1890d9dc6224b
CATEGORIES:Jugend
CREATED:20170221T161535
SUMMARY:Jugendversammlung
DESCRIPTION:Einladung zur Jugendversammlung\nTagesordnung:\n\n\n - Begrüßung\n - Berich
 t des Jugendwartes\n - Kassenbericht 2016\n - Aussprache darüber\n - Planun
 gen für 2017, Jugendzentrum am Windenschuppen\n - Wahl des Jugendsprechers 
 und seines Stellvertreters\n - Eventuell Wahl des Jugendkassenwartes\n - Pl
 anung Auswintern der Jugendboote am 1. April 2017\n - Vereinswettfahrten 20
 17 (High Noon und Freundschaftswettfahrt)\n - Anträge (vorher schriftlich p
 er E-Mail einreichen).\n - VerschiedenesOrt: Jugendraum des SVSt\nLaut Juge
 ndordnung ist die Teilnahme Pflicht. Entschuldigungen müssen vorher erfolge
 n und können\n an Diese E-Mail-Adresse ist vor Spambots geschützt! Zur Anze
 ige muss JavaScript eingeschaltet sein!
				document.getElementById('cloak4
 75fe067b07e1a7c7adf4d9bccc2629d').innerHTML = '';
				var prefix = '&#109;a
 ' + 'i&#108;' + '&#116;o';
				var path = 'hr' + 'ef' + '=';
				var addy47
 5fe067b07e1a7c7adf4d9bccc2629d = 'j&#117;g&#101;nd' + '&#64;';
				addy475f
 e067b07e1a7c7adf4d9bccc2629d = addy475fe067b07e1a7c7adf4d9bccc2629d + 'svst
 ' + '&#46;' + 'd&#101;';
				var addy_text475fe067b07e1a7c7adf4d9bccc2629d 
 = 'j&#117;g&#101;nd' + '&#64;' + 'svst' + '&#46;' + 'd&#101;';document.getE
 lementById('cloak475fe067b07e1a7c7adf4d9bccc2629d').innerHTML += '<a ' + pa
 th + '\'' + prefix + ':' + addy475fe067b07e1a7c7adf4d9bccc2629d + '\'>'+add
 y_text475fe067b07e1a7c7adf4d9bccc2629d+'';
		 oder an Diese E-Mail-Adresse 
 ist vor Spambots geschützt! Zur Anzeige muss JavaScript eingeschaltet sein!
 
				document.getElementById('cloak3878c5551a4a92fe9f8bc977667404a2').inner
 HTML = '';
				var prefix = '&#109;a' + 'i&#108;' + '&#116;o';
				var path
  = 'hr' + 'ef' + '=';
				var addy3878c5551a4a92fe9f8bc977667404a2 = 'g&#11
 7;&#101;nt&#101;r' + '&#64;';
				addy3878c5551a4a92fe9f8bc977667404a2 = ad
 dy3878c5551a4a92fe9f8bc977667404a2 + 'l&#117;ckf&#105;&#101;l' + '&#46;' + 
 'd&#101;';
				var addy_text3878c5551a4a92fe9f8bc977667404a2 = 'g&#117;&#10
 1;nt&#101;r' + '&#64;' + 'l&#117;ckf&#105;&#101;l' + '&#46;' + 'd&#101;';do
 cument.getElementById('cloak3878c5551a4a92fe9f8bc977667404a2').innerHTML +=
  '<a ' + path + '\'' + prefix + ':' + addy3878c5551a4a92fe9f8bc977667404a2 
 + '\'>'+addy_text3878c5551a4a92fe9f8bc977667404a2+'';
		 gerichtet werden. 
 Gäste sind willkommen.\nGünter Luckfiel, Jugendwart\nMichael Koch, Stellver
 tretender Jugendwart\nJoe Hartmann, Jugendsprecher\nBerlin, 21.02.2017\n\n
X-ALT-DESC;FMTTYPE=text/html:<p><strong>Einladung zur Jugendversammlung</strong></p><p><b>Tagesordnung:<
 br /></b></p><ol><li>Begr&uuml;&szlig;ung</li><li>Bericht des Jugendwartes<
 /li><li>Kassenbericht 2016</li><li>Aussprache dar&uuml;ber</li><li>Planunge
 n f&uuml;r 2017, Jugendzentrum am Windenschuppen</li><li>Wahl des Jugendspr
 echers und seines Stellvertreters</li><li>Eventuell Wahl des Jugendkassenwa
 rtes</li><li>Planung Auswintern der Jugendboote am 1. April 2017</li><li>Ve
 reinswettfahrten 2017 (High Noon und Freundschaftswettfahrt)</li><li>Antr&a
 uml;ge (vorher schriftlich per E-Mail einreichen).</li><li>Verschiedenes</l
 i></ol><p><b>Ort:</b> <b>Jugendraum des SVSt</b></p><p>Laut Jugendordnung i
 st die Teilnahme Pflicht. Entschuldigungen m&uuml;ssen vorher erfolgen und 
 k&ouml;nnen<br /> an <span id="cloak475fe067b07e1a7c7adf4d9bccc2629d">Diese
  E-Mail-Adresse ist vor Spambots geschützt! Zur Anzeige muss JavaScript ein
 geschaltet sein!</span><script type='text/javascript'>
				document.getElem
 entById('cloak475fe067b07e1a7c7adf4d9bccc2629d').innerHTML = '';
				var pr
 efix = '&#109;a' + 'i&#108;' + '&#116;o';
				var path = 'hr' + 'ef' + '=';
 
				var addy475fe067b07e1a7c7adf4d9bccc2629d = 'j&#117;g&#101;nd' + '&#64;
 ';
				addy475fe067b07e1a7c7adf4d9bccc2629d = addy475fe067b07e1a7c7adf4d9bc
 cc2629d + 'svst' + '&#46;' + 'd&#101;';
				var addy_text475fe067b07e1a7c7a
 df4d9bccc2629d = 'j&#117;g&#101;nd' + '&#64;' + 'svst' + '&#46;' + 'd&#101;
 ';document.getElementById('cloak475fe067b07e1a7c7adf4d9bccc2629d').innerHTM
 L += '<a ' + path + '\'' + prefix + ':' + addy475fe067b07e1a7c7adf4d9bccc26
 29d + '\'>'+addy_text475fe067b07e1a7c7adf4d9bccc2629d+'<\/a>';
		</script> 
 oder an <span id="cloak3878c5551a4a92fe9f8bc977667404a2">Diese E-Mail-Adres
 se ist vor Spambots geschützt! Zur Anzeige muss JavaScript eingeschaltet se
 in!</span><script type='text/javascript'>
				document.getElementById('cloa
 k3878c5551a4a92fe9f8bc977667404a2').innerHTML = '';
				var prefix = '&#109
 ;a' + 'i&#108;' + '&#116;o';
				var path = 'hr' + 'ef' + '=';
				var addy
 3878c5551a4a92fe9f8bc977667404a2 = 'g&#117;&#101;nt&#101;r' + '&#64;';
				
 addy3878c5551a4a92fe9f8bc977667404a2 = addy3878c5551a4a92fe9f8bc977667404a2
  + 'l&#117;ckf&#105;&#101;l' + '&#46;' + 'd&#101;';
				var addy_text3878c5
 551a4a92fe9f8bc977667404a2 = 'g&#117;&#101;nt&#101;r' + '&#64;' + 'l&#117;c
 kf&#105;&#101;l' + '&#46;' + 'd&#101;';document.getElementById('cloak3878c5
 551a4a92fe9f8bc977667404a2').innerHTML += '<a ' + path + '\'' + prefix + ':
 ' + addy3878c5551a4a92fe9f8bc977667404a2 + '\'>'+addy_text3878c5551a4a92fe9
 f8bc977667404a2+'<\/a>';
		</script> gerichtet werden. G&auml;ste sind will
 kommen.</p><p>G&uuml;nter Luckfiel, Jugendwart<br />Michael Koch, Stellvert
 retender Jugendwart<br />Joe Hartmann, Jugendsprecher</p><p>Berlin, 21.02.2
 017<br /><span style="font-size: 10pt;"></span></p>
DTSTAMP:20260420T132246
DTSTART;TZID=Europe/Berlin:20170318T150000
SEQUENCE:0
TRANSP:OPAQUE
END:VEVENT
END:VCALENDAR