BEGIN:VCALENDAR
VERSION:2.0
PRODID:-//jEvents 2.0 for Joomla//EN
CALSCALE:GREGORIAN
METHOD:PUBLISH
BEGIN:VTIMEZONE
TZID:Europe/Berlin
BEGIN:STANDARD
DTSTART:20161030T020000
RDATE:20170326T030000
TZOFFSETFROM:+0200
TZOFFSETTO:+0100
TZNAME:Europe/Berlin CET
END:STANDARD
BEGIN:STANDARD
DTSTART:20171029T020000
RDATE:20180325T030000
TZOFFSETFROM:+0200
TZOFFSETTO:+0100
TZNAME:Europe/Berlin CET
END:STANDARD
BEGIN:STANDARD
DTSTART:20181028T020000
RDATE:20190331T030000
TZOFFSETFROM:+0200
TZOFFSETTO:+0100
TZNAME:Europe/Berlin CET
END:STANDARD
BEGIN:STANDARD
DTSTART:20191027T020000
RDATE:20200329T030000
TZOFFSETFROM:+0200
TZOFFSETTO:+0100
TZNAME:Europe/Berlin CET
END:STANDARD
BEGIN:STANDARD
DTSTART:20201025T020000
RDATE:20210328T030000
TZOFFSETFROM:+0200
TZOFFSETTO:+0100
TZNAME:Europe/Berlin CET
END:STANDARD
BEGIN:STANDARD
DTSTART:20211031T020000
RDATE:20220327T030000
TZOFFSETFROM:+0200
TZOFFSETTO:+0100
TZNAME:Europe/Berlin CET
END:STANDARD
BEGIN:STANDARD
DTSTART:20221030T020000
RDATE:20230326T030000
TZOFFSETFROM:+0200
TZOFFSETTO:+0100
TZNAME:Europe/Berlin CET
END:STANDARD
BEGIN:STANDARD
DTSTART:20231029T020000
RDATE:20240331T030000
TZOFFSETFROM:+0200
TZOFFSETTO:+0100
TZNAME:Europe/Berlin CET
END:STANDARD
BEGIN:STANDARD
DTSTART:20241027T020000
RDATE:20250330T030000
TZOFFSETFROM:+0200
TZOFFSETTO:+0100
TZNAME:Europe/Berlin CET
END:STANDARD
BEGIN:STANDARD
DTSTART:20251026T020000
RDATE:20260329T030000
TZOFFSETFROM:+0200
TZOFFSETTO:+0100
TZNAME:Europe/Berlin CET
END:STANDARD
BEGIN:STANDARD
DTSTART:20261025T020000
RDATE:20270328T030000
TZOFFSETFROM:+0200
TZOFFSETTO:+0100
TZNAME:Europe/Berlin CET
END:STANDARD
BEGIN:STANDARD
DTSTART:20271031T020000
RDATE:20280326T030000
TZOFFSETFROM:+0200
TZOFFSETTO:+0100
TZNAME:Europe/Berlin CET
END:STANDARD
BEGIN:STANDARD
DTSTART:20281029T020000
RDATE:20290325T030000
TZOFFSETFROM:+0200
TZOFFSETTO:+0100
TZNAME:Europe/Berlin CET
END:STANDARD
BEGIN:STANDARD
DTSTART:20291028T020000
RDATE:20300331T030000
TZOFFSETFROM:+0200
TZOFFSETTO:+0100
TZNAME:Europe/Berlin CET
END:STANDARD
BEGIN:STANDARD
DTSTART:20301027T020000
RDATE:20310330T030000
TZOFFSETFROM:+0200
TZOFFSETTO:+0100
TZNAME:Europe/Berlin CET
END:STANDARD
BEGIN:DAYLIGHT
DTSTART:20160412T150000
RDATE:20161030T020000
TZOFFSETFROM:+0100
TZOFFSETTO:+0200
TZNAME:Europe/Berlin CEST
END:DAYLIGHT
BEGIN:DAYLIGHT
DTSTART:20170326T030000
RDATE:20171029T020000
TZOFFSETFROM:+0100
TZOFFSETTO:+0200
TZNAME:Europe/Berlin CEST
END:DAYLIGHT
BEGIN:DAYLIGHT
DTSTART:20180325T030000
RDATE:20181028T020000
TZOFFSETFROM:+0100
TZOFFSETTO:+0200
TZNAME:Europe/Berlin CEST
END:DAYLIGHT
BEGIN:DAYLIGHT
DTSTART:20190331T030000
RDATE:20191027T020000
TZOFFSETFROM:+0100
TZOFFSETTO:+0200
TZNAME:Europe/Berlin CEST
END:DAYLIGHT
BEGIN:DAYLIGHT
DTSTART:20200329T030000
RDATE:20201025T020000
TZOFFSETFROM:+0100
TZOFFSETTO:+0200
TZNAME:Europe/Berlin CEST
END:DAYLIGHT
BEGIN:DAYLIGHT
DTSTART:20210328T030000
RDATE:20211031T020000
TZOFFSETFROM:+0100
TZOFFSETTO:+0200
TZNAME:Europe/Berlin CEST
END:DAYLIGHT
BEGIN:DAYLIGHT
DTSTART:20220327T030000
RDATE:20221030T020000
TZOFFSETFROM:+0100
TZOFFSETTO:+0200
TZNAME:Europe/Berlin CEST
END:DAYLIGHT
BEGIN:DAYLIGHT
DTSTART:20230326T030000
RDATE:20231029T020000
TZOFFSETFROM:+0100
TZOFFSETTO:+0200
TZNAME:Europe/Berlin CEST
END:DAYLIGHT
BEGIN:DAYLIGHT
DTSTART:20240331T030000
RDATE:20241027T020000
TZOFFSETFROM:+0100
TZOFFSETTO:+0200
TZNAME:Europe/Berlin CEST
END:DAYLIGHT
BEGIN:DAYLIGHT
DTSTART:20250330T030000
RDATE:20251026T020000
TZOFFSETFROM:+0100
TZOFFSETTO:+0200
TZNAME:Europe/Berlin CEST
END:DAYLIGHT
BEGIN:DAYLIGHT
DTSTART:20260329T030000
RDATE:20261025T020000
TZOFFSETFROM:+0100
TZOFFSETTO:+0200
TZNAME:Europe/Berlin CEST
END:DAYLIGHT
BEGIN:DAYLIGHT
DTSTART:20270328T030000
RDATE:20271031T020000
TZOFFSETFROM:+0100
TZOFFSETTO:+0200
TZNAME:Europe/Berlin CEST
END:DAYLIGHT
BEGIN:DAYLIGHT
DTSTART:20280326T030000
RDATE:20281029T020000
TZOFFSETFROM:+0100
TZOFFSETTO:+0200
TZNAME:Europe/Berlin CEST
END:DAYLIGHT
BEGIN:DAYLIGHT
DTSTART:20290325T030000
RDATE:20291028T020000
TZOFFSETFROM:+0100
TZOFFSETTO:+0200
TZNAME:Europe/Berlin CEST
END:DAYLIGHT
BEGIN:DAYLIGHT
DTSTART:20300331T030000
RDATE:20301027T020000
TZOFFSETFROM:+0100
TZOFFSETTO:+0200
TZNAME:Europe/Berlin CEST
END:DAYLIGHT
END:VTIMEZONE
BEGIN:VEVENT
UID:b2743791f214067a504c50f21b7c9f8a
CATEGORIES:Öffentliche Veranstaltung
CREATED:20170218T092214
SUMMARY: Knorr/ADAC Verkehrsunterricht für ü50er
DESCRIPTION:Verkehrsunterricht im SVSt für ü50er\nDieter Knorr hat einen Referenten des
  ADAC, Herrn Ingo Stöck, gewonnen, der im Verein über Verkehrsverstöße und 
 deren Folgen referiert. Nicht nur als Autofahrer, sondern auch als Fußgänge
 r oder Radfahrer kann man im Straßenverkehr mal was falsch machen. Was und 
 mit welcher Konsequenz wird hier angesprochen.\nDie Teilnahme ist für Mitgl
 ieder des SVSt ab 50 Jahren Lebenserfahrung und nur mit Anmeldung bei Diete
 r Knorr möglich:\nDieter Knorr\nTelefon:  030 850 74 101\nMobil:   0171 803
  9148\nE-Mail: Diese E-Mail-Adresse ist vor Spambots geschützt! Zur Anzeige
  muss JavaScript eingeschaltet sein!
				document.getElementById('cloak4fa6
 9738a0f74d02db1846a7eb940f40').innerHTML = '';
				var prefix = '&#109;a' +
  'i&#108;' + '&#116;o';
				var path = 'hr' + 'ef' + '=';
				var addy4fa69
 738a0f74d02db1846a7eb940f40 = 'd&#105;&#101;t&#101;rkn&#111;rr' + '&#64;';

 				addy4fa69738a0f74d02db1846a7eb940f40 = addy4fa69738a0f74d02db1846a7eb94
 0f40 + 'gmx' + '&#46;' + 'n&#101;t';
				var addy_text4fa69738a0f74d02db184
 6a7eb940f40 = 'd&#105;&#101;t&#101;rkn&#111;rr' + '&#64;' + 'gmx' + '&#46;'
  + 'n&#101;t';document.getElementById('cloak4fa69738a0f74d02db1846a7eb940f4
 0').innerHTML += '<a ' + path + '\'' + prefix + ':' + addy4fa69738a0f74d02d
 b1846a7eb940f40 + '\'>'+addy_text4fa69738a0f74d02db1846a7eb940f40+'';
		\n
X-ALT-DESC;FMTTYPE=text/html:<p>Verkehrsunterricht im SVSt f&uuml;r &uuml;50er</p><p>Dieter Knorr hat ei
 nen Referenten des ADAC, Herrn Ingo St&ouml;ck, gewonnen, der im Verein &uu
 ml;ber Verkehrsverst&ouml;&szlig;e und deren Folgen referiert. Nicht nur al
 s Autofahrer, sondern auch als Fu&szlig;g&auml;nger oder Radfahrer kann man
  im Stra&szlig;enverkehr mal was falsch machen. Was und mit welcher Konsequ
 enz wird hier angesprochen.</p><p>Die Teilnahme ist f&uuml;r Mitglieder des
  SVSt ab 50 Jahren Lebenserfahrung und nur mit Anmeldung bei Dieter Knorr m
 &ouml;glich:</p><p>Dieter Knorr<br />Telefon:&nbsp; 030 850 74 101<br />Mob
 il:&nbsp;&nbsp; 0171 803 9148<br />E-Mail: <span id="cloak4fa69738a0f74d02d
 b1846a7eb940f40">Diese E-Mail-Adresse ist vor Spambots geschützt! Zur Anzei
 ge muss JavaScript eingeschaltet sein!</span><script type='text/javascript'
 >
				document.getElementById('cloak4fa69738a0f74d02db1846a7eb940f40').inne
 rHTML = '';
				var prefix = '&#109;a' + 'i&#108;' + '&#116;o';
				var pat
 h = 'hr' + 'ef' + '=';
				var addy4fa69738a0f74d02db1846a7eb940f40 = 'd&#1
 05;&#101;t&#101;rkn&#111;rr' + '&#64;';
				addy4fa69738a0f74d02db1846a7eb9
 40f40 = addy4fa69738a0f74d02db1846a7eb940f40 + 'gmx' + '&#46;' + 'n&#101;t'
 ;
				var addy_text4fa69738a0f74d02db1846a7eb940f40 = 'd&#105;&#101;t&#101;
 rkn&#111;rr' + '&#64;' + 'gmx' + '&#46;' + 'n&#101;t';document.getElementBy
 Id('cloak4fa69738a0f74d02db1846a7eb940f40').innerHTML += '<a ' + path + '\'
 ' + prefix + ':' + addy4fa69738a0f74d02db1846a7eb940f40 + '\'>'+addy_text4f
 a69738a0f74d02db1846a7eb940f40+'<\/a>';
		</script></p>
DTSTAMP:20260420T071558
DTSTART;TZID=Europe/Berlin:20170413T150000
DTEND;TZID=Europe/Berlin:20170413T170000
SEQUENCE:0
TRANSP:OPAQUE
END:VEVENT
END:VCALENDAR