BEGIN:VCALENDAR
VERSION:2.0
PRODID:-//jEvents 2.0 for Joomla//EN
CALSCALE:GREGORIAN
METHOD:PUBLISH
BEGIN:VTIMEZONE
TZID:Europe/Berlin
BEGIN:STANDARD
DTSTART:20161030T020000
RDATE:20170326T030000
TZOFFSETFROM:+0200
TZOFFSETTO:+0100
TZNAME:Europe/Berlin CET
END:STANDARD
BEGIN:STANDARD
DTSTART:20171029T020000
RDATE:20180325T030000
TZOFFSETFROM:+0200
TZOFFSETTO:+0100
TZNAME:Europe/Berlin CET
END:STANDARD
BEGIN:STANDARD
DTSTART:20181028T020000
RDATE:20190331T030000
TZOFFSETFROM:+0200
TZOFFSETTO:+0100
TZNAME:Europe/Berlin CET
END:STANDARD
BEGIN:STANDARD
DTSTART:20191027T020000
RDATE:20200329T030000
TZOFFSETFROM:+0200
TZOFFSETTO:+0100
TZNAME:Europe/Berlin CET
END:STANDARD
BEGIN:STANDARD
DTSTART:20201025T020000
RDATE:20210328T030000
TZOFFSETFROM:+0200
TZOFFSETTO:+0100
TZNAME:Europe/Berlin CET
END:STANDARD
BEGIN:STANDARD
DTSTART:20211031T020000
RDATE:20220327T030000
TZOFFSETFROM:+0200
TZOFFSETTO:+0100
TZNAME:Europe/Berlin CET
END:STANDARD
BEGIN:STANDARD
DTSTART:20221030T020000
RDATE:20230326T030000
TZOFFSETFROM:+0200
TZOFFSETTO:+0100
TZNAME:Europe/Berlin CET
END:STANDARD
BEGIN:STANDARD
DTSTART:20231029T020000
RDATE:20240331T030000
TZOFFSETFROM:+0200
TZOFFSETTO:+0100
TZNAME:Europe/Berlin CET
END:STANDARD
BEGIN:STANDARD
DTSTART:20241027T020000
RDATE:20250330T030000
TZOFFSETFROM:+0200
TZOFFSETTO:+0100
TZNAME:Europe/Berlin CET
END:STANDARD
BEGIN:STANDARD
DTSTART:20251026T020000
RDATE:20260329T030000
TZOFFSETFROM:+0200
TZOFFSETTO:+0100
TZNAME:Europe/Berlin CET
END:STANDARD
BEGIN:STANDARD
DTSTART:20261025T020000
RDATE:20270328T030000
TZOFFSETFROM:+0200
TZOFFSETTO:+0100
TZNAME:Europe/Berlin CET
END:STANDARD
BEGIN:STANDARD
DTSTART:20271031T020000
RDATE:20280326T030000
TZOFFSETFROM:+0200
TZOFFSETTO:+0100
TZNAME:Europe/Berlin CET
END:STANDARD
BEGIN:STANDARD
DTSTART:20281029T020000
RDATE:20290325T030000
TZOFFSETFROM:+0200
TZOFFSETTO:+0100
TZNAME:Europe/Berlin CET
END:STANDARD
BEGIN:STANDARD
DTSTART:20291028T020000
RDATE:20300331T030000
TZOFFSETFROM:+0200
TZOFFSETTO:+0100
TZNAME:Europe/Berlin CET
END:STANDARD
BEGIN:STANDARD
DTSTART:20301027T020000
RDATE:20310330T030000
TZOFFSETFROM:+0200
TZOFFSETTO:+0100
TZNAME:Europe/Berlin CET
END:STANDARD
BEGIN:DAYLIGHT
DTSTART:20160405T150000
RDATE:20161030T020000
TZOFFSETFROM:+0100
TZOFFSETTO:+0200
TZNAME:Europe/Berlin CEST
END:DAYLIGHT
BEGIN:DAYLIGHT
DTSTART:20170326T030000
RDATE:20171029T020000
TZOFFSETFROM:+0100
TZOFFSETTO:+0200
TZNAME:Europe/Berlin CEST
END:DAYLIGHT
BEGIN:DAYLIGHT
DTSTART:20180325T030000
RDATE:20181028T020000
TZOFFSETFROM:+0100
TZOFFSETTO:+0200
TZNAME:Europe/Berlin CEST
END:DAYLIGHT
BEGIN:DAYLIGHT
DTSTART:20190331T030000
RDATE:20191027T020000
TZOFFSETFROM:+0100
TZOFFSETTO:+0200
TZNAME:Europe/Berlin CEST
END:DAYLIGHT
BEGIN:DAYLIGHT
DTSTART:20200329T030000
RDATE:20201025T020000
TZOFFSETFROM:+0100
TZOFFSETTO:+0200
TZNAME:Europe/Berlin CEST
END:DAYLIGHT
BEGIN:DAYLIGHT
DTSTART:20210328T030000
RDATE:20211031T020000
TZOFFSETFROM:+0100
TZOFFSETTO:+0200
TZNAME:Europe/Berlin CEST
END:DAYLIGHT
BEGIN:DAYLIGHT
DTSTART:20220327T030000
RDATE:20221030T020000
TZOFFSETFROM:+0100
TZOFFSETTO:+0200
TZNAME:Europe/Berlin CEST
END:DAYLIGHT
BEGIN:DAYLIGHT
DTSTART:20230326T030000
RDATE:20231029T020000
TZOFFSETFROM:+0100
TZOFFSETTO:+0200
TZNAME:Europe/Berlin CEST
END:DAYLIGHT
BEGIN:DAYLIGHT
DTSTART:20240331T030000
RDATE:20241027T020000
TZOFFSETFROM:+0100
TZOFFSETTO:+0200
TZNAME:Europe/Berlin CEST
END:DAYLIGHT
BEGIN:DAYLIGHT
DTSTART:20250330T030000
RDATE:20251026T020000
TZOFFSETFROM:+0100
TZOFFSETTO:+0200
TZNAME:Europe/Berlin CEST
END:DAYLIGHT
BEGIN:DAYLIGHT
DTSTART:20260329T030000
RDATE:20261025T020000
TZOFFSETFROM:+0100
TZOFFSETTO:+0200
TZNAME:Europe/Berlin CEST
END:DAYLIGHT
BEGIN:DAYLIGHT
DTSTART:20270328T030000
RDATE:20271031T020000
TZOFFSETFROM:+0100
TZOFFSETTO:+0200
TZNAME:Europe/Berlin CEST
END:DAYLIGHT
BEGIN:DAYLIGHT
DTSTART:20280326T030000
RDATE:20281029T020000
TZOFFSETFROM:+0100
TZOFFSETTO:+0200
TZNAME:Europe/Berlin CEST
END:DAYLIGHT
BEGIN:DAYLIGHT
DTSTART:20290325T030000
RDATE:20291028T020000
TZOFFSETFROM:+0100
TZOFFSETTO:+0200
TZNAME:Europe/Berlin CEST
END:DAYLIGHT
BEGIN:DAYLIGHT
DTSTART:20300331T030000
RDATE:20301027T020000
TZOFFSETFROM:+0100
TZOFFSETTO:+0200
TZNAME:Europe/Berlin CEST
END:DAYLIGHT
END:VTIMEZONE
BEGIN:VEVENT
UID:ee2bbdf906c27b1ca64c5a95a75062d2
CATEGORIES:Öffentliche Veranstaltung
CREATED:20170218T092141
SUMMARY:Knorr/ADAC Verkehrsunterricht für ü50er
DESCRIPTION:Dieter Knorr hat einen Referenten des ADAC, Herrn Ingo Stöck, gewonnen, der
  im Verein über Verkehrsverstöße und deren Folgen referiert. Nicht nur als 
 Autofahrer, sondern auch als Fußgänger oder Radfahrer kann man im Straßenve
 rkehr mal etwas falsch machen. Was und mit welcher Konsequenz wird hier ang
 esprochen.\n\nDie Teilnahme ist für Mitglieder des SVSt ab 50 Jahren Lebens
 erfahrung und nur mit Anmeldung bei Dieter Knorr möglich:\nTelefon:  030 85
 0 74 101\nMobil:   0171 803 9148\nE-Mail: Diese E-Mail-Adresse ist vor Spam
 bots geschützt! Zur Anzeige muss JavaScript eingeschaltet sein!
				documen
 t.getElementById('cloak188ece8d23a0dcb0ffd2818680e6cc55').innerHTML = '';
	
 			var prefix = '&#109;a' + 'i&#108;' + '&#116;o';
				var path = 'hr' + 'e
 f' + '=';
				var addy188ece8d23a0dcb0ffd2818680e6cc55 = 'd&#105;&#101;t&#1
 01;rkn&#111;rr' + '&#64;';
				addy188ece8d23a0dcb0ffd2818680e6cc55 = addy1
 88ece8d23a0dcb0ffd2818680e6cc55 + 'gmx' + '&#46;' + 'n&#101;t';
				var add
 y_text188ece8d23a0dcb0ffd2818680e6cc55 = 'd&#105;&#101;t&#101;rkn&#111;rr' 
 + '&#64;' + 'gmx' + '&#46;' + 'n&#101;t';document.getElementById('cloak188e
 ce8d23a0dcb0ffd2818680e6cc55').innerHTML += '<a ' + path + '\'' + prefix + 
 ':' + addy188ece8d23a0dcb0ffd2818680e6cc55 + '\'>'+addy_text188ece8d23a0dcb
 0ffd2818680e6cc55+'';
		\n
X-ALT-DESC;FMTTYPE=text/html:<p>Dieter Knorr hat einen Referenten des ADAC, Herrn Ingo St&ouml;ck, gewon
 nen, der im Verein &uuml;ber Verkehrsverst&ouml;&szlig;e und deren Folgen r
 eferiert. Nicht nur als Autofahrer, sondern auch als Fu&szlig;g&auml;nger o
 der Radfahrer kann man im Stra&szlig;enverkehr mal etwas falsch machen. Was
  und mit welcher Konsequenz wird hier angesprochen.<br /><br />Die Teilnahm
 e ist f&uuml;r Mitglieder des SVSt ab 50 Jahren Lebenserfahrung und nur mit
  Anmeldung bei Dieter Knorr m&ouml;glich:</p><p>Telefon:&nbsp; 030 850 74 1
 01<br />Mobil:&nbsp;&nbsp; 0171 803 9148<br />E-Mail: <span id="cloak188ece
 8d23a0dcb0ffd2818680e6cc55">Diese E-Mail-Adresse ist vor Spambots geschützt
 ! Zur Anzeige muss JavaScript eingeschaltet sein!</span><script type='text/
 javascript'>
				document.getElementById('cloak188ece8d23a0dcb0ffd2818680e6
 cc55').innerHTML = '';
				var prefix = '&#109;a' + 'i&#108;' + '&#116;o';

 				var path = 'hr' + 'ef' + '=';
				var addy188ece8d23a0dcb0ffd2818680e6c
 c55 = 'd&#105;&#101;t&#101;rkn&#111;rr' + '&#64;';
				addy188ece8d23a0dcb0
 ffd2818680e6cc55 = addy188ece8d23a0dcb0ffd2818680e6cc55 + 'gmx' + '&#46;' +
  'n&#101;t';
				var addy_text188ece8d23a0dcb0ffd2818680e6cc55 = 'd&#105;&#
 101;t&#101;rkn&#111;rr' + '&#64;' + 'gmx' + '&#46;' + 'n&#101;t';document.g
 etElementById('cloak188ece8d23a0dcb0ffd2818680e6cc55').innerHTML += '<a ' +
  path + '\'' + prefix + ':' + addy188ece8d23a0dcb0ffd2818680e6cc55 + '\'>'+
 addy_text188ece8d23a0dcb0ffd2818680e6cc55+'<\/a>';
		</script></p>
DTSTAMP:20260420T193513
DTSTART;TZID=Europe/Berlin:20170406T150000
DTEND;TZID=Europe/Berlin:20170406T170000
SEQUENCE:0
TRANSP:OPAQUE
END:VEVENT
END:VCALENDAR