BEGIN:VCALENDAR
VERSION:2.0
PRODID:-//jEvents 2.0 for Joomla//EN
CALSCALE:GREGORIAN
METHOD:PUBLISH
BEGIN:VTIMEZONE
TZID:Europe/Berlin
BEGIN:STANDARD
DTSTART:20161030T020000
RDATE:20170326T030000
TZOFFSETFROM:+0200
TZOFFSETTO:+0100
TZNAME:Europe/Berlin CET
END:STANDARD
BEGIN:STANDARD
DTSTART:20171029T020000
RDATE:20180325T030000
TZOFFSETFROM:+0200
TZOFFSETTO:+0100
TZNAME:Europe/Berlin CET
END:STANDARD
BEGIN:STANDARD
DTSTART:20181028T020000
RDATE:20190331T030000
TZOFFSETFROM:+0200
TZOFFSETTO:+0100
TZNAME:Europe/Berlin CET
END:STANDARD
BEGIN:STANDARD
DTSTART:20191027T020000
RDATE:20200329T030000
TZOFFSETFROM:+0200
TZOFFSETTO:+0100
TZNAME:Europe/Berlin CET
END:STANDARD
BEGIN:STANDARD
DTSTART:20201025T020000
RDATE:20210328T030000
TZOFFSETFROM:+0200
TZOFFSETTO:+0100
TZNAME:Europe/Berlin CET
END:STANDARD
BEGIN:STANDARD
DTSTART:20211031T020000
RDATE:20220327T030000
TZOFFSETFROM:+0200
TZOFFSETTO:+0100
TZNAME:Europe/Berlin CET
END:STANDARD
BEGIN:STANDARD
DTSTART:20221030T020000
RDATE:20230326T030000
TZOFFSETFROM:+0200
TZOFFSETTO:+0100
TZNAME:Europe/Berlin CET
END:STANDARD
BEGIN:STANDARD
DTSTART:20231029T020000
RDATE:20240331T030000
TZOFFSETFROM:+0200
TZOFFSETTO:+0100
TZNAME:Europe/Berlin CET
END:STANDARD
BEGIN:STANDARD
DTSTART:20241027T020000
RDATE:20250330T030000
TZOFFSETFROM:+0200
TZOFFSETTO:+0100
TZNAME:Europe/Berlin CET
END:STANDARD
BEGIN:STANDARD
DTSTART:20251026T020000
RDATE:20260329T030000
TZOFFSETFROM:+0200
TZOFFSETTO:+0100
TZNAME:Europe/Berlin CET
END:STANDARD
BEGIN:STANDARD
DTSTART:20261025T020000
RDATE:20270328T030000
TZOFFSETFROM:+0200
TZOFFSETTO:+0100
TZNAME:Europe/Berlin CET
END:STANDARD
BEGIN:STANDARD
DTSTART:20271031T020000
RDATE:20280326T030000
TZOFFSETFROM:+0200
TZOFFSETTO:+0100
TZNAME:Europe/Berlin CET
END:STANDARD
BEGIN:STANDARD
DTSTART:20281029T020000
RDATE:20290325T030000
TZOFFSETFROM:+0200
TZOFFSETTO:+0100
TZNAME:Europe/Berlin CET
END:STANDARD
BEGIN:STANDARD
DTSTART:20291028T020000
RDATE:20300331T030000
TZOFFSETFROM:+0200
TZOFFSETTO:+0100
TZNAME:Europe/Berlin CET
END:STANDARD
BEGIN:STANDARD
DTSTART:20301027T020000
RDATE:20310330T030000
TZOFFSETFROM:+0200
TZOFFSETTO:+0100
TZNAME:Europe/Berlin CET
END:STANDARD
BEGIN:DAYLIGHT
DTSTART:20160429T190000
RDATE:20161030T020000
TZOFFSETFROM:+0100
TZOFFSETTO:+0200
TZNAME:Europe/Berlin CEST
END:DAYLIGHT
BEGIN:DAYLIGHT
DTSTART:20170326T030000
RDATE:20171029T020000
TZOFFSETFROM:+0100
TZOFFSETTO:+0200
TZNAME:Europe/Berlin CEST
END:DAYLIGHT
BEGIN:DAYLIGHT
DTSTART:20180325T030000
RDATE:20181028T020000
TZOFFSETFROM:+0100
TZOFFSETTO:+0200
TZNAME:Europe/Berlin CEST
END:DAYLIGHT
BEGIN:DAYLIGHT
DTSTART:20190331T030000
RDATE:20191027T020000
TZOFFSETFROM:+0100
TZOFFSETTO:+0200
TZNAME:Europe/Berlin CEST
END:DAYLIGHT
BEGIN:DAYLIGHT
DTSTART:20200329T030000
RDATE:20201025T020000
TZOFFSETFROM:+0100
TZOFFSETTO:+0200
TZNAME:Europe/Berlin CEST
END:DAYLIGHT
BEGIN:DAYLIGHT
DTSTART:20210328T030000
RDATE:20211031T020000
TZOFFSETFROM:+0100
TZOFFSETTO:+0200
TZNAME:Europe/Berlin CEST
END:DAYLIGHT
BEGIN:DAYLIGHT
DTSTART:20220327T030000
RDATE:20221030T020000
TZOFFSETFROM:+0100
TZOFFSETTO:+0200
TZNAME:Europe/Berlin CEST
END:DAYLIGHT
BEGIN:DAYLIGHT
DTSTART:20230326T030000
RDATE:20231029T020000
TZOFFSETFROM:+0100
TZOFFSETTO:+0200
TZNAME:Europe/Berlin CEST
END:DAYLIGHT
BEGIN:DAYLIGHT
DTSTART:20240331T030000
RDATE:20241027T020000
TZOFFSETFROM:+0100
TZOFFSETTO:+0200
TZNAME:Europe/Berlin CEST
END:DAYLIGHT
BEGIN:DAYLIGHT
DTSTART:20250330T030000
RDATE:20251026T020000
TZOFFSETFROM:+0100
TZOFFSETTO:+0200
TZNAME:Europe/Berlin CEST
END:DAYLIGHT
BEGIN:DAYLIGHT
DTSTART:20260329T030000
RDATE:20261025T020000
TZOFFSETFROM:+0100
TZOFFSETTO:+0200
TZNAME:Europe/Berlin CEST
END:DAYLIGHT
BEGIN:DAYLIGHT
DTSTART:20270328T030000
RDATE:20271031T020000
TZOFFSETFROM:+0100
TZOFFSETTO:+0200
TZNAME:Europe/Berlin CEST
END:DAYLIGHT
BEGIN:DAYLIGHT
DTSTART:20280326T030000
RDATE:20281029T020000
TZOFFSETFROM:+0100
TZOFFSETTO:+0200
TZNAME:Europe/Berlin CEST
END:DAYLIGHT
BEGIN:DAYLIGHT
DTSTART:20290325T030000
RDATE:20291028T020000
TZOFFSETFROM:+0100
TZOFFSETTO:+0200
TZNAME:Europe/Berlin CEST
END:DAYLIGHT
BEGIN:DAYLIGHT
DTSTART:20300331T030000
RDATE:20301027T020000
TZOFFSETFROM:+0100
TZOFFSETTO:+0200
TZNAME:Europe/Berlin CEST
END:DAYLIGHT
END:VTIMEZONE
BEGIN:VEVENT
UID:6d59723f346b79545db3b5039d219856
CATEGORIES:SVSt Veranstaltungen
CREATED:20170217T152339
SUMMARY:"Tanz in den Mai"
DESCRIPTION:Der SVSt tanzt in den Mai zur Musik vom DUO NAMIDIA\nMokhtar: Gitarre und G
 esang &amp; Karim: Keyboard, Gitarre und Gesang\nDas DUO NAMIDIA vereint di
 e großen internationalen Musikrichtungen mit denen Nordafrikas. Die beiden 
 frankophilen Chansonniers Karim und Mokhtar – mit einem leichten Faible für
  Simon &amp; Garfunkel - treten seit vielen Jahren in der Berliner Musiksze
 ne gemeinsam auf und begeistern nicht nur bei privaten Veranstaltungen sond
 ern auch bei Festivals.\nIhr vielfältiges und reichhaltiges Repertoire brin
 gt Schwung auf die Tanzfläche. Freuen Sie sich auf eine bunte Tanzmusik-Pal
 ette vom klassischen Walzer über Rock und Disco, von Oldies und Country bis
  zu Gipsy, Samba, Rumba und zum Bolero und zur nordafrikanischer Rai-Musik.
 \nUnd auch zum Nur-Zuhören sind die beiden eine Offenbarung - Unsere Neuent
 deckung des Jahres 2017!\n\nDie Ökonomie kredenzt dazu ab 19:30 Uhr ein Frü
 hlingsbuffet:* (p. P. 21,50 Euro) und Erdbeerbowle (3,00 Euro)\n♦ Karotten-
 Ingwer-Suppe\n♦ Frische Frühlingssalate Babyspinat, Champignons, Radieschen
 , Möhren, Matjessalat mit Rote Bete und Frühlingszwiebeln, Flusskrebsfleisc
 h, Matjestatar &amp; verschiedene Dressings\n♦ Pasta mit Bärlauchpesto &amp
 ; Pinienkernen\n♦ Frankfurter grüne Soße mit neuen Kartoffeln\n♦ Saltimbocc
 a von der Hähnchenbrust mit Erbsen, Möhren und Romanesco\n♦ frischer Sparge
 l mit Parmaschinken\n♦ frische Erdbeeren mit Sahne\n♦ eingelegter Ziegenkäs
 e mit Baguettebrot\n* Änderungen vorbehalten\nEintritt: für SVSt-Mitglieder
  frei, für Gäste 10 Euro\nWir freuen uns auf Sie / Euch!\nSiegrid Heilmann 
 | Andrea Lambeck | Martin Praetorius\n\nAnmeldungen ab sofort bis spätesten
 s 26. April\n♦        bei Frau Harnisch (Gastronomie) 0172 956 15 70 | 030 
 3081 4561\n♦        per E-Mail an Diese E-Mail-Adresse ist vor Spambots ges
 chützt! Zur Anzeige muss JavaScript eingeschaltet sein!
				document.getEle
 mentById('cloakae0c6f9bf97610c1abc3a3737c2cc74e').innerHTML = '';
				var p
 refix = '&#109;a' + 'i&#108;' + '&#116;o';
				var path = 'hr' + 'ef' + '='
 ;
				var addyae0c6f9bf97610c1abc3a3737c2cc74e = 'O&#101;k&#111;n&#111;m&#1
 05;&#101;' + '&#64;';
				addyae0c6f9bf97610c1abc3a3737c2cc74e = addyae0c6f
 9bf97610c1abc3a3737c2cc74e + 'svst' + '&#46;' + 'd&#101;';
				var addy_tex
 tae0c6f9bf97610c1abc3a3737c2cc74e = 'O&#101;k&#111;n&#111;m&#105;&#101;' + 
 '&#64;' + 'svst' + '&#46;' + 'd&#101;';document.getElementById('cloakae0c6f
 9bf97610c1abc3a3737c2cc74e').innerHTML += '<a ' + path + '\'' + prefix + ':
 ' + addyae0c6f9bf97610c1abc3a3737c2cc74e + '\'>'+addy_textae0c6f9bf97610c1a
 bc3a3737c2cc74e+'';
		\n♦        oder in der aushängenden Liste\n \n
X-ALT-DESC;FMTTYPE=text/html:<article><p>Der SVSt tanzt in den Mai zur Musik vom <span style="font-size:
  11pt; font-family: 'Calibri','sans-serif';">DUO NAMIDIA</span></p><p>Mokht
 ar: Gitarre und Gesang &amp; Karim: Keyboard, Gitarre und Gesang</p><p>Das 
 DUO NAMIDIA vereint die gro&szlig;en internationalen Musikrichtungen mit de
 nen Nordafrikas. Die beiden frankophilen Chansonniers Karim und Mokhtar &nd
 ash; mit einem leichten Faible f&uuml;r Simon &amp; Garfunkel - treten seit
  vielen Jahren in der Berliner Musikszene gemeinsam auf und begeistern nich
 t nur bei privaten Veranstaltungen sondern auch bei Festivals.</p><p>Ihr vi
 elf&auml;ltiges und reichhaltiges Repertoire bringt Schwung auf die Tanzfl&
 auml;che. Freuen Sie sich auf eine bunte Tanzmusik-Palette vom klassischen 
 Walzer &uuml;ber Rock und Disco, von Oldies und Country bis zu Gipsy, Samba
 , Rumba und zum Bolero und zur nordafrikanischer Rai-Musik.</p><p>Und auch 
 zum Nur-Zuh&ouml;ren sind die beiden eine Offenbarung - Unsere Neuentdeckun
 g des Jahres 2017!</p><br /><p style="text-align: justify;">Die &Ouml;konom
 ie kredenzt dazu ab 19:30 Uhr ein <strong>Fr&uuml;hlingsbuffet</strong>:* (
 p. P. 21,50 Euro) und <strong>Erdbeerbowle</strong> (3,00 Euro)</p><p style
 ="text-align: left;">&diams; Karotten-Ingwer-Suppe<br />&diams; Frische Fr&
 uuml;hlingssalate Babyspinat, Champignons, Radieschen, M&ouml;hren, Matjess
 alat mit Rote Bete und Fr&uuml;hlingszwiebeln, Flusskrebsfleisch, Matjestat
 ar &amp; verschiedene Dressings</p><p style="text-align: left;">&diams; Pas
 ta mit B&auml;rlauchpesto &amp; Pinienkernen<br />&diams; Frankfurter gr&uu
 ml;ne So&szlig;e mit neuen Kartoffeln<br />&diams; Saltimbocca von der H&au
 ml;hnchenbrust mit Erbsen, M&ouml;hren und Romanesco<br />&diams; frischer 
 Spargel mit Parmaschinken</p><p style="text-align: left;">&diams; frische E
 rdbeeren mit Sahne<br />&diams; eingelegter Ziegenk&auml;se mit Baguettebro
 t</p><p style="text-align: left;">* &Auml;nderungen vorbehalten</p><p style
 ="margin-top: 0cm; margin-right: -1pt; margin-bottom: 0.0001pt; line-height
 : 24.9pt;"><strong>Eintritt: f&uuml;r SVSt-Mitglieder frei, f&uuml;r G&auml
 ;ste 10 Euro</strong></p><p style="margin-top: 0cm; margin-right: -1pt; mar
 gin-bottom: 0.0001pt; line-height: 24.9pt;">Wir freuen uns auf Sie / Euch!<
 /p><p style="margin-top: 0.55pt; margin-right: -1pt; margin-bottom: 0.0001p
 t; line-height: normal;">Siegrid Heilmann | Andrea Lambeck | Martin Praetor
 ius</p><p style="margin-top: 0cm; margin-right: -1pt; margin-bottom: 0.0001
 pt; line-height: normal;"><strong><br />Anmeldungen ab sofort bis sp&auml;t
 estens 26. April</strong></p><p style="margin: 0.35pt 221.85pt 0.0001pt 1cm
 ; text-indent: -21.25pt; line-height: 102%;">&diams;&nbsp;&nbsp;&nbsp;&nbsp
 ;&nbsp;&nbsp;&nbsp; bei Frau Harnisch (Gastronomie) 0172 956 15 70 | 030 30
 81 4561</p><p style="margin: 0.35pt 221.85pt 0.0001pt 1cm; text-indent: -21
 .25pt; line-height: 102%;">&diams;&nbsp;&nbsp;&nbsp;&nbsp;&nbsp;&nbsp;&nbsp
 ; per E-Mail an <span id="cloakae0c6f9bf97610c1abc3a3737c2cc74e">Diese E-Ma
 il-Adresse ist vor Spambots geschützt! Zur Anzeige muss JavaScript eingesch
 altet sein!</span><script type='text/javascript'>
				document.getElementBy
 Id('cloakae0c6f9bf97610c1abc3a3737c2cc74e').innerHTML = '';
				var prefix 
 = '&#109;a' + 'i&#108;' + '&#116;o';
				var path = 'hr' + 'ef' + '=';
				
 var addyae0c6f9bf97610c1abc3a3737c2cc74e = 'O&#101;k&#111;n&#111;m&#105;&#1
 01;' + '&#64;';
				addyae0c6f9bf97610c1abc3a3737c2cc74e = addyae0c6f9bf976
 10c1abc3a3737c2cc74e + 'svst' + '&#46;' + 'd&#101;';
				var addy_textae0c6
 f9bf97610c1abc3a3737c2cc74e = 'O&#101;k&#111;n&#111;m&#105;&#101;' + '&#64;
 ' + 'svst' + '&#46;' + 'd&#101;';document.getElementById('cloakae0c6f9bf976
 10c1abc3a3737c2cc74e').innerHTML += '<a ' + path + '\'' + prefix + ':' + ad
 dyae0c6f9bf97610c1abc3a3737c2cc74e + '\'>'+addy_textae0c6f9bf97610c1abc3a37
 37c2cc74e+'<\/a>';
		</script></p><p style="margin: 0.35pt 221.85pt 0.0001p
 t 1cm; text-indent: -21.25pt; line-height: 102%;">&diams;&nbsp;&nbsp;&nbsp;
 &nbsp;&nbsp;&nbsp;&nbsp; oder in der aush&auml;ngenden Liste</p></article><
 p>&nbsp;</p>
DTSTAMP:20260420T105635
DTSTART;TZID=Europe/Berlin:20170430T190000
SEQUENCE:0
TRANSP:OPAQUE
END:VEVENT
END:VCALENDAR