BEGIN:VCALENDAR
VERSION:2.0
PRODID:-//jEvents 2.0 for Joomla//EN
CALSCALE:GREGORIAN
METHOD:PUBLISH
BEGIN:VTIMEZONE
TZID:Europe/Berlin
BEGIN:STANDARD
DTSTART:20160225T000000
RDATE:20160327T030000
TZOFFSETFROM:+0200
TZOFFSETTO:+0100
TZNAME:Europe/Berlin CET
END:STANDARD
BEGIN:STANDARD
DTSTART:20161030T020000
RDATE:20170326T030000
TZOFFSETFROM:+0200
TZOFFSETTO:+0100
TZNAME:Europe/Berlin CET
END:STANDARD
BEGIN:STANDARD
DTSTART:20171029T020000
RDATE:20180325T030000
TZOFFSETFROM:+0200
TZOFFSETTO:+0100
TZNAME:Europe/Berlin CET
END:STANDARD
BEGIN:STANDARD
DTSTART:20181028T020000
RDATE:20190331T030000
TZOFFSETFROM:+0200
TZOFFSETTO:+0100
TZNAME:Europe/Berlin CET
END:STANDARD
BEGIN:STANDARD
DTSTART:20191027T020000
RDATE:20200329T030000
TZOFFSETFROM:+0200
TZOFFSETTO:+0100
TZNAME:Europe/Berlin CET
END:STANDARD
BEGIN:STANDARD
DTSTART:20201025T020000
RDATE:20210328T030000
TZOFFSETFROM:+0200
TZOFFSETTO:+0100
TZNAME:Europe/Berlin CET
END:STANDARD
BEGIN:STANDARD
DTSTART:20211031T020000
RDATE:20220327T030000
TZOFFSETFROM:+0200
TZOFFSETTO:+0100
TZNAME:Europe/Berlin CET
END:STANDARD
BEGIN:STANDARD
DTSTART:20221030T020000
RDATE:20230326T030000
TZOFFSETFROM:+0200
TZOFFSETTO:+0100
TZNAME:Europe/Berlin CET
END:STANDARD
BEGIN:STANDARD
DTSTART:20231029T020000
RDATE:20240331T030000
TZOFFSETFROM:+0200
TZOFFSETTO:+0100
TZNAME:Europe/Berlin CET
END:STANDARD
BEGIN:STANDARD
DTSTART:20241027T020000
RDATE:20250330T030000
TZOFFSETFROM:+0200
TZOFFSETTO:+0100
TZNAME:Europe/Berlin CET
END:STANDARD
BEGIN:STANDARD
DTSTART:20251026T020000
RDATE:20260329T030000
TZOFFSETFROM:+0200
TZOFFSETTO:+0100
TZNAME:Europe/Berlin CET
END:STANDARD
BEGIN:STANDARD
DTSTART:20261025T020000
RDATE:20270328T030000
TZOFFSETFROM:+0200
TZOFFSETTO:+0100
TZNAME:Europe/Berlin CET
END:STANDARD
BEGIN:STANDARD
DTSTART:20271031T020000
RDATE:20280326T030000
TZOFFSETFROM:+0200
TZOFFSETTO:+0100
TZNAME:Europe/Berlin CET
END:STANDARD
BEGIN:STANDARD
DTSTART:20281029T020000
RDATE:20290325T030000
TZOFFSETFROM:+0200
TZOFFSETTO:+0100
TZNAME:Europe/Berlin CET
END:STANDARD
BEGIN:STANDARD
DTSTART:20291028T020000
RDATE:20300331T030000
TZOFFSETFROM:+0200
TZOFFSETTO:+0100
TZNAME:Europe/Berlin CET
END:STANDARD
BEGIN:STANDARD
DTSTART:20301027T020000
RDATE:20310330T030000
TZOFFSETFROM:+0200
TZOFFSETTO:+0100
TZNAME:Europe/Berlin CET
END:STANDARD
BEGIN:DAYLIGHT
DTSTART:20160327T030000
RDATE:20161030T020000
TZOFFSETFROM:+0100
TZOFFSETTO:+0200
TZNAME:Europe/Berlin CEST
END:DAYLIGHT
BEGIN:DAYLIGHT
DTSTART:20170326T030000
RDATE:20171029T020000
TZOFFSETFROM:+0100
TZOFFSETTO:+0200
TZNAME:Europe/Berlin CEST
END:DAYLIGHT
BEGIN:DAYLIGHT
DTSTART:20180325T030000
RDATE:20181028T020000
TZOFFSETFROM:+0100
TZOFFSETTO:+0200
TZNAME:Europe/Berlin CEST
END:DAYLIGHT
BEGIN:DAYLIGHT
DTSTART:20190331T030000
RDATE:20191027T020000
TZOFFSETFROM:+0100
TZOFFSETTO:+0200
TZNAME:Europe/Berlin CEST
END:DAYLIGHT
BEGIN:DAYLIGHT
DTSTART:20200329T030000
RDATE:20201025T020000
TZOFFSETFROM:+0100
TZOFFSETTO:+0200
TZNAME:Europe/Berlin CEST
END:DAYLIGHT
BEGIN:DAYLIGHT
DTSTART:20210328T030000
RDATE:20211031T020000
TZOFFSETFROM:+0100
TZOFFSETTO:+0200
TZNAME:Europe/Berlin CEST
END:DAYLIGHT
BEGIN:DAYLIGHT
DTSTART:20220327T030000
RDATE:20221030T020000
TZOFFSETFROM:+0100
TZOFFSETTO:+0200
TZNAME:Europe/Berlin CEST
END:DAYLIGHT
BEGIN:DAYLIGHT
DTSTART:20230326T030000
RDATE:20231029T020000
TZOFFSETFROM:+0100
TZOFFSETTO:+0200
TZNAME:Europe/Berlin CEST
END:DAYLIGHT
BEGIN:DAYLIGHT
DTSTART:20240331T030000
RDATE:20241027T020000
TZOFFSETFROM:+0100
TZOFFSETTO:+0200
TZNAME:Europe/Berlin CEST
END:DAYLIGHT
BEGIN:DAYLIGHT
DTSTART:20250330T030000
RDATE:20251026T020000
TZOFFSETFROM:+0100
TZOFFSETTO:+0200
TZNAME:Europe/Berlin CEST
END:DAYLIGHT
BEGIN:DAYLIGHT
DTSTART:20260329T030000
RDATE:20261025T020000
TZOFFSETFROM:+0100
TZOFFSETTO:+0200
TZNAME:Europe/Berlin CEST
END:DAYLIGHT
BEGIN:DAYLIGHT
DTSTART:20270328T030000
RDATE:20271031T020000
TZOFFSETFROM:+0100
TZOFFSETTO:+0200
TZNAME:Europe/Berlin CEST
END:DAYLIGHT
BEGIN:DAYLIGHT
DTSTART:20280326T030000
RDATE:20281029T020000
TZOFFSETFROM:+0100
TZOFFSETTO:+0200
TZNAME:Europe/Berlin CEST
END:DAYLIGHT
BEGIN:DAYLIGHT
DTSTART:20290325T030000
RDATE:20291028T020000
TZOFFSETFROM:+0100
TZOFFSETTO:+0200
TZNAME:Europe/Berlin CEST
END:DAYLIGHT
BEGIN:DAYLIGHT
DTSTART:20300331T030000
RDATE:20301027T020000
TZOFFSETFROM:+0100
TZOFFSETTO:+0200
TZNAME:Europe/Berlin CEST
END:DAYLIGHT
END:VTIMEZONE
BEGIN:VEVENT
UID:bd36d0e2dfa06b8565582af09d02a13a
CATEGORIES:SVSt Veranstaltungen
CREATED:20170217T131326
SUMMARY:Medizin auf See für Fahrten- und Hobbysegler
DESCRIPTION:Ein Angebot der Schiffergilde zu Berlin e.V.\n2-tägiges Seminar: \nSamstag,
  25.02.2017, 10:00 bis 16:00 Uhr und \nSonntag, 26.02.2017, 10.00 bis 16:00
  Uhr\nFür den Bordalltag und die einfache Bordapotheke zugeschnittene Schul
 ung in Theorie und Praxis mit Fallbeispielen und viel Praxis. U. a. Wiederb
 elebung, Wundversorgung, Nähen u.v.m.\nReferentin: Dr. med. Melanie Aalburg
 , \nAllgemeinärztin aus Berlin und erfahrene Offshore-Regattaseglerin \n(Tr
 ansatlantik, Fastnet, Round-Britain and Ireland-Race, ORC-WM und Fahrtenseg
 lerin)\nDie Teilnehmerzahl ist begrenzt.\nDie Teilnahmegebühr für Gilde-und
  SVSt-Mitglieder 30,00 €, \nMitglieder von KA 40,00 €, Jugend (bis vollend.
  21. Lj) 20,00 €, \nMitglieder von Vereinen des DSV 60,00 €, Sonstige Gäste
  70 € \nist vorab zu überweisen: Commerzbank Berlin, \nIBAN DE68 1008 0000 
 0862 8580 00, BIC DRESDEFF 100\nAnmeldungen sind zu richten an: \nDie Schif
 fergilde zu Berlin e.V.\nc/o Ralf Krischker\nSuarezstr. 11, 14057 Berlin \n
 Tel. 0171 740 38 05 \nE-Mail: Diese E-Mail-Adresse ist vor Spambots geschüt
 zt! Zur Anzeige muss JavaScript eingeschaltet sein!
				document.getElement
 ById('cloak1ce9e0a9415227304f4e4f80413cdc9f').innerHTML = '';
				var prefi
 x = '&#109;a' + 'i&#108;' + '&#116;o';
				var path = 'hr' + 'ef' + '=';
		
 		var addy1ce9e0a9415227304f4e4f80413cdc9f = '&#105;nf&#111;' + '&#64;';
		
 		addy1ce9e0a9415227304f4e4f80413cdc9f = addy1ce9e0a9415227304f4e4f80413cdc
 9f + 'sch&#105;ff&#101;rg&#105;ld&#101;-b&#101;rl&#105;n' + '&#46;' + 'd&#1
 01;';
				var addy_text1ce9e0a9415227304f4e4f80413cdc9f = '&#105;nf&#111;' 
 + '&#64;' + 'sch&#105;ff&#101;rg&#105;ld&#101;-b&#101;rl&#105;n' + '&#46;' 
 + 'd&#101;';document.getElementById('cloak1ce9e0a9415227304f4e4f80413cdc9f'
 ).innerHTML += '<a ' + path + '\'' + prefix + ':' + addy1ce9e0a9415227304f4
 e4f80413cdc9f + '\'>'+addy_text1ce9e0a9415227304f4e4f80413cdc9f+'';
		 \nww
 w.schiffergilde-berlin.de\n
X-ALT-DESC;FMTTYPE=text/html:<p>Ein Angebot der Schiffergilde zu Berlin e.V.</p><hr id="system-readmore"
  /><p>2-t&auml;giges Seminar: <br />Samstag, 25.02.2017, 10:00 bis 16:00 Uh
 r und <br />Sonntag, 26.02.2017, 10.00 bis 16:00 Uhr</p><p>F&uuml;r den Bor
 dalltag und die einfache Bordapotheke zugeschnittene Schulung in Theorie un
 d Praxis mit Fallbeispielen und viel Praxis. U. a. Wiederbelebung, Wundvers
 orgung, N&auml;hen u.v.m.</p><p>Referentin: Dr. med. Melanie Aalburg, <br /
 >Allgemein&auml;rztin aus Berlin und erfahrene Offshore-Regattaseglerin <br
  />(Transatlantik, Fastnet, Round-Britain and Ireland-Race, ORC-WM und Fahr
 tenseglerin)</p><p>Die Teilnehmerzahl ist begrenzt.<br />Die <strong>Teilna
 hmegeb&uuml;hr</strong> f&uuml;r Gilde-und <strong>SVSt-Mitglieder 30,00 &e
 uro;</strong>, <br />Mitglieder von KA 40,00 &euro;, Jugend (bis vollend. 2
 1. Lj) 20,00 &euro;, <br />Mitglieder von Vereinen des DSV 60,00 &euro;, So
 nstige G&auml;ste 70 &euro; <br />ist vorab zu &uuml;berweisen: Commerzbank
  Berlin, <br />IBAN DE68 1008 0000 0862 8580 00, BIC DRESDEFF 100</p><p><st
 rong>Anmeldungen</strong> sind zu richten an: <br />Die Schiffergilde zu Be
 rlin e.V.<br />c/o Ralf Krischker<br />Suarezstr. 11, 14057 Berlin <br />Te
 l. 0171 740 38 05 <br />E-Mail: <span id="cloak1ce9e0a9415227304f4e4f80413c
 dc9f">Diese E-Mail-Adresse ist vor Spambots geschützt! Zur Anzeige muss Jav
 aScript eingeschaltet sein!</span><script type='text/javascript'>
				docum
 ent.getElementById('cloak1ce9e0a9415227304f4e4f80413cdc9f').innerHTML = '';
 
				var prefix = '&#109;a' + 'i&#108;' + '&#116;o';
				var path = 'hr' + 
 'ef' + '=';
				var addy1ce9e0a9415227304f4e4f80413cdc9f = '&#105;nf&#111;'
  + '&#64;';
				addy1ce9e0a9415227304f4e4f80413cdc9f = addy1ce9e0a941522730
 4f4e4f80413cdc9f + 'sch&#105;ff&#101;rg&#105;ld&#101;-b&#101;rl&#105;n' + '
 &#46;' + 'd&#101;';
				var addy_text1ce9e0a9415227304f4e4f80413cdc9f = '&#
 105;nf&#111;' + '&#64;' + 'sch&#105;ff&#101;rg&#105;ld&#101;-b&#101;rl&#105
 ;n' + '&#46;' + 'd&#101;';document.getElementById('cloak1ce9e0a9415227304f4
 e4f80413cdc9f').innerHTML += '<a ' + path + '\'' + prefix + ':' + addy1ce9e
 0a9415227304f4e4f80413cdc9f + '\'>'+addy_text1ce9e0a9415227304f4e4f80413cdc
 9f+'<\/a>';
		</script> <br />www.schiffergilde-berlin.de</p>
DTSTAMP:20260420T163941
DTSTART;TZID=Europe/Berlin;VALUE=DATE:20170225
DTEND;TZID=Europe/Berlin;VALUE=DATE:20170227
SEQUENCE:0
TRANSP:OPAQUE
END:VEVENT
END:VCALENDAR