BEGIN:VCALENDAR
VERSION:2.0
PRODID:-//jEvents 2.0 for Joomla//EN
CALSCALE:GREGORIAN
METHOD:PUBLISH
BEGIN:VTIMEZONE
TZID:Europe/Berlin
BEGIN:STANDARD
DTSTART:20161030T020000
RDATE:20170326T030000
TZOFFSETFROM:+0200
TZOFFSETTO:+0100
TZNAME:Europe/Berlin CET
END:STANDARD
BEGIN:STANDARD
DTSTART:20171029T020000
RDATE:20180325T030000
TZOFFSETFROM:+0200
TZOFFSETTO:+0100
TZNAME:Europe/Berlin CET
END:STANDARD
BEGIN:STANDARD
DTSTART:20181028T020000
RDATE:20190331T030000
TZOFFSETFROM:+0200
TZOFFSETTO:+0100
TZNAME:Europe/Berlin CET
END:STANDARD
BEGIN:STANDARD
DTSTART:20191027T020000
RDATE:20200329T030000
TZOFFSETFROM:+0200
TZOFFSETTO:+0100
TZNAME:Europe/Berlin CET
END:STANDARD
BEGIN:STANDARD
DTSTART:20201025T020000
RDATE:20210328T030000
TZOFFSETFROM:+0200
TZOFFSETTO:+0100
TZNAME:Europe/Berlin CET
END:STANDARD
BEGIN:STANDARD
DTSTART:20211031T020000
RDATE:20220327T030000
TZOFFSETFROM:+0200
TZOFFSETTO:+0100
TZNAME:Europe/Berlin CET
END:STANDARD
BEGIN:STANDARD
DTSTART:20221030T020000
RDATE:20230326T030000
TZOFFSETFROM:+0200
TZOFFSETTO:+0100
TZNAME:Europe/Berlin CET
END:STANDARD
BEGIN:STANDARD
DTSTART:20231029T020000
RDATE:20240331T030000
TZOFFSETFROM:+0200
TZOFFSETTO:+0100
TZNAME:Europe/Berlin CET
END:STANDARD
BEGIN:STANDARD
DTSTART:20241027T020000
RDATE:20250330T030000
TZOFFSETFROM:+0200
TZOFFSETTO:+0100
TZNAME:Europe/Berlin CET
END:STANDARD
BEGIN:STANDARD
DTSTART:20251026T020000
RDATE:20260329T030000
TZOFFSETFROM:+0200
TZOFFSETTO:+0100
TZNAME:Europe/Berlin CET
END:STANDARD
BEGIN:STANDARD
DTSTART:20261025T020000
RDATE:20270328T030000
TZOFFSETFROM:+0200
TZOFFSETTO:+0100
TZNAME:Europe/Berlin CET
END:STANDARD
BEGIN:STANDARD
DTSTART:20271031T020000
RDATE:20280326T030000
TZOFFSETFROM:+0200
TZOFFSETTO:+0100
TZNAME:Europe/Berlin CET
END:STANDARD
BEGIN:STANDARD
DTSTART:20281029T020000
RDATE:20290325T030000
TZOFFSETFROM:+0200
TZOFFSETTO:+0100
TZNAME:Europe/Berlin CET
END:STANDARD
BEGIN:STANDARD
DTSTART:20291028T020000
RDATE:20300331T030000
TZOFFSETFROM:+0200
TZOFFSETTO:+0100
TZNAME:Europe/Berlin CET
END:STANDARD
BEGIN:STANDARD
DTSTART:20301027T020000
RDATE:20310330T030000
TZOFFSETFROM:+0200
TZOFFSETTO:+0100
TZNAME:Europe/Berlin CET
END:STANDARD
BEGIN:DAYLIGHT
DTSTART:20160331T090000
RDATE:20161030T020000
TZOFFSETFROM:+0100
TZOFFSETTO:+0200
TZNAME:Europe/Berlin CEST
END:DAYLIGHT
BEGIN:DAYLIGHT
DTSTART:20170326T030000
RDATE:20171029T020000
TZOFFSETFROM:+0100
TZOFFSETTO:+0200
TZNAME:Europe/Berlin CEST
END:DAYLIGHT
BEGIN:DAYLIGHT
DTSTART:20180325T030000
RDATE:20181028T020000
TZOFFSETFROM:+0100
TZOFFSETTO:+0200
TZNAME:Europe/Berlin CEST
END:DAYLIGHT
BEGIN:DAYLIGHT
DTSTART:20190331T030000
RDATE:20191027T020000
TZOFFSETFROM:+0100
TZOFFSETTO:+0200
TZNAME:Europe/Berlin CEST
END:DAYLIGHT
BEGIN:DAYLIGHT
DTSTART:20200329T030000
RDATE:20201025T020000
TZOFFSETFROM:+0100
TZOFFSETTO:+0200
TZNAME:Europe/Berlin CEST
END:DAYLIGHT
BEGIN:DAYLIGHT
DTSTART:20210328T030000
RDATE:20211031T020000
TZOFFSETFROM:+0100
TZOFFSETTO:+0200
TZNAME:Europe/Berlin CEST
END:DAYLIGHT
BEGIN:DAYLIGHT
DTSTART:20220327T030000
RDATE:20221030T020000
TZOFFSETFROM:+0100
TZOFFSETTO:+0200
TZNAME:Europe/Berlin CEST
END:DAYLIGHT
BEGIN:DAYLIGHT
DTSTART:20230326T030000
RDATE:20231029T020000
TZOFFSETFROM:+0100
TZOFFSETTO:+0200
TZNAME:Europe/Berlin CEST
END:DAYLIGHT
BEGIN:DAYLIGHT
DTSTART:20240331T030000
RDATE:20241027T020000
TZOFFSETFROM:+0100
TZOFFSETTO:+0200
TZNAME:Europe/Berlin CEST
END:DAYLIGHT
BEGIN:DAYLIGHT
DTSTART:20250330T030000
RDATE:20251026T020000
TZOFFSETFROM:+0100
TZOFFSETTO:+0200
TZNAME:Europe/Berlin CEST
END:DAYLIGHT
BEGIN:DAYLIGHT
DTSTART:20260329T030000
RDATE:20261025T020000
TZOFFSETFROM:+0100
TZOFFSETTO:+0200
TZNAME:Europe/Berlin CEST
END:DAYLIGHT
BEGIN:DAYLIGHT
DTSTART:20270328T030000
RDATE:20271031T020000
TZOFFSETFROM:+0100
TZOFFSETTO:+0200
TZNAME:Europe/Berlin CEST
END:DAYLIGHT
BEGIN:DAYLIGHT
DTSTART:20280326T030000
RDATE:20281029T020000
TZOFFSETFROM:+0100
TZOFFSETTO:+0200
TZNAME:Europe/Berlin CEST
END:DAYLIGHT
BEGIN:DAYLIGHT
DTSTART:20290325T030000
RDATE:20291028T020000
TZOFFSETFROM:+0100
TZOFFSETTO:+0200
TZNAME:Europe/Berlin CEST
END:DAYLIGHT
BEGIN:DAYLIGHT
DTSTART:20300331T030000
RDATE:20301027T020000
TZOFFSETFROM:+0100
TZOFFSETTO:+0200
TZNAME:Europe/Berlin CEST
END:DAYLIGHT
END:VTIMEZONE
BEGIN:VEVENT
UID:22380b993384a825cfbd3a96973369b1
CATEGORIES:SVSt Veranstaltungen
CREATED:20170209T184337
SUMMARY:Allgemeiner Arbeitsdienst
DESCRIPTION:Messewart Wolfgang Schodrock freut sich über viele helfende Hände; folgende
  "Jobs" sind zu vergeben:\n\n - Stühle kontrollieren, defekte Stuhlgleiter 
 austauschen\n - Barstühle kontrollieren und ggf. reparieren\n - Tische (Füß
 e), kontrollieren und ggf. reparieren\n\n\n - WC-Trennwände abwischen\n\n\n
  - Heizungsschächte reinigen, Staubsauger\n - Feuerstelle im Kamin reinigen
 \n - Fensterrahmen säubern\n - Spinnweben beseitigen\n\n\n - Lampen säubern
  und Leuchtmittel überprüfen\n - Modellschiff säubern\n - Vitrinen reinigen
 \n - Informations-Schaukasten reinigen\n\n\n - Garderobenschränke reinigen\
 n - Schrankraum aufräumen\n - Schränke oben säubern\n\n\n - Sockelverkleidu
 ng Gebäude Südseite demontieren, Sockel auf Beschädigungen und Undichtigkei
 t prüfen!\n - Fassade Spinnweben entfernen\n - Fensterbretter außen reinige
 nWolfgang Schodrok | Tel. 030 4757348 | Mob. 0172 6184418 | E-Mail Diese E-
 Mail-Adresse ist vor Spambots geschützt! Zur Anzeige muss JavaScript einges
 chaltet sein!
				document.getElementById('cloakdd9b55bec4b300015b0cd8eec17
 e3940').innerHTML = '';
				var prefix = '&#109;a' + 'i&#108;' + '&#116;o';
 
				var path = 'hr' + 'ef' + '=';
				var addydd9b55bec4b300015b0cd8eec17e
 3940 = 'm&#101;ss&#101;' + '&#64;';
				addydd9b55bec4b300015b0cd8eec17e394
 0 = addydd9b55bec4b300015b0cd8eec17e3940 + 'svst' + '&#46;' + 'd&#101;';
		
 		var addy_textdd9b55bec4b300015b0cd8eec17e3940 = 'm&#101;ss&#101;' + '&#64
 ;' + 'svst' + '&#46;' + 'd&#101;';document.getElementById('cloakdd9b55bec4b
 300015b0cd8eec17e3940').innerHTML += '<a ' + path + '\'' + prefix + ':' + a
 ddydd9b55bec4b300015b0cd8eec17e3940 + '\'>'+addy_textdd9b55bec4b300015b0cd8
 eec17e3940+'';
		 \n\n
X-ALT-DESC;FMTTYPE=text/html:<p>Messewart Wolfgang Schodrock freut sich &uuml;ber viele helfende H&auml;
 nde; folgende "Jobs" sind zu vergeben:</p><ul><li>St&uuml;hle kontrollieren
 , defekte Stuhlgleiter austauschen</li><li>Barst&uuml;hle kontrollieren und
  ggf. reparieren</li><li>Tische (F&uuml;&szlig;e), kontrollieren und ggf. r
 eparieren<br /><br /></li><li>WC-Trennw&auml;nde abwischen<br /><br /></li>
 <li>Heizungssch&auml;chte reinigen, Staubsauger</li><li>Feuerstelle im Kami
 n reinigen</li><li>Fensterrahmen s&auml;ubern</li><li>Spinnweben beseitigen
 <br /><br /></li><li>Lampen s&auml;ubern und Leuchtmittel &uuml;berpr&uuml;
 fen</li><li>Modellschiff s&auml;ubern</li><li>Vitrinen reinigen</li><li>Inf
 ormations-Schaukasten reinigen<br /><br /></li><li>Garderobenschr&auml;nke 
 reinigen</li><li>Schrankraum aufr&auml;umen</li><li>Schr&auml;nke oben s&au
 ml;ubern<br /><br /></li><li>Sockelverkleidung Geb&auml;ude S&uuml;dseite d
 emontieren, Sockel auf Besch&auml;digungen und Undichtigkeit pr&uuml;fen!</
 li><li>Fassade Spinnweben entfernen</li><li>Fensterbretter au&szlig;en rein
 igen</li></ul><p><span style="font-size: 10pt; font-family: 'Arial','sans-s
 erif'; color: black;">Wolfgang Schodrok | </span><span style="font-size: 10
 pt; font-family: 'Arial','sans-serif'; color: black;">Tel. 030 </span>47573
 48 | Mob. 0172 6184418 | E-Mail <span id="cloakdd9b55bec4b300015b0cd8eec17e
 3940">Diese E-Mail-Adresse ist vor Spambots geschützt! Zur Anzeige muss Jav
 aScript eingeschaltet sein!</span><script type='text/javascript'>
				docum
 ent.getElementById('cloakdd9b55bec4b300015b0cd8eec17e3940').innerHTML = '';
 
				var prefix = '&#109;a' + 'i&#108;' + '&#116;o';
				var path = 'hr' + 
 'ef' + '=';
				var addydd9b55bec4b300015b0cd8eec17e3940 = 'm&#101;ss&#101;
 ' + '&#64;';
				addydd9b55bec4b300015b0cd8eec17e3940 = addydd9b55bec4b3000
 15b0cd8eec17e3940 + 'svst' + '&#46;' + 'd&#101;';
				var addy_textdd9b55be
 c4b300015b0cd8eec17e3940 = 'm&#101;ss&#101;' + '&#64;' + 'svst' + '&#46;' +
  'd&#101;';document.getElementById('cloakdd9b55bec4b300015b0cd8eec17e3940')
 .innerHTML += '<a ' + path + '\'' + prefix + ':' + addydd9b55bec4b300015b0c
 d8eec17e3940 + '\'>'+addy_textdd9b55bec4b300015b0cd8eec17e3940+'<\/a>';
		<
 /script> <span style="font-size: 7.5pt; font-family: 'Arial','sans-serif'; 
 color: black;"><br /></span></p>
DTSTAMP:20260420T085526
DTSTART;TZID=Europe/Berlin:20170401T090000
DTEND;TZID=Europe/Berlin:20170401T160000
SEQUENCE:0
TRANSP:OPAQUE
END:VEVENT
END:VCALENDAR