BEGIN:VCALENDAR
VERSION:2.0
PRODID:-//jEvents 2.0 for Joomla//EN
CALSCALE:GREGORIAN
METHOD:PUBLISH
BEGIN:VTIMEZONE
TZID:Europe/Berlin
BEGIN:STANDARD
DTSTART:20160212T110000
RDATE:20160327T030000
TZOFFSETFROM:+0200
TZOFFSETTO:+0100
TZNAME:Europe/Berlin CET
END:STANDARD
BEGIN:STANDARD
DTSTART:20161030T020000
RDATE:20170326T030000
TZOFFSETFROM:+0200
TZOFFSETTO:+0100
TZNAME:Europe/Berlin CET
END:STANDARD
BEGIN:STANDARD
DTSTART:20171029T020000
RDATE:20180325T030000
TZOFFSETFROM:+0200
TZOFFSETTO:+0100
TZNAME:Europe/Berlin CET
END:STANDARD
BEGIN:STANDARD
DTSTART:20181028T020000
RDATE:20190331T030000
TZOFFSETFROM:+0200
TZOFFSETTO:+0100
TZNAME:Europe/Berlin CET
END:STANDARD
BEGIN:STANDARD
DTSTART:20191027T020000
RDATE:20200329T030000
TZOFFSETFROM:+0200
TZOFFSETTO:+0100
TZNAME:Europe/Berlin CET
END:STANDARD
BEGIN:STANDARD
DTSTART:20201025T020000
RDATE:20210328T030000
TZOFFSETFROM:+0200
TZOFFSETTO:+0100
TZNAME:Europe/Berlin CET
END:STANDARD
BEGIN:STANDARD
DTSTART:20211031T020000
RDATE:20220327T030000
TZOFFSETFROM:+0200
TZOFFSETTO:+0100
TZNAME:Europe/Berlin CET
END:STANDARD
BEGIN:STANDARD
DTSTART:20221030T020000
RDATE:20230326T030000
TZOFFSETFROM:+0200
TZOFFSETTO:+0100
TZNAME:Europe/Berlin CET
END:STANDARD
BEGIN:STANDARD
DTSTART:20231029T020000
RDATE:20240331T030000
TZOFFSETFROM:+0200
TZOFFSETTO:+0100
TZNAME:Europe/Berlin CET
END:STANDARD
BEGIN:STANDARD
DTSTART:20241027T020000
RDATE:20250330T030000
TZOFFSETFROM:+0200
TZOFFSETTO:+0100
TZNAME:Europe/Berlin CET
END:STANDARD
BEGIN:STANDARD
DTSTART:20251026T020000
RDATE:20260329T030000
TZOFFSETFROM:+0200
TZOFFSETTO:+0100
TZNAME:Europe/Berlin CET
END:STANDARD
BEGIN:STANDARD
DTSTART:20261025T020000
RDATE:20270328T030000
TZOFFSETFROM:+0200
TZOFFSETTO:+0100
TZNAME:Europe/Berlin CET
END:STANDARD
BEGIN:STANDARD
DTSTART:20271031T020000
RDATE:20280326T030000
TZOFFSETFROM:+0200
TZOFFSETTO:+0100
TZNAME:Europe/Berlin CET
END:STANDARD
BEGIN:STANDARD
DTSTART:20281029T020000
RDATE:20290325T030000
TZOFFSETFROM:+0200
TZOFFSETTO:+0100
TZNAME:Europe/Berlin CET
END:STANDARD
BEGIN:STANDARD
DTSTART:20291028T020000
RDATE:20300331T030000
TZOFFSETFROM:+0200
TZOFFSETTO:+0100
TZNAME:Europe/Berlin CET
END:STANDARD
BEGIN:STANDARD
DTSTART:20301027T020000
RDATE:20310330T030000
TZOFFSETFROM:+0200
TZOFFSETTO:+0100
TZNAME:Europe/Berlin CET
END:STANDARD
BEGIN:DAYLIGHT
DTSTART:20160327T030000
RDATE:20161030T020000
TZOFFSETFROM:+0100
TZOFFSETTO:+0200
TZNAME:Europe/Berlin CEST
END:DAYLIGHT
BEGIN:DAYLIGHT
DTSTART:20170326T030000
RDATE:20171029T020000
TZOFFSETFROM:+0100
TZOFFSETTO:+0200
TZNAME:Europe/Berlin CEST
END:DAYLIGHT
BEGIN:DAYLIGHT
DTSTART:20180325T030000
RDATE:20181028T020000
TZOFFSETFROM:+0100
TZOFFSETTO:+0200
TZNAME:Europe/Berlin CEST
END:DAYLIGHT
BEGIN:DAYLIGHT
DTSTART:20190331T030000
RDATE:20191027T020000
TZOFFSETFROM:+0100
TZOFFSETTO:+0200
TZNAME:Europe/Berlin CEST
END:DAYLIGHT
BEGIN:DAYLIGHT
DTSTART:20200329T030000
RDATE:20201025T020000
TZOFFSETFROM:+0100
TZOFFSETTO:+0200
TZNAME:Europe/Berlin CEST
END:DAYLIGHT
BEGIN:DAYLIGHT
DTSTART:20210328T030000
RDATE:20211031T020000
TZOFFSETFROM:+0100
TZOFFSETTO:+0200
TZNAME:Europe/Berlin CEST
END:DAYLIGHT
BEGIN:DAYLIGHT
DTSTART:20220327T030000
RDATE:20221030T020000
TZOFFSETFROM:+0100
TZOFFSETTO:+0200
TZNAME:Europe/Berlin CEST
END:DAYLIGHT
BEGIN:DAYLIGHT
DTSTART:20230326T030000
RDATE:20231029T020000
TZOFFSETFROM:+0100
TZOFFSETTO:+0200
TZNAME:Europe/Berlin CEST
END:DAYLIGHT
BEGIN:DAYLIGHT
DTSTART:20240331T030000
RDATE:20241027T020000
TZOFFSETFROM:+0100
TZOFFSETTO:+0200
TZNAME:Europe/Berlin CEST
END:DAYLIGHT
BEGIN:DAYLIGHT
DTSTART:20250330T030000
RDATE:20251026T020000
TZOFFSETFROM:+0100
TZOFFSETTO:+0200
TZNAME:Europe/Berlin CEST
END:DAYLIGHT
BEGIN:DAYLIGHT
DTSTART:20260329T030000
RDATE:20261025T020000
TZOFFSETFROM:+0100
TZOFFSETTO:+0200
TZNAME:Europe/Berlin CEST
END:DAYLIGHT
BEGIN:DAYLIGHT
DTSTART:20270328T030000
RDATE:20271031T020000
TZOFFSETFROM:+0100
TZOFFSETTO:+0200
TZNAME:Europe/Berlin CEST
END:DAYLIGHT
BEGIN:DAYLIGHT
DTSTART:20280326T030000
RDATE:20281029T020000
TZOFFSETFROM:+0100
TZOFFSETTO:+0200
TZNAME:Europe/Berlin CEST
END:DAYLIGHT
BEGIN:DAYLIGHT
DTSTART:20290325T030000
RDATE:20291028T020000
TZOFFSETFROM:+0100
TZOFFSETTO:+0200
TZNAME:Europe/Berlin CEST
END:DAYLIGHT
BEGIN:DAYLIGHT
DTSTART:20300331T030000
RDATE:20301027T020000
TZOFFSETFROM:+0100
TZOFFSETTO:+0200
TZNAME:Europe/Berlin CEST
END:DAYLIGHT
END:VTIMEZONE
BEGIN:VEVENT
UID:143cf5d349704494feaae58c4ab3a700
CATEGORIES:SVSt Veranstaltungen
CREATED:20170204T111359
SUMMARY:"Neujahrsbrunch"
DESCRIPTION:Nach dem großen Erfolg vom letzten Jahr gibt es auch 2017 den "Neujahrsbrun
 ch" mit von allen Teilnehmern mitgebrachten Speisen und Getränken. \nWir si
 nd dankbar für Zu-/Absagen oder sonstige Rückmeldungen bis 10.02.2017 an Di
 ese E-Mail-Adresse ist vor Spambots geschützt! Zur Anzeige muss JavaScript 
 eingeschaltet sein!
				document.getElementById('cloak02f0d118eab7c2a17fa11
 da8fedb54a6').innerHTML = '';
				var prefix = '&#109;a' + 'i&#108;' + '&#1
 16;o';
				var path = 'hr' + 'ef' + '=';
				var addy02f0d118eab7c2a17fa11d
 a8fedb54a6 = '&#101;v&#97;-m&#97;r&#105;&#101;.h&#101;r&#105;ng' + '&#64;';
 
				addy02f0d118eab7c2a17fa11da8fedb54a6 = addy02f0d118eab7c2a17fa11da8fed
 b54a6 + 't-&#111;nl&#105;n&#101;' + '&#46;' + 'd&#101;';
				var addy_text0
 2f0d118eab7c2a17fa11da8fedb54a6 = '&#101;v&#97;-m&#97;r&#105;&#101;.h&#101;
 r&#105;ng' + '&#64;' + 't-&#111;nl&#105;n&#101;' + '&#46;' + 'd&#101;';docu
 ment.getElementById('cloak02f0d118eab7c2a17fa11da8fedb54a6').innerHTML += '
 <a ' + path + '\'' + prefix + ':' + addy02f0d118eab7c2a17fa11da8fedb54a6 + 
 '\'>'+addy_text02f0d118eab7c2a17fa11da8fedb54a6+'';
		\nHerzliche Grüße\nEv
 a-Marie Hering und Gabi Danker\n
X-ALT-DESC;FMTTYPE=text/html:<p>Nach dem gro&szlig;en Erfolg vom letzten Jahr gibt es auch 2017 den "<st
 rong>Neujahrsbrunch</strong>" mit von allen Teilnehmern mitgebrachten Speis
 en und Getr&auml;nken.&nbsp;</p><p>Wir sind dankbar f&uuml;r Zu-/Absagen od
 er sonstige R&uuml;ckmeldungen bis 10.02.2017 an <span id="cloak02f0d118eab
 7c2a17fa11da8fedb54a6">Diese E-Mail-Adresse ist vor Spambots geschützt! Zur
  Anzeige muss JavaScript eingeschaltet sein!</span><script type='text/javas
 cript'>
				document.getElementById('cloak02f0d118eab7c2a17fa11da8fedb54a6'
 ).innerHTML = '';
				var prefix = '&#109;a' + 'i&#108;' + '&#116;o';
				v
 ar path = 'hr' + 'ef' + '=';
				var addy02f0d118eab7c2a17fa11da8fedb54a6 =
  '&#101;v&#97;-m&#97;r&#105;&#101;.h&#101;r&#105;ng' + '&#64;';
				addy02f
 0d118eab7c2a17fa11da8fedb54a6 = addy02f0d118eab7c2a17fa11da8fedb54a6 + 't-&
 #111;nl&#105;n&#101;' + '&#46;' + 'd&#101;';
				var addy_text02f0d118eab7c
 2a17fa11da8fedb54a6 = '&#101;v&#97;-m&#97;r&#105;&#101;.h&#101;r&#105;ng' +
  '&#64;' + 't-&#111;nl&#105;n&#101;' + '&#46;' + 'd&#101;';document.getElem
 entById('cloak02f0d118eab7c2a17fa11da8fedb54a6').innerHTML += '<a ' + path 
 + '\'' + prefix + ':' + addy02f0d118eab7c2a17fa11da8fedb54a6 + '\'>'+addy_t
 ext02f0d118eab7c2a17fa11da8fedb54a6+'<\/a>';
		</script></p><p>Herzliche Gr
 &uuml;&szlig;e<br />Eva-Marie Hering und Gabi Danker</p>
DTSTAMP:20260420T122505
DTSTART;TZID=Europe/Berlin:20170212T110000
DTEND;TZID=Europe/Berlin:20170212T230000
SEQUENCE:0
TRANSP:OPAQUE
END:VEVENT
END:VCALENDAR