BEGIN:VCALENDAR
VERSION:2.0
PRODID:-//jEvents 2.0 for Joomla//EN
CALSCALE:GREGORIAN
METHOD:PUBLISH
BEGIN:VTIMEZONE
TZID:Europe/Berlin
BEGIN:STANDARD
DTSTART:20160317T130000
RDATE:20160327T030000
TZOFFSETFROM:+0200
TZOFFSETTO:+0100
TZNAME:Europe/Berlin CET
END:STANDARD
BEGIN:STANDARD
DTSTART:20161030T020000
RDATE:20170326T030000
TZOFFSETFROM:+0200
TZOFFSETTO:+0100
TZNAME:Europe/Berlin CET
END:STANDARD
BEGIN:STANDARD
DTSTART:20171029T020000
RDATE:20180325T030000
TZOFFSETFROM:+0200
TZOFFSETTO:+0100
TZNAME:Europe/Berlin CET
END:STANDARD
BEGIN:STANDARD
DTSTART:20181028T020000
RDATE:20190331T030000
TZOFFSETFROM:+0200
TZOFFSETTO:+0100
TZNAME:Europe/Berlin CET
END:STANDARD
BEGIN:STANDARD
DTSTART:20191027T020000
RDATE:20200329T030000
TZOFFSETFROM:+0200
TZOFFSETTO:+0100
TZNAME:Europe/Berlin CET
END:STANDARD
BEGIN:STANDARD
DTSTART:20201025T020000
RDATE:20210328T030000
TZOFFSETFROM:+0200
TZOFFSETTO:+0100
TZNAME:Europe/Berlin CET
END:STANDARD
BEGIN:STANDARD
DTSTART:20211031T020000
RDATE:20220327T030000
TZOFFSETFROM:+0200
TZOFFSETTO:+0100
TZNAME:Europe/Berlin CET
END:STANDARD
BEGIN:STANDARD
DTSTART:20221030T020000
RDATE:20230326T030000
TZOFFSETFROM:+0200
TZOFFSETTO:+0100
TZNAME:Europe/Berlin CET
END:STANDARD
BEGIN:STANDARD
DTSTART:20231029T020000
RDATE:20240331T030000
TZOFFSETFROM:+0200
TZOFFSETTO:+0100
TZNAME:Europe/Berlin CET
END:STANDARD
BEGIN:STANDARD
DTSTART:20241027T020000
RDATE:20250330T030000
TZOFFSETFROM:+0200
TZOFFSETTO:+0100
TZNAME:Europe/Berlin CET
END:STANDARD
BEGIN:STANDARD
DTSTART:20251026T020000
RDATE:20260329T030000
TZOFFSETFROM:+0200
TZOFFSETTO:+0100
TZNAME:Europe/Berlin CET
END:STANDARD
BEGIN:STANDARD
DTSTART:20261025T020000
RDATE:20270328T030000
TZOFFSETFROM:+0200
TZOFFSETTO:+0100
TZNAME:Europe/Berlin CET
END:STANDARD
BEGIN:STANDARD
DTSTART:20271031T020000
RDATE:20280326T030000
TZOFFSETFROM:+0200
TZOFFSETTO:+0100
TZNAME:Europe/Berlin CET
END:STANDARD
BEGIN:STANDARD
DTSTART:20281029T020000
RDATE:20290325T030000
TZOFFSETFROM:+0200
TZOFFSETTO:+0100
TZNAME:Europe/Berlin CET
END:STANDARD
BEGIN:STANDARD
DTSTART:20291028T020000
RDATE:20300331T030000
TZOFFSETFROM:+0200
TZOFFSETTO:+0100
TZNAME:Europe/Berlin CET
END:STANDARD
BEGIN:STANDARD
DTSTART:20301027T020000
RDATE:20310330T030000
TZOFFSETFROM:+0200
TZOFFSETTO:+0100
TZNAME:Europe/Berlin CET
END:STANDARD
BEGIN:DAYLIGHT
DTSTART:20160327T030000
RDATE:20161030T020000
TZOFFSETFROM:+0100
TZOFFSETTO:+0200
TZNAME:Europe/Berlin CEST
END:DAYLIGHT
BEGIN:DAYLIGHT
DTSTART:20170326T030000
RDATE:20171029T020000
TZOFFSETFROM:+0100
TZOFFSETTO:+0200
TZNAME:Europe/Berlin CEST
END:DAYLIGHT
BEGIN:DAYLIGHT
DTSTART:20180325T030000
RDATE:20181028T020000
TZOFFSETFROM:+0100
TZOFFSETTO:+0200
TZNAME:Europe/Berlin CEST
END:DAYLIGHT
BEGIN:DAYLIGHT
DTSTART:20190331T030000
RDATE:20191027T020000
TZOFFSETFROM:+0100
TZOFFSETTO:+0200
TZNAME:Europe/Berlin CEST
END:DAYLIGHT
BEGIN:DAYLIGHT
DTSTART:20200329T030000
RDATE:20201025T020000
TZOFFSETFROM:+0100
TZOFFSETTO:+0200
TZNAME:Europe/Berlin CEST
END:DAYLIGHT
BEGIN:DAYLIGHT
DTSTART:20210328T030000
RDATE:20211031T020000
TZOFFSETFROM:+0100
TZOFFSETTO:+0200
TZNAME:Europe/Berlin CEST
END:DAYLIGHT
BEGIN:DAYLIGHT
DTSTART:20220327T030000
RDATE:20221030T020000
TZOFFSETFROM:+0100
TZOFFSETTO:+0200
TZNAME:Europe/Berlin CEST
END:DAYLIGHT
BEGIN:DAYLIGHT
DTSTART:20230326T030000
RDATE:20231029T020000
TZOFFSETFROM:+0100
TZOFFSETTO:+0200
TZNAME:Europe/Berlin CEST
END:DAYLIGHT
BEGIN:DAYLIGHT
DTSTART:20240331T030000
RDATE:20241027T020000
TZOFFSETFROM:+0100
TZOFFSETTO:+0200
TZNAME:Europe/Berlin CEST
END:DAYLIGHT
BEGIN:DAYLIGHT
DTSTART:20250330T030000
RDATE:20251026T020000
TZOFFSETFROM:+0100
TZOFFSETTO:+0200
TZNAME:Europe/Berlin CEST
END:DAYLIGHT
BEGIN:DAYLIGHT
DTSTART:20260329T030000
RDATE:20261025T020000
TZOFFSETFROM:+0100
TZOFFSETTO:+0200
TZNAME:Europe/Berlin CEST
END:DAYLIGHT
BEGIN:DAYLIGHT
DTSTART:20270328T030000
RDATE:20271031T020000
TZOFFSETFROM:+0100
TZOFFSETTO:+0200
TZNAME:Europe/Berlin CEST
END:DAYLIGHT
BEGIN:DAYLIGHT
DTSTART:20280326T030000
RDATE:20281029T020000
TZOFFSETFROM:+0100
TZOFFSETTO:+0200
TZNAME:Europe/Berlin CEST
END:DAYLIGHT
BEGIN:DAYLIGHT
DTSTART:20290325T030000
RDATE:20291028T020000
TZOFFSETFROM:+0100
TZOFFSETTO:+0200
TZNAME:Europe/Berlin CEST
END:DAYLIGHT
BEGIN:DAYLIGHT
DTSTART:20300331T030000
RDATE:20301027T020000
TZOFFSETFROM:+0100
TZOFFSETTO:+0200
TZNAME:Europe/Berlin CEST
END:DAYLIGHT
END:VTIMEZONE
BEGIN:VEVENT
UID:eb5424b7a129562afbb17f0689ecd85e
CATEGORIES:SVSt Veranstaltungen
CREATED:20170119T194557
SUMMARY:Spleiß-Workshop
DESCRIPTION:Auch der 2. Termin für den Spleiß-Workshop ist ausgebucht.\nSpleißen - wie 
 geht das? \n „Beim Spleißen (….) werden die Kardeele gegen den Schlag unter
 gestreckt. \n Jedes Kardeel muss über das Kardeel zu seiner Linken geführt 
 und dann unter \n dem nächsten durchgeführt werden.“ (Seemannschaft, Bielef
 eld 2011, S. 334) \n \n Alles klar ? ? ? Wollen Sie Spleißen lernen? \n Dan
 n bietet der Spleiß-Workshop im SVSt dazu eine gute Gelegenheit.\n \n Inhal
 te:\nEinleitung und kleine Materialkunde zu verschiedenen TauwerkenAugsplei
 ß in geschlagenem Tauwerk, Hohlgeflechten (z.B. Dyneema) \n und Kernmantelg
 eflechten (moderne Schoten, Fallen etc.)Dyneema Softschäkel selber spleißen
  – inkl. DiamantknotenDen Teilnehmern wird Übungsmaterial/Tauwerk zur Verfü
 gung gestellt, \n das nach dem Workshop mit nach Hause genommen werden darf
 . \n Weiterhin werden die benötigten Spleißwerkzeuge für die Dauer des \n W
 orkshops zur Verfügung gestellt. Der Workshop wird von \n Fa. Tactix Yachti
 ng Solutions, Berlin durchgeführt werden.\n Im Anschluss an den Workshop kö
 nnen Spleißwerkzeuge einzeln oder \n im Set käuflich erworben werden.\nDaue
 r: ca. 4 Stunden | Teilnehmer: max. 10 Personen | Kosten: 59,00 € pro Perso
 n\n
X-ALT-DESC;FMTTYPE=text/html:<p><em>Auch der 2. Termin f&uuml;r den Splei&szlig;-Workshop ist ausgebucht
 .</em></p><p style="line-height: normal;"><strong>Splei&szlig;en - wie geht
  das?</strong> <br /> &bdquo;Beim Splei&szlig;en (&hellip;.) werden die Kar
 deele gegen den Schlag untergestreckt. <br /> Jedes Kardeel muss &uuml;ber 
 das Kardeel zu seiner Linken gef&uuml;hrt und dann unter <br /> dem n&auml;
 chsten durchgef&uuml;hrt werden.&ldquo; (Seemannschaft, Bielefeld 2011, S. 
 334) <br /> <br /> <strong>Alles klar ? ? ? Wollen Sie Splei&szlig;en lerne
 n?</strong> <br /> Dann bietet der Splei&szlig;-Workshop im SVSt dazu eine 
 gute Gelegenheit<strong>.<br /> <br /> Inhalte:</strong></p><ul><li style="
 line-height: normal;">Einleitung und kleine Materialkunde zu verschiedenen 
 Tauwerken</li><li style="line-height: normal;">Augsplei&szlig; in geschlage
 nem Tauwerk, Hohlgeflechten (z.B. Dyneema) <br /> und Kernmantelgeflechten 
 (moderne Schoten, Fallen etc.)</li><li style="line-height: normal;">Dyneema
  Softsch&auml;kel selber splei&szlig;en &ndash; inkl. Diamantknoten</li></u
 l><p style="line-height: normal;">Den Teilnehmern wird &Uuml;bungsmaterial/
 Tauwerk zur Verf&uuml;gung gestellt, <br /> das nach dem Workshop mit nach 
 Hause genommen werden darf. <br /> Weiterhin werden die ben&ouml;tigten Spl
 ei&szlig;werkzeuge f&uuml;r die Dauer des <br /> Workshops zur Verf&uuml;gu
 ng gestellt. Der Workshop wird von <br /> Fa. Tactix Yachting Solutions, Be
 rlin durchgef&uuml;hrt werden.<br /> Im Anschluss an den Workshop k&ouml;nn
 en Splei&szlig;werkzeuge einzeln oder <br /> im Set k&auml;uflich erworben 
 werden.</p><p style="line-height: normal;"><strong>Dauer</strong>: ca. 4 St
 unden | <strong>Teilnehmer</strong>: max. 10 Personen | <strong>Kosten</str
 ong>: 59,00 &euro; pro Person</p>
DTSTAMP:20260420T080638
DTSTART;TZID=Europe/Berlin:20170318T130000
SEQUENCE:0
TRANSP:OPAQUE
END:VEVENT
END:VCALENDAR