BEGIN:VCALENDAR
VERSION:2.0
PRODID:-//jEvents 2.0 for Joomla//EN
CALSCALE:GREGORIAN
METHOD:PUBLISH
BEGIN:VTIMEZONE
TZID:Europe/Berlin
BEGIN:STANDARD
DTSTART:20160212T110000
RDATE:20160327T030000
TZOFFSETFROM:+0200
TZOFFSETTO:+0100
TZNAME:Europe/Berlin CET
END:STANDARD
BEGIN:STANDARD
DTSTART:20161030T020000
RDATE:20170326T030000
TZOFFSETFROM:+0200
TZOFFSETTO:+0100
TZNAME:Europe/Berlin CET
END:STANDARD
BEGIN:STANDARD
DTSTART:20171029T020000
RDATE:20180325T030000
TZOFFSETFROM:+0200
TZOFFSETTO:+0100
TZNAME:Europe/Berlin CET
END:STANDARD
BEGIN:STANDARD
DTSTART:20181028T020000
RDATE:20190331T030000
TZOFFSETFROM:+0200
TZOFFSETTO:+0100
TZNAME:Europe/Berlin CET
END:STANDARD
BEGIN:STANDARD
DTSTART:20191027T020000
RDATE:20200329T030000
TZOFFSETFROM:+0200
TZOFFSETTO:+0100
TZNAME:Europe/Berlin CET
END:STANDARD
BEGIN:STANDARD
DTSTART:20201025T020000
RDATE:20210328T030000
TZOFFSETFROM:+0200
TZOFFSETTO:+0100
TZNAME:Europe/Berlin CET
END:STANDARD
BEGIN:STANDARD
DTSTART:20211031T020000
RDATE:20220327T030000
TZOFFSETFROM:+0200
TZOFFSETTO:+0100
TZNAME:Europe/Berlin CET
END:STANDARD
BEGIN:STANDARD
DTSTART:20221030T020000
RDATE:20230326T030000
TZOFFSETFROM:+0200
TZOFFSETTO:+0100
TZNAME:Europe/Berlin CET
END:STANDARD
BEGIN:STANDARD
DTSTART:20231029T020000
RDATE:20240331T030000
TZOFFSETFROM:+0200
TZOFFSETTO:+0100
TZNAME:Europe/Berlin CET
END:STANDARD
BEGIN:STANDARD
DTSTART:20241027T020000
RDATE:20250330T030000
TZOFFSETFROM:+0200
TZOFFSETTO:+0100
TZNAME:Europe/Berlin CET
END:STANDARD
BEGIN:STANDARD
DTSTART:20251026T020000
RDATE:20260329T030000
TZOFFSETFROM:+0200
TZOFFSETTO:+0100
TZNAME:Europe/Berlin CET
END:STANDARD
BEGIN:STANDARD
DTSTART:20261025T020000
RDATE:20270328T030000
TZOFFSETFROM:+0200
TZOFFSETTO:+0100
TZNAME:Europe/Berlin CET
END:STANDARD
BEGIN:STANDARD
DTSTART:20271031T020000
RDATE:20280326T030000
TZOFFSETFROM:+0200
TZOFFSETTO:+0100
TZNAME:Europe/Berlin CET
END:STANDARD
BEGIN:STANDARD
DTSTART:20281029T020000
RDATE:20290325T030000
TZOFFSETFROM:+0200
TZOFFSETTO:+0100
TZNAME:Europe/Berlin CET
END:STANDARD
BEGIN:STANDARD
DTSTART:20291028T020000
RDATE:20300331T030000
TZOFFSETFROM:+0200
TZOFFSETTO:+0100
TZNAME:Europe/Berlin CET
END:STANDARD
BEGIN:STANDARD
DTSTART:20301027T020000
RDATE:20310330T030000
TZOFFSETFROM:+0200
TZOFFSETTO:+0100
TZNAME:Europe/Berlin CET
END:STANDARD
BEGIN:DAYLIGHT
DTSTART:20160327T030000
RDATE:20161030T020000
TZOFFSETFROM:+0100
TZOFFSETTO:+0200
TZNAME:Europe/Berlin CEST
END:DAYLIGHT
BEGIN:DAYLIGHT
DTSTART:20170326T030000
RDATE:20171029T020000
TZOFFSETFROM:+0100
TZOFFSETTO:+0200
TZNAME:Europe/Berlin CEST
END:DAYLIGHT
BEGIN:DAYLIGHT
DTSTART:20180325T030000
RDATE:20181028T020000
TZOFFSETFROM:+0100
TZOFFSETTO:+0200
TZNAME:Europe/Berlin CEST
END:DAYLIGHT
BEGIN:DAYLIGHT
DTSTART:20190331T030000
RDATE:20191027T020000
TZOFFSETFROM:+0100
TZOFFSETTO:+0200
TZNAME:Europe/Berlin CEST
END:DAYLIGHT
BEGIN:DAYLIGHT
DTSTART:20200329T030000
RDATE:20201025T020000
TZOFFSETFROM:+0100
TZOFFSETTO:+0200
TZNAME:Europe/Berlin CEST
END:DAYLIGHT
BEGIN:DAYLIGHT
DTSTART:20210328T030000
RDATE:20211031T020000
TZOFFSETFROM:+0100
TZOFFSETTO:+0200
TZNAME:Europe/Berlin CEST
END:DAYLIGHT
BEGIN:DAYLIGHT
DTSTART:20220327T030000
RDATE:20221030T020000
TZOFFSETFROM:+0100
TZOFFSETTO:+0200
TZNAME:Europe/Berlin CEST
END:DAYLIGHT
BEGIN:DAYLIGHT
DTSTART:20230326T030000
RDATE:20231029T020000
TZOFFSETFROM:+0100
TZOFFSETTO:+0200
TZNAME:Europe/Berlin CEST
END:DAYLIGHT
BEGIN:DAYLIGHT
DTSTART:20240331T030000
RDATE:20241027T020000
TZOFFSETFROM:+0100
TZOFFSETTO:+0200
TZNAME:Europe/Berlin CEST
END:DAYLIGHT
BEGIN:DAYLIGHT
DTSTART:20250330T030000
RDATE:20251026T020000
TZOFFSETFROM:+0100
TZOFFSETTO:+0200
TZNAME:Europe/Berlin CEST
END:DAYLIGHT
BEGIN:DAYLIGHT
DTSTART:20260329T030000
RDATE:20261025T020000
TZOFFSETFROM:+0100
TZOFFSETTO:+0200
TZNAME:Europe/Berlin CEST
END:DAYLIGHT
BEGIN:DAYLIGHT
DTSTART:20270328T030000
RDATE:20271031T020000
TZOFFSETFROM:+0100
TZOFFSETTO:+0200
TZNAME:Europe/Berlin CEST
END:DAYLIGHT
BEGIN:DAYLIGHT
DTSTART:20280326T030000
RDATE:20281029T020000
TZOFFSETFROM:+0100
TZOFFSETTO:+0200
TZNAME:Europe/Berlin CEST
END:DAYLIGHT
BEGIN:DAYLIGHT
DTSTART:20290325T030000
RDATE:20291028T020000
TZOFFSETFROM:+0100
TZOFFSETTO:+0200
TZNAME:Europe/Berlin CEST
END:DAYLIGHT
BEGIN:DAYLIGHT
DTSTART:20300331T030000
RDATE:20301027T020000
TZOFFSETFROM:+0100
TZOFFSETTO:+0200
TZNAME:Europe/Berlin CEST
END:DAYLIGHT
END:VTIMEZONE
BEGIN:VEVENT
UID:887b417fdfe1c727858d43c022d9a628
CATEGORIES:SVSt Veranstaltungen
CREATED:20170108T131034
SUMMARY:Theoriekurs für SBF Binnen
DESCRIPTION:Beginn: voraussichtlich am 12. Februar\nDer Kurs bietet in 6 Terminen einen
  Einstieg in die Segeltheorie und ist die ideale Vorbereitung \nauf die the
 oretische Prüfung für den Sportbootführerschein Binnen, welche zentral beim
  \nPrüfungsausschuss für amtliche Sportbootführerscheine und Funkzeugnisse 
 Berlin abgelegt \nwerden kann.  Weitere Informationen zu  Führerscheinen, G
 ebühren und Prüfungsterminen/-orten \ngibt der Prüfungsausschuss Berlin (ht
 tp://www.pruefungsausschuss-berlin.org).\nDie Teilnahme am Theoriekurs ist 
 für (potenzielle) Mitglieder des SVSt kostenlos. \n\nAnsprechpartner für al
 le weiteren Informationen und Anmeldungen ist Jugendwart \nGünter Luckfiel 
 <a href="mailto:jugend@svst%20oder">Diese E-Mail-Adresse ist vor Spambots g
 eschützt! Zur Anzeige muss JavaScript eingeschaltet sein!
				document.getE
 lementById('cloak15fdfc147a5b25e07601aeb0bf1124ba').innerHTML = '';
				var
  prefix = '&#109;a' + 'i&#108;' + '&#116;o';
				var path = 'hr' + 'ef' + '
 =';
				var addy15fdfc147a5b25e07601aeb0bf1124ba = 'j&#117;g&#101;nd' + '&#
 64;';
				addy15fdfc147a5b25e07601aeb0bf1124ba = addy15fdfc147a5b25e07601ae
 b0bf1124ba + 'svst' + '&#46;' + 'd&#101;';
				var addy_text15fdfc147a5b25e
 07601aeb0bf1124ba = 'j&#117;g&#101;nd' + '&#64;' + 'svst' + '&#46;' + 'd&#1
 01;';document.getElementById('cloak15fdfc147a5b25e07601aeb0bf1124ba').inner
 HTML += '<a ' + path + '\'' + prefix + ':' + addy15fdfc147a5b25e07601aeb0bf
 1124ba + '\'>'+addy_text15fdfc147a5b25e07601aeb0bf1124ba+'';
		 </a>oder di
 rekt  (mailto:guenter@luckfiel.de)<a>Diese E-Mail-Adresse ist vor Spambots 
 geschützt! Zur Anzeige muss JavaScript eingeschaltet sein!
				document.get
 ElementById('cloakfdd4c84302b3d63968c3dedd587534fa').innerHTML = '';
				va
 r prefix = '&#109;a' + 'i&#108;' + '&#116;o';
				var path = 'hr' + 'ef' + 
 '=';
				var addyfdd4c84302b3d63968c3dedd587534fa = 'g&#117;&#101;nt&#101;r
 ' + '&#64;';
				addyfdd4c84302b3d63968c3dedd587534fa = addyfdd4c84302b3d63
 968c3dedd587534fa + 'l&#117;ckf&#105;&#101;l' + '&#46;' + 'd&#101;';
				va
 r addy_textfdd4c84302b3d63968c3dedd587534fa = 'g&#117;&#101;nt&#101;r' + '&
 #64;' + 'l&#117;ckf&#105;&#101;l' + '&#46;' + 'd&#101;';document.getElement
 ById('cloakfdd4c84302b3d63968c3dedd587534fa').innerHTML += '<a ' + path + '
 \'' + prefix + ':' + addyfdd4c84302b3d63968c3dedd587534fa + '\'>'+addy_text
 fdd4c84302b3d63968c3dedd587534fa+'';
		</a>\n
X-ALT-DESC;FMTTYPE=text/html:<p><span style="font-family: 'Calibri','sans-serif';"><b>Beginn: voraussich
 tlich am 12. Februar</b></span></p><p><span style="font-family: 'Calibri','
 sans-serif';">Der Kurs bietet in 6 Terminen einen Einstieg in die Segeltheo
 rie und ist die ideale Vorbereitung <br />auf die theoretische Pr&uuml;fung
  f&uuml;r den Sportbootf&uuml;hrerschein Binnen, welche zentral beim&nbsp;<
 br />Pr&uuml;fungsausschuss f&uuml;r amtliche Sportbootf&uuml;hrerscheine u
 nd Funkzeugnisse Berlin abgelegt <br />werden kann.&nbsp; Weitere Informati
 onen zu&nbsp; F&uuml;hrerscheinen, Geb&uuml;hren und Pr&uuml;fungsterminen/
 -orten <br />gibt der <a href="http://www.pruefungsausschuss-berlin.org" ta
 rget="_blank">Pr&uuml;fungsausschuss Berlin</a>.<br />Die Teilnahme am Theo
 riekurs ist f&uuml;r (potenzielle) Mitglieder des SVSt kostenlos. <br /></s
 pan></p><p><span style="font-family: 'Calibri','sans-serif';">Ansprechpartn
 er f&uuml;r alle weiteren Informationen und Anmeldungen ist Jugendwart <br 
 />G&uuml;nter Luckfiel <a href="mailto:jugend@svst oder"><span id="cloak15f
 dfc147a5b25e07601aeb0bf1124ba">Diese E-Mail-Adresse ist vor Spambots geschü
 tzt! Zur Anzeige muss JavaScript eingeschaltet sein!</span><script type='te
 xt/javascript'>
				document.getElementById('cloak15fdfc147a5b25e07601aeb0b
 f1124ba').innerHTML = '';
				var prefix = '&#109;a' + 'i&#108;' + '&#116;o
 ';
				var path = 'hr' + 'ef' + '=';
				var addy15fdfc147a5b25e07601aeb0bf
 1124ba = 'j&#117;g&#101;nd' + '&#64;';
				addy15fdfc147a5b25e07601aeb0bf11
 24ba = addy15fdfc147a5b25e07601aeb0bf1124ba + 'svst' + '&#46;' + 'd&#101;';
 
				var addy_text15fdfc147a5b25e07601aeb0bf1124ba = 'j&#117;g&#101;nd' + '
 &#64;' + 'svst' + '&#46;' + 'd&#101;';document.getElementById('cloak15fdfc1
 47a5b25e07601aeb0bf1124ba').innerHTML += '<a ' + path + '\'' + prefix + ':'
  + addy15fdfc147a5b25e07601aeb0bf1124ba + '\'>'+addy_text15fdfc147a5b25e076
 01aeb0bf1124ba+'<\/a>';
		</script> </a>oder direkt <a href="mailto:guenter
 @luckfiel.de"><span style="color: purple;"></span></a><a><span id="cloakfdd
 4c84302b3d63968c3dedd587534fa">Diese E-Mail-Adresse ist vor Spambots geschü
 tzt! Zur Anzeige muss JavaScript eingeschaltet sein!</span><script type='te
 xt/javascript'>
				document.getElementById('cloakfdd4c84302b3d63968c3dedd5
 87534fa').innerHTML = '';
				var prefix = '&#109;a' + 'i&#108;' + '&#116;o
 ';
				var path = 'hr' + 'ef' + '=';
				var addyfdd4c84302b3d63968c3dedd58
 7534fa = 'g&#117;&#101;nt&#101;r' + '&#64;';
				addyfdd4c84302b3d63968c3de
 dd587534fa = addyfdd4c84302b3d63968c3dedd587534fa + 'l&#117;ckf&#105;&#101;
 l' + '&#46;' + 'd&#101;';
				var addy_textfdd4c84302b3d63968c3dedd587534fa
  = 'g&#117;&#101;nt&#101;r' + '&#64;' + 'l&#117;ckf&#105;&#101;l' + '&#46;'
  + 'd&#101;';document.getElementById('cloakfdd4c84302b3d63968c3dedd587534fa
 ').innerHTML += '<a ' + path + '\'' + prefix + ':' + addyfdd4c84302b3d63968
 c3dedd587534fa + '\'>'+addy_textfdd4c84302b3d63968c3dedd587534fa+'<\/a>';
	
 	</script></a></span></p>
DTSTAMP:20260420T232815
DTSTART;TZID=Europe/Berlin:20170212T110000
DTEND;TZID=Europe/Berlin:20170212T130000
SEQUENCE:0
TRANSP:OPAQUE
END:VEVENT
END:VCALENDAR