BEGIN:VCALENDAR
VERSION:2.0
PRODID:-//jEvents 2.0 for Joomla//EN
CALSCALE:GREGORIAN
METHOD:PUBLISH
BEGIN:VTIMEZONE
TZID:Europe/Berlin
BEGIN:STANDARD
DTSTART:20160310T130000
RDATE:20160327T030000
TZOFFSETFROM:+0200
TZOFFSETTO:+0100
TZNAME:Europe/Berlin CET
END:STANDARD
BEGIN:STANDARD
DTSTART:20161030T020000
RDATE:20170326T030000
TZOFFSETFROM:+0200
TZOFFSETTO:+0100
TZNAME:Europe/Berlin CET
END:STANDARD
BEGIN:STANDARD
DTSTART:20171029T020000
RDATE:20180325T030000
TZOFFSETFROM:+0200
TZOFFSETTO:+0100
TZNAME:Europe/Berlin CET
END:STANDARD
BEGIN:STANDARD
DTSTART:20181028T020000
RDATE:20190331T030000
TZOFFSETFROM:+0200
TZOFFSETTO:+0100
TZNAME:Europe/Berlin CET
END:STANDARD
BEGIN:STANDARD
DTSTART:20191027T020000
RDATE:20200329T030000
TZOFFSETFROM:+0200
TZOFFSETTO:+0100
TZNAME:Europe/Berlin CET
END:STANDARD
BEGIN:STANDARD
DTSTART:20201025T020000
RDATE:20210328T030000
TZOFFSETFROM:+0200
TZOFFSETTO:+0100
TZNAME:Europe/Berlin CET
END:STANDARD
BEGIN:STANDARD
DTSTART:20211031T020000
RDATE:20220327T030000
TZOFFSETFROM:+0200
TZOFFSETTO:+0100
TZNAME:Europe/Berlin CET
END:STANDARD
BEGIN:STANDARD
DTSTART:20221030T020000
RDATE:20230326T030000
TZOFFSETFROM:+0200
TZOFFSETTO:+0100
TZNAME:Europe/Berlin CET
END:STANDARD
BEGIN:STANDARD
DTSTART:20231029T020000
RDATE:20240331T030000
TZOFFSETFROM:+0200
TZOFFSETTO:+0100
TZNAME:Europe/Berlin CET
END:STANDARD
BEGIN:STANDARD
DTSTART:20241027T020000
RDATE:20250330T030000
TZOFFSETFROM:+0200
TZOFFSETTO:+0100
TZNAME:Europe/Berlin CET
END:STANDARD
BEGIN:STANDARD
DTSTART:20251026T020000
RDATE:20260329T030000
TZOFFSETFROM:+0200
TZOFFSETTO:+0100
TZNAME:Europe/Berlin CET
END:STANDARD
BEGIN:STANDARD
DTSTART:20261025T020000
RDATE:20270328T030000
TZOFFSETFROM:+0200
TZOFFSETTO:+0100
TZNAME:Europe/Berlin CET
END:STANDARD
BEGIN:STANDARD
DTSTART:20271031T020000
RDATE:20280326T030000
TZOFFSETFROM:+0200
TZOFFSETTO:+0100
TZNAME:Europe/Berlin CET
END:STANDARD
BEGIN:STANDARD
DTSTART:20281029T020000
RDATE:20290325T030000
TZOFFSETFROM:+0200
TZOFFSETTO:+0100
TZNAME:Europe/Berlin CET
END:STANDARD
BEGIN:STANDARD
DTSTART:20291028T020000
RDATE:20300331T030000
TZOFFSETFROM:+0200
TZOFFSETTO:+0100
TZNAME:Europe/Berlin CET
END:STANDARD
BEGIN:STANDARD
DTSTART:20301027T020000
RDATE:20310330T030000
TZOFFSETFROM:+0200
TZOFFSETTO:+0100
TZNAME:Europe/Berlin CET
END:STANDARD
BEGIN:DAYLIGHT
DTSTART:20160327T030000
RDATE:20161030T020000
TZOFFSETFROM:+0100
TZOFFSETTO:+0200
TZNAME:Europe/Berlin CEST
END:DAYLIGHT
BEGIN:DAYLIGHT
DTSTART:20170326T030000
RDATE:20171029T020000
TZOFFSETFROM:+0100
TZOFFSETTO:+0200
TZNAME:Europe/Berlin CEST
END:DAYLIGHT
BEGIN:DAYLIGHT
DTSTART:20180325T030000
RDATE:20181028T020000
TZOFFSETFROM:+0100
TZOFFSETTO:+0200
TZNAME:Europe/Berlin CEST
END:DAYLIGHT
BEGIN:DAYLIGHT
DTSTART:20190331T030000
RDATE:20191027T020000
TZOFFSETFROM:+0100
TZOFFSETTO:+0200
TZNAME:Europe/Berlin CEST
END:DAYLIGHT
BEGIN:DAYLIGHT
DTSTART:20200329T030000
RDATE:20201025T020000
TZOFFSETFROM:+0100
TZOFFSETTO:+0200
TZNAME:Europe/Berlin CEST
END:DAYLIGHT
BEGIN:DAYLIGHT
DTSTART:20210328T030000
RDATE:20211031T020000
TZOFFSETFROM:+0100
TZOFFSETTO:+0200
TZNAME:Europe/Berlin CEST
END:DAYLIGHT
BEGIN:DAYLIGHT
DTSTART:20220327T030000
RDATE:20221030T020000
TZOFFSETFROM:+0100
TZOFFSETTO:+0200
TZNAME:Europe/Berlin CEST
END:DAYLIGHT
BEGIN:DAYLIGHT
DTSTART:20230326T030000
RDATE:20231029T020000
TZOFFSETFROM:+0100
TZOFFSETTO:+0200
TZNAME:Europe/Berlin CEST
END:DAYLIGHT
BEGIN:DAYLIGHT
DTSTART:20240331T030000
RDATE:20241027T020000
TZOFFSETFROM:+0100
TZOFFSETTO:+0200
TZNAME:Europe/Berlin CEST
END:DAYLIGHT
BEGIN:DAYLIGHT
DTSTART:20250330T030000
RDATE:20251026T020000
TZOFFSETFROM:+0100
TZOFFSETTO:+0200
TZNAME:Europe/Berlin CEST
END:DAYLIGHT
BEGIN:DAYLIGHT
DTSTART:20260329T030000
RDATE:20261025T020000
TZOFFSETFROM:+0100
TZOFFSETTO:+0200
TZNAME:Europe/Berlin CEST
END:DAYLIGHT
BEGIN:DAYLIGHT
DTSTART:20270328T030000
RDATE:20271031T020000
TZOFFSETFROM:+0100
TZOFFSETTO:+0200
TZNAME:Europe/Berlin CEST
END:DAYLIGHT
BEGIN:DAYLIGHT
DTSTART:20280326T030000
RDATE:20281029T020000
TZOFFSETFROM:+0100
TZOFFSETTO:+0200
TZNAME:Europe/Berlin CEST
END:DAYLIGHT
BEGIN:DAYLIGHT
DTSTART:20290325T030000
RDATE:20291028T020000
TZOFFSETFROM:+0100
TZOFFSETTO:+0200
TZNAME:Europe/Berlin CEST
END:DAYLIGHT
BEGIN:DAYLIGHT
DTSTART:20300331T030000
RDATE:20301027T020000
TZOFFSETFROM:+0100
TZOFFSETTO:+0200
TZNAME:Europe/Berlin CEST
END:DAYLIGHT
END:VTIMEZONE
BEGIN:VEVENT
UID:6fa022a9ef5baef7bb9273435730bbb2
CATEGORIES:SVSt Veranstaltungen
CREATED:20170105T170612
SUMMARY:Spleiß-Workshop
DESCRIPTION:Der Spleiß-Workshop am 11. März ist ausgebucht, weiterer Termin am 18. März
 .\nSpleißen - wie geht das? \n„Beim Spleißen (….) werden die Kardeele gegen
  den Schlag untergestreckt. \nJedes Kardeel muss über das Kardeel zu seiner
  Linken geführt und dann unter \ndem nächsten durchgeführt werden.“ (Seeman
 nschaft, Bielefeld 2011, S. 334) \n\nAlles klar ? ? ? Wollen Sie Spleißen l
 ernen? \nDann bietet der Spleiß-Workshop im SVSt dazu eine gute Gelegenheit
 .\n\nInhalte:\n\n - Einleitung und kleine Materialkunde zu verschiedenen Ta
 uwerken\n - Augspleiß in geschlagenem Tauwerk, Hohlgeflechten (z.B. Dyneema
 ) \nund Kernmantelgeflechten (moderne Schoten, Fallen etc.)\n - Dyneema Sof
 tschäkel selber spleißen – inkl. DiamantknotenDen Teilnehmern wird Übungsma
 terial/Tauwerk zur Verfügung gestellt, \ndas nach dem Workshop mit nach Hau
 se genommen werden darf. \nWeiterhin werden die benötigten Spleißwerkzeuge 
 für die Dauer des \nWorkshops zur Verfügung gestellt. Der Workshop wird von
  \nFa. Tactix Yachting Solutions, Berlin durchgeführt werden.\nIm Anschluss
  an den Workshop können Spleißwerkzeuge einzeln oder \nim Set käuflich erwo
 rben werden.\nDauer: ca. 4 Stunden | Teilnehmer: max. 10 Personen | Kosten:
  59,00 € pro Person\nWir bitten um verbindliche Anmeldung bis 27. Februar a
 n Diese E-Mail-Adresse ist vor Spambots geschützt! Zur Anzeige muss JavaScr
 ipt eingeschaltet sein!
				document.getElementById('cloak88326251143cbea54
 9fd954e12eaeb3b').innerHTML = '';
				var prefix = '&#109;a' + 'i&#108;' + 
 '&#116;o';
				var path = 'hr' + 'ef' + '=';
				var addy88326251143cbea549
 fd954e12eaeb3b = 'm&#101;ss&#101;' + '&#64;';
				addy88326251143cbea549fd9
 54e12eaeb3b = addy88326251143cbea549fd954e12eaeb3b + 'svst' + '&#46;' + 'd&
 #101;';
				var addy_text88326251143cbea549fd954e12eaeb3b = 'm&#101;ss&#101
 ;' + '&#64;' + 'svst' + '&#46;' + 'd&#101;';document.getElementById('cloak8
 8326251143cbea549fd954e12eaeb3b').innerHTML += '<a ' + path + '\'' + prefix
  + ':' + addy88326251143cbea549fd954e12eaeb3b + '\'>'+addy_text88326251143c
 bea549fd954e12eaeb3b+'';
		  (mailto:bernd.gierlich@t-online.de)\n
X-ALT-DESC;FMTTYPE=text/html:<p><em>Der Splei&szlig;-Workshop am 11. M&auml;rz ist ausgebucht, weiterer 
 Termin am 18. M&auml;rz.</em></p><p><strong>Splei&szlig;en - wie geht das?<
 /strong> <br />&bdquo;Beim Splei&szlig;en (&hellip;.) werden die Kardeele g
 egen den Schlag untergestreckt. <br />Jedes Kardeel muss &uuml;ber das Kard
 eel zu seiner Linken gef&uuml;hrt und dann unter <br />dem n&auml;chsten du
 rchgef&uuml;hrt werden.&ldquo; (Seemannschaft, Bielefeld 2011, S. 334) <br 
 /><br /><strong>Alles klar ? ? ? Wollen Sie Splei&szlig;en lernen?</strong>
  <br />Dann bietet der Splei&szlig;-Workshop im SVSt dazu eine gute Gelegen
 heit<strong>.<br /><br />Inhalte:</strong></p><ul><li>Einleitung und kleine
  Materialkunde zu verschiedenen Tauwerken</li><li>Augsplei&szlig; in geschl
 agenem Tauwerk, Hohlgeflechten (z.B. Dyneema) <br />und Kernmantelgeflechte
 n (moderne Schoten, Fallen etc.)</li><li>Dyneema Softsch&auml;kel selber sp
 lei&szlig;en &ndash; inkl. Diamantknoten</li></ul><p>Den Teilnehmern wird &
 Uuml;bungsmaterial/Tauwerk zur Verf&uuml;gung gestellt, <br />das nach dem 
 Workshop mit nach Hause genommen werden darf. <br />Weiterhin werden die be
 n&ouml;tigten Splei&szlig;werkzeuge f&uuml;r die Dauer des <br />Workshops 
 zur Verf&uuml;gung gestellt. Der Workshop wird von <br />Fa. Tactix Yachtin
 g Solutions, Berlin durchgef&uuml;hrt werden.<br />Im Anschluss an den Work
 shop k&ouml;nnen Splei&szlig;werkzeuge einzeln oder <br />im Set k&auml;ufl
 ich erworben werden.</p><p><strong>Dauer</strong>: ca. 4 Stunden | <strong>
 Teilnehmer</strong>: max. 10 Personen | <strong>Kosten</strong>: 59,00 &eur
 o; pro Person</p><p>Wir bitten um verbindliche <strong>Anmeldung bis 27. Fe
 bruar</strong> an <span id="cloak88326251143cbea549fd954e12eaeb3b">Diese E-
 Mail-Adresse ist vor Spambots geschützt! Zur Anzeige muss JavaScript einges
 chaltet sein!</span><script type='text/javascript'>
				document.getElement
 ById('cloak88326251143cbea549fd954e12eaeb3b').innerHTML = '';
				var prefi
 x = '&#109;a' + 'i&#108;' + '&#116;o';
				var path = 'hr' + 'ef' + '=';
		
 		var addy88326251143cbea549fd954e12eaeb3b = 'm&#101;ss&#101;' + '&#64;';
	
 			addy88326251143cbea549fd954e12eaeb3b = addy88326251143cbea549fd954e12eae
 b3b + 'svst' + '&#46;' + 'd&#101;';
				var addy_text88326251143cbea549fd95
 4e12eaeb3b = 'm&#101;ss&#101;' + '&#64;' + 'svst' + '&#46;' + 'd&#101;';doc
 ument.getElementById('cloak88326251143cbea549fd954e12eaeb3b').innerHTML += 
 '<a ' + path + '\'' + prefix + ':' + addy88326251143cbea549fd954e12eaeb3b +
  '\'>'+addy_text88326251143cbea549fd954e12eaeb3b+'<\/a>';
		</script> <a hr
 ef="mailto:bernd.gierlich@t-online.de"></a></p>
DTSTAMP:20260420T132128
DTSTART;TZID=Europe/Berlin:20170311T130000
DTEND;TZID=Europe/Berlin:20170311T170000
SEQUENCE:0
TRANSP:OPAQUE
END:VEVENT
END:VCALENDAR