BEGIN:VCALENDAR
VERSION:2.0
PRODID:-//jEvents 2.0 for Joomla//EN
CALSCALE:GREGORIAN
METHOD:PUBLISH
BEGIN:VTIMEZONE
TZID:Europe/Berlin
BEGIN:STANDARD
DTSTART:20151025T020000
RDATE:20160327T030000
TZOFFSETFROM:+0200
TZOFFSETTO:+0100
TZNAME:Europe/Berlin CET
END:STANDARD
BEGIN:STANDARD
DTSTART:20161030T020000
RDATE:20170326T030000
TZOFFSETFROM:+0200
TZOFFSETTO:+0100
TZNAME:Europe/Berlin CET
END:STANDARD
BEGIN:STANDARD
DTSTART:20171029T020000
RDATE:20180325T030000
TZOFFSETFROM:+0200
TZOFFSETTO:+0100
TZNAME:Europe/Berlin CET
END:STANDARD
BEGIN:STANDARD
DTSTART:20181028T020000
RDATE:20190331T030000
TZOFFSETFROM:+0200
TZOFFSETTO:+0100
TZNAME:Europe/Berlin CET
END:STANDARD
BEGIN:STANDARD
DTSTART:20191027T020000
RDATE:20200329T030000
TZOFFSETFROM:+0200
TZOFFSETTO:+0100
TZNAME:Europe/Berlin CET
END:STANDARD
BEGIN:STANDARD
DTSTART:20201025T020000
RDATE:20210328T030000
TZOFFSETFROM:+0200
TZOFFSETTO:+0100
TZNAME:Europe/Berlin CET
END:STANDARD
BEGIN:STANDARD
DTSTART:20211031T020000
RDATE:20220327T030000
TZOFFSETFROM:+0200
TZOFFSETTO:+0100
TZNAME:Europe/Berlin CET
END:STANDARD
BEGIN:STANDARD
DTSTART:20221030T020000
RDATE:20230326T030000
TZOFFSETFROM:+0200
TZOFFSETTO:+0100
TZNAME:Europe/Berlin CET
END:STANDARD
BEGIN:STANDARD
DTSTART:20231029T020000
RDATE:20240331T030000
TZOFFSETFROM:+0200
TZOFFSETTO:+0100
TZNAME:Europe/Berlin CET
END:STANDARD
BEGIN:STANDARD
DTSTART:20241027T020000
RDATE:20250330T030000
TZOFFSETFROM:+0200
TZOFFSETTO:+0100
TZNAME:Europe/Berlin CET
END:STANDARD
BEGIN:STANDARD
DTSTART:20251026T020000
RDATE:20260329T030000
TZOFFSETFROM:+0200
TZOFFSETTO:+0100
TZNAME:Europe/Berlin CET
END:STANDARD
BEGIN:STANDARD
DTSTART:20261025T020000
RDATE:20270328T030000
TZOFFSETFROM:+0200
TZOFFSETTO:+0100
TZNAME:Europe/Berlin CET
END:STANDARD
BEGIN:STANDARD
DTSTART:20271031T020000
RDATE:20280326T030000
TZOFFSETFROM:+0200
TZOFFSETTO:+0100
TZNAME:Europe/Berlin CET
END:STANDARD
BEGIN:STANDARD
DTSTART:20281029T020000
RDATE:20290325T030000
TZOFFSETFROM:+0200
TZOFFSETTO:+0100
TZNAME:Europe/Berlin CET
END:STANDARD
BEGIN:STANDARD
DTSTART:20291028T020000
RDATE:20300331T030000
TZOFFSETFROM:+0200
TZOFFSETTO:+0100
TZNAME:Europe/Berlin CET
END:STANDARD
BEGIN:STANDARD
DTSTART:20301027T020000
RDATE:20310330T030000
TZOFFSETFROM:+0200
TZOFFSETTO:+0100
TZNAME:Europe/Berlin CET
END:STANDARD
BEGIN:DAYLIGHT
DTSTART:20151016T000000
RDATE:20151025T020000
TZOFFSETFROM:+0100
TZOFFSETTO:+0200
TZNAME:Europe/Berlin CEST
END:DAYLIGHT
BEGIN:DAYLIGHT
DTSTART:20160327T030000
RDATE:20161030T020000
TZOFFSETFROM:+0100
TZOFFSETTO:+0200
TZNAME:Europe/Berlin CEST
END:DAYLIGHT
BEGIN:DAYLIGHT
DTSTART:20170326T030000
RDATE:20171029T020000
TZOFFSETFROM:+0100
TZOFFSETTO:+0200
TZNAME:Europe/Berlin CEST
END:DAYLIGHT
BEGIN:DAYLIGHT
DTSTART:20180325T030000
RDATE:20181028T020000
TZOFFSETFROM:+0100
TZOFFSETTO:+0200
TZNAME:Europe/Berlin CEST
END:DAYLIGHT
BEGIN:DAYLIGHT
DTSTART:20190331T030000
RDATE:20191027T020000
TZOFFSETFROM:+0100
TZOFFSETTO:+0200
TZNAME:Europe/Berlin CEST
END:DAYLIGHT
BEGIN:DAYLIGHT
DTSTART:20200329T030000
RDATE:20201025T020000
TZOFFSETFROM:+0100
TZOFFSETTO:+0200
TZNAME:Europe/Berlin CEST
END:DAYLIGHT
BEGIN:DAYLIGHT
DTSTART:20210328T030000
RDATE:20211031T020000
TZOFFSETFROM:+0100
TZOFFSETTO:+0200
TZNAME:Europe/Berlin CEST
END:DAYLIGHT
BEGIN:DAYLIGHT
DTSTART:20220327T030000
RDATE:20221030T020000
TZOFFSETFROM:+0100
TZOFFSETTO:+0200
TZNAME:Europe/Berlin CEST
END:DAYLIGHT
BEGIN:DAYLIGHT
DTSTART:20230326T030000
RDATE:20231029T020000
TZOFFSETFROM:+0100
TZOFFSETTO:+0200
TZNAME:Europe/Berlin CEST
END:DAYLIGHT
BEGIN:DAYLIGHT
DTSTART:20240331T030000
RDATE:20241027T020000
TZOFFSETFROM:+0100
TZOFFSETTO:+0200
TZNAME:Europe/Berlin CEST
END:DAYLIGHT
BEGIN:DAYLIGHT
DTSTART:20250330T030000
RDATE:20251026T020000
TZOFFSETFROM:+0100
TZOFFSETTO:+0200
TZNAME:Europe/Berlin CEST
END:DAYLIGHT
BEGIN:DAYLIGHT
DTSTART:20260329T030000
RDATE:20261025T020000
TZOFFSETFROM:+0100
TZOFFSETTO:+0200
TZNAME:Europe/Berlin CEST
END:DAYLIGHT
BEGIN:DAYLIGHT
DTSTART:20270328T030000
RDATE:20271031T020000
TZOFFSETFROM:+0100
TZOFFSETTO:+0200
TZNAME:Europe/Berlin CEST
END:DAYLIGHT
BEGIN:DAYLIGHT
DTSTART:20280326T030000
RDATE:20281029T020000
TZOFFSETFROM:+0100
TZOFFSETTO:+0200
TZNAME:Europe/Berlin CEST
END:DAYLIGHT
BEGIN:DAYLIGHT
DTSTART:20290325T030000
RDATE:20291028T020000
TZOFFSETFROM:+0100
TZOFFSETTO:+0200
TZNAME:Europe/Berlin CEST
END:DAYLIGHT
BEGIN:DAYLIGHT
DTSTART:20300331T030000
RDATE:20301027T020000
TZOFFSETFROM:+0100
TZOFFSETTO:+0200
TZNAME:Europe/Berlin CEST
END:DAYLIGHT
END:VTIMEZONE
BEGIN:VEVENT
UID:08bbb40ddbaf5e3f6ae41c19e688ba64
CATEGORIES:SVSt Veranstaltungen
CREATED:20161123T144432
SUMMARY:Vliegende Hollander | Segeltörn auf dem Ijsselmeer
DESCRIPTION:Für Mitglieder des SVSt und deren Freunde | Preis: 195 € mit Verpflegung | 
 Anmeldung bis 30.05.16 bei Diese E-Mail-Adresse ist vor Spambots geschützt!
  Zur Anzeige muss JavaScript eingeschaltet sein!
				document.getElementByI
 d('cloakf276e5aec3d07d758f492e2b58a317fa').innerHTML = '';
				var prefix =
  '&#109;a' + 'i&#108;' + '&#116;o';
				var path = 'hr' + 'ef' + '=';
				v
 ar addyf276e5aec3d07d758f492e2b58a317fa = '&#105;r&#105;n&#97;.g&#97;lk&#10
 5;n&#97;' + '&#64;';
				addyf276e5aec3d07d758f492e2b58a317fa = addyf276e5a
 ec3d07d758f492e2b58a317fa + 'w&#101;b' + '&#46;' + 'd&#101;';
				var addy_
 textf276e5aec3d07d758f492e2b58a317fa = '&#105;r&#105;n&#97;.g&#97;lk&#105;n
 &#97;' + '&#64;' + 'w&#101;b' + '&#46;' + 'd&#101;';document.getElementById
 ('cloakf276e5aec3d07d758f492e2b58a317fa').innerHTML += '<a ' + path + '\'' 
 + prefix + ':' + addyf276e5aec3d07d758f492e2b58a317fa + '\'>'+addy_textf276
 e5aec3d07d758f492e2b58a317fa+'';
		\nWer schon als Kind davon geträumt hat,
  dem berühmten „Fliegenden Holländer“ zu begegnen oder darauf zu segeln, de
 r sollte nun dem Lockruf folgen, an Bord gehen und den Mythos wieder belebe
 n.\n
X-ALT-DESC;FMTTYPE=text/html:<p>F&uuml;r Mitglieder des SVSt und deren Freunde | Preis: 195 &euro; mit V
 erpflegung | Anmeldung bis 30.05.16 bei <span id="cloakf276e5aec3d07d758f49
 2e2b58a317fa">Diese E-Mail-Adresse ist vor Spambots geschützt! Zur Anzeige 
 muss JavaScript eingeschaltet sein!</span><script type='text/javascript'>
	
 			document.getElementById('cloakf276e5aec3d07d758f492e2b58a317fa').innerHT
 ML = '';
				var prefix = '&#109;a' + 'i&#108;' + '&#116;o';
				var path =
  'hr' + 'ef' + '=';
				var addyf276e5aec3d07d758f492e2b58a317fa = '&#105;r
 &#105;n&#97;.g&#97;lk&#105;n&#97;' + '&#64;';
				addyf276e5aec3d07d758f492
 e2b58a317fa = addyf276e5aec3d07d758f492e2b58a317fa + 'w&#101;b' + '&#46;' +
  'd&#101;';
				var addy_textf276e5aec3d07d758f492e2b58a317fa = '&#105;r&#1
 05;n&#97;.g&#97;lk&#105;n&#97;' + '&#64;' + 'w&#101;b' + '&#46;' + 'd&#101;
 ';document.getElementById('cloakf276e5aec3d07d758f492e2b58a317fa').innerHTM
 L += '<a ' + path + '\'' + prefix + ':' + addyf276e5aec3d07d758f492e2b58a31
 7fa + '\'>'+addy_textf276e5aec3d07d758f492e2b58a317fa+'<\/a>';
		</script><
 /p><p>Wer schon als Kind davon getr&auml;umt hat, dem ber&uuml;hmten &bdquo
 ;Fliegenden Holl&auml;nder&ldquo; zu begegnen oder darauf zu segeln, der so
 llte nun dem Lockruf folgen, an Bord gehen und den Mythos wieder beleben.</
 p>
DTSTAMP:20260420T075336
DTSTART;TZID=Europe/Berlin;VALUE=DATE:20161016
DTEND;TZID=Europe/Berlin;VALUE=DATE:20161022
SEQUENCE:0
TRANSP:OPAQUE
END:VEVENT
END:VCALENDAR