BEGIN:VCALENDAR
VERSION:2.0
PRODID:-//jEvents 2.0 for Joomla//EN
CALSCALE:GREGORIAN
METHOD:PUBLISH
BEGIN:VTIMEZONE
TZID:Europe/Berlin
BEGIN:STANDARD
DTSTART:20160303T000000
RDATE:20160327T030000
TZOFFSETFROM:+0200
TZOFFSETTO:+0100
TZNAME:Europe/Berlin CET
END:STANDARD
BEGIN:STANDARD
DTSTART:20161030T020000
RDATE:20170326T030000
TZOFFSETFROM:+0200
TZOFFSETTO:+0100
TZNAME:Europe/Berlin CET
END:STANDARD
BEGIN:STANDARD
DTSTART:20171029T020000
RDATE:20180325T030000
TZOFFSETFROM:+0200
TZOFFSETTO:+0100
TZNAME:Europe/Berlin CET
END:STANDARD
BEGIN:STANDARD
DTSTART:20181028T020000
RDATE:20190331T030000
TZOFFSETFROM:+0200
TZOFFSETTO:+0100
TZNAME:Europe/Berlin CET
END:STANDARD
BEGIN:STANDARD
DTSTART:20191027T020000
RDATE:20200329T030000
TZOFFSETFROM:+0200
TZOFFSETTO:+0100
TZNAME:Europe/Berlin CET
END:STANDARD
BEGIN:STANDARD
DTSTART:20201025T020000
RDATE:20210328T030000
TZOFFSETFROM:+0200
TZOFFSETTO:+0100
TZNAME:Europe/Berlin CET
END:STANDARD
BEGIN:STANDARD
DTSTART:20211031T020000
RDATE:20220327T030000
TZOFFSETFROM:+0200
TZOFFSETTO:+0100
TZNAME:Europe/Berlin CET
END:STANDARD
BEGIN:STANDARD
DTSTART:20221030T020000
RDATE:20230326T030000
TZOFFSETFROM:+0200
TZOFFSETTO:+0100
TZNAME:Europe/Berlin CET
END:STANDARD
BEGIN:STANDARD
DTSTART:20231029T020000
RDATE:20240331T030000
TZOFFSETFROM:+0200
TZOFFSETTO:+0100
TZNAME:Europe/Berlin CET
END:STANDARD
BEGIN:STANDARD
DTSTART:20241027T020000
RDATE:20250330T030000
TZOFFSETFROM:+0200
TZOFFSETTO:+0100
TZNAME:Europe/Berlin CET
END:STANDARD
BEGIN:STANDARD
DTSTART:20251026T020000
RDATE:20260329T030000
TZOFFSETFROM:+0200
TZOFFSETTO:+0100
TZNAME:Europe/Berlin CET
END:STANDARD
BEGIN:STANDARD
DTSTART:20261025T020000
RDATE:20270328T030000
TZOFFSETFROM:+0200
TZOFFSETTO:+0100
TZNAME:Europe/Berlin CET
END:STANDARD
BEGIN:STANDARD
DTSTART:20271031T020000
RDATE:20280326T030000
TZOFFSETFROM:+0200
TZOFFSETTO:+0100
TZNAME:Europe/Berlin CET
END:STANDARD
BEGIN:STANDARD
DTSTART:20281029T020000
RDATE:20290325T030000
TZOFFSETFROM:+0200
TZOFFSETTO:+0100
TZNAME:Europe/Berlin CET
END:STANDARD
BEGIN:STANDARD
DTSTART:20291028T020000
RDATE:20300331T030000
TZOFFSETFROM:+0200
TZOFFSETTO:+0100
TZNAME:Europe/Berlin CET
END:STANDARD
BEGIN:STANDARD
DTSTART:20301027T020000
RDATE:20310330T030000
TZOFFSETFROM:+0200
TZOFFSETTO:+0100
TZNAME:Europe/Berlin CET
END:STANDARD
BEGIN:DAYLIGHT
DTSTART:20160327T030000
RDATE:20161030T020000
TZOFFSETFROM:+0100
TZOFFSETTO:+0200
TZNAME:Europe/Berlin CEST
END:DAYLIGHT
BEGIN:DAYLIGHT
DTSTART:20170326T030000
RDATE:20171029T020000
TZOFFSETFROM:+0100
TZOFFSETTO:+0200
TZNAME:Europe/Berlin CEST
END:DAYLIGHT
BEGIN:DAYLIGHT
DTSTART:20180325T030000
RDATE:20181028T020000
TZOFFSETFROM:+0100
TZOFFSETTO:+0200
TZNAME:Europe/Berlin CEST
END:DAYLIGHT
BEGIN:DAYLIGHT
DTSTART:20190331T030000
RDATE:20191027T020000
TZOFFSETFROM:+0100
TZOFFSETTO:+0200
TZNAME:Europe/Berlin CEST
END:DAYLIGHT
BEGIN:DAYLIGHT
DTSTART:20200329T030000
RDATE:20201025T020000
TZOFFSETFROM:+0100
TZOFFSETTO:+0200
TZNAME:Europe/Berlin CEST
END:DAYLIGHT
BEGIN:DAYLIGHT
DTSTART:20210328T030000
RDATE:20211031T020000
TZOFFSETFROM:+0100
TZOFFSETTO:+0200
TZNAME:Europe/Berlin CEST
END:DAYLIGHT
BEGIN:DAYLIGHT
DTSTART:20220327T030000
RDATE:20221030T020000
TZOFFSETFROM:+0100
TZOFFSETTO:+0200
TZNAME:Europe/Berlin CEST
END:DAYLIGHT
BEGIN:DAYLIGHT
DTSTART:20230326T030000
RDATE:20231029T020000
TZOFFSETFROM:+0100
TZOFFSETTO:+0200
TZNAME:Europe/Berlin CEST
END:DAYLIGHT
BEGIN:DAYLIGHT
DTSTART:20240331T030000
RDATE:20241027T020000
TZOFFSETFROM:+0100
TZOFFSETTO:+0200
TZNAME:Europe/Berlin CEST
END:DAYLIGHT
BEGIN:DAYLIGHT
DTSTART:20250330T030000
RDATE:20251026T020000
TZOFFSETFROM:+0100
TZOFFSETTO:+0200
TZNAME:Europe/Berlin CEST
END:DAYLIGHT
BEGIN:DAYLIGHT
DTSTART:20260329T030000
RDATE:20261025T020000
TZOFFSETFROM:+0100
TZOFFSETTO:+0200
TZNAME:Europe/Berlin CEST
END:DAYLIGHT
BEGIN:DAYLIGHT
DTSTART:20270328T030000
RDATE:20271031T020000
TZOFFSETFROM:+0100
TZOFFSETTO:+0200
TZNAME:Europe/Berlin CEST
END:DAYLIGHT
BEGIN:DAYLIGHT
DTSTART:20280326T030000
RDATE:20281029T020000
TZOFFSETFROM:+0100
TZOFFSETTO:+0200
TZNAME:Europe/Berlin CEST
END:DAYLIGHT
BEGIN:DAYLIGHT
DTSTART:20290325T030000
RDATE:20291028T020000
TZOFFSETFROM:+0100
TZOFFSETTO:+0200
TZNAME:Europe/Berlin CEST
END:DAYLIGHT
BEGIN:DAYLIGHT
DTSTART:20300331T030000
RDATE:20301027T020000
TZOFFSETFROM:+0100
TZOFFSETTO:+0200
TZNAME:Europe/Berlin CEST
END:DAYLIGHT
END:VTIMEZONE
BEGIN:VEVENT
UID:c9d12c56db3efca2fca585afbf135b20
CATEGORIES:SVSt Veranstaltungen
CREATED:20161104T135203
SUMMARY:Medizin auf See für Regatta- und Fahrtensegler
DESCRIPTION:Ein Angebot der Schiffergilde zu Berlin e.V.\n2-tägiges Seminar: \nSamstag,
  04.03.2017, 08:00 bis 17:00 Uhr und \nSonntag, 05.03.2017, 08:00 bis 17:00
  Uhr\nzertifiziert nach World Sailing (ehemals ISAF) - Anforderungen gemäß 
 World Sailing Offshore Special Regulations Appendix G\n• mit Abschlusstest 
 und Zertifikat\n• Umfassende medizinische Theorie- und Praxisschulung\n• ka
 nn auch ohne World Sailing-Modul gebucht werden!\n• unterstützt durch Refer
 enten aus dem Bereich Funk und DGzRS\nReferenten: \nDr. med. Melanie Aalbur
 g, Allgemeinärztin aus Berlin und erfahrene Offshore-Regattaseglerin (Trans
 atlantik, Fastnet, Round-Britain and Ireland-Race, ORC-WM und\nFahrtensegle
 rin),\nNorbert Kruse, Amateurfunker, DARC, Funk,\nAnna Münch, DGzRS, freiwi
 llige Seenotretterin und Physiotherapeutin aus Kiel\n\nDie Teilnehmerzahl i
 st begrenzt.\nTeilnahmegebühr\nmit ISAF-Zertifizierung: 120,00 €\nohne ISAF
 -Zertifizierung: Gilde-und SVSt-Mitglieder 60,00 €, Mitglieder von KA 80,00
  €, Jugend (bis vollend. 21. Lj.) 50,00 €, Mitglieder von Vereinen des DSV 
 90,00 €, Sonstige Gäste 100 € \nist vorab zu überweisen: Commerzbank Berlin
 , IBAN DE68 1008 0000 0862 8580 00, BIC DRESDEFF 100\nAnmeldungen an:\n Die
  Schiffergilde zu Berlin e.V. \nc/o Ralf Krischker\nSuarezstr. 11, 14057 Be
 rlin\nTel. 0171 740 3805\nE-Mail: Diese E-Mail-Adresse ist vor Spambots ges
 chützt! Zur Anzeige muss JavaScript eingeschaltet sein!
				document.getEle
 mentById('cloak5f21f2dcba93ecefde63f33edbf60abe').innerHTML = '';
				var p
 refix = '&#109;a' + 'i&#108;' + '&#116;o';
				var path = 'hr' + 'ef' + '='
 ;
				var addy5f21f2dcba93ecefde63f33edbf60abe = '&#105;nf&#111;' + '&#64;'
 ;
				addy5f21f2dcba93ecefde63f33edbf60abe = addy5f21f2dcba93ecefde63f33edb
 f60abe + 'sch&#105;ff&#101;rg&#105;ld&#101;-b&#101;rl&#105;n' + '&#46;' + '
 d&#101;';
				var addy_text5f21f2dcba93ecefde63f33edbf60abe = '&#105;nf&#11
 1;' + '&#64;' + 'sch&#105;ff&#101;rg&#105;ld&#101;-b&#101;rl&#105;n' + '&#4
 6;' + 'd&#101;';document.getElementById('cloak5f21f2dcba93ecefde63f33edbf60
 abe').innerHTML += '<a ' + path + '\'' + prefix + ':' + addy5f21f2dcba93ece
 fde63f33edbf60abe + '\'>'+addy_text5f21f2dcba93ecefde63f33edbf60abe+'';
		 
 www.schiffergilde-berlin.de\n
X-ALT-DESC;FMTTYPE=text/html:<p>Ein Angebot der Schiffergilde zu Berlin e.V.</p><p>2-t&auml;giges Semina
 r: <br />Samstag, 04.03.2017, 08:00 bis 17:00 Uhr und <br />Sonntag, 05.03.
 2017, 08:00 bis 17:00 Uhr</p><p>zertifiziert nach World Sailing (ehemals IS
 AF) - Anforderungen gem&auml;&szlig; World Sailing Offshore Special Regulat
 ions Appendix G<br />&bull; <span style="text-decoration: underline;">mit A
 bschlusstest und Zertifikat</span><br />&bull; Umfassende medizinische Theo
 rie- und Praxisschulung<br />&bull; kann auch ohne World Sailing-Modul gebu
 cht werden!<br />&bull; unterst&uuml;tzt durch Referenten aus dem Bereich F
 unk und DGzRS</p><p>Referenten: <br />Dr. med. Melanie Aalburg, Allgemein&a
 uml;rztin aus Berlin und erfahrene Offshore-Regattaseglerin (Transatlantik,
  Fastnet, Round-Britain and Ireland-Race, ORC-WM und<br />Fahrtenseglerin),
 <br />Norbert Kruse, Amateurfunker, DARC, Funk,<br />Anna M&uuml;nch, DGzRS
 , freiwillige Seenotretterin und Physiotherapeutin aus Kiel<br /><br />Die 
 Teilnehmerzahl ist begrenzt.</p><p><strong>Teilnahmegeb&uuml;hr</strong><br
  />mit ISAF-Zertifizierung: 120,00 &euro;<br />ohne ISAF-Zertifizierung: Gi
 lde-und <strong>SVSt-Mitglieder 60,00 &euro;,</strong> Mitglieder von KA 80
 ,00 &euro;, Jugend (bis vollend. 21. Lj.) 50,00 &euro;, Mitglieder von Vere
 inen des DSV 90,00 &euro;, Sonstige G&auml;ste 100 &euro; <br />ist vorab z
 u &uuml;berweisen: Commerzbank Berlin, IBAN DE68 1008 0000 0862 8580 00, BI
 C DRESDEFF 100</p><p><strong>Anmeldungen</strong> an:<br /> Die Schiffergil
 de zu Berlin e.V. <br />c/o Ralf Krischker<br />Suarezstr. 11, 14057 Berlin
 <br />Tel. 0171 740 3805<br />E-Mail: <span id="cloak5f21f2dcba93ecefde63f3
 3edbf60abe">Diese E-Mail-Adresse ist vor Spambots geschützt! Zur Anzeige mu
 ss JavaScript eingeschaltet sein!</span><script type='text/javascript'>
			
 	document.getElementById('cloak5f21f2dcba93ecefde63f33edbf60abe').innerHTML
  = '';
				var prefix = '&#109;a' + 'i&#108;' + '&#116;o';
				var path = '
 hr' + 'ef' + '=';
				var addy5f21f2dcba93ecefde63f33edbf60abe = '&#105;nf&
 #111;' + '&#64;';
				addy5f21f2dcba93ecefde63f33edbf60abe = addy5f21f2dcba
 93ecefde63f33edbf60abe + 'sch&#105;ff&#101;rg&#105;ld&#101;-b&#101;rl&#105;
 n' + '&#46;' + 'd&#101;';
				var addy_text5f21f2dcba93ecefde63f33edbf60abe
  = '&#105;nf&#111;' + '&#64;' + 'sch&#105;ff&#101;rg&#105;ld&#101;-b&#101;r
 l&#105;n' + '&#46;' + 'd&#101;';document.getElementById('cloak5f21f2dcba93e
 cefde63f33edbf60abe').innerHTML += '<a ' + path + '\'' + prefix + ':' + add
 y5f21f2dcba93ecefde63f33edbf60abe + '\'>'+addy_text5f21f2dcba93ecefde63f33e
 dbf60abe+'<\/a>';
		</script> www.schiffergilde-berlin.de</p>
DTSTAMP:20260420T193518
DTSTART;TZID=Europe/Berlin;VALUE=DATE:20170304
DTEND;TZID=Europe/Berlin;VALUE=DATE:20170306
SEQUENCE:0
TRANSP:OPAQUE
END:VEVENT
END:VCALENDAR