BEGIN:VCALENDAR
VERSION:2.0
PRODID:-//jEvents 2.0 for Joomla//EN
CALSCALE:GREGORIAN
METHOD:PUBLISH
BEGIN:VTIMEZONE
TZID:Europe/Berlin
BEGIN:STANDARD
DTSTART:20151112T190000
RDATE:20160327T030000
TZOFFSETFROM:+0200
TZOFFSETTO:+0100
TZNAME:Europe/Berlin CET
END:STANDARD
BEGIN:STANDARD
DTSTART:20161030T020000
RDATE:20170326T030000
TZOFFSETFROM:+0200
TZOFFSETTO:+0100
TZNAME:Europe/Berlin CET
END:STANDARD
BEGIN:STANDARD
DTSTART:20171029T020000
RDATE:20180325T030000
TZOFFSETFROM:+0200
TZOFFSETTO:+0100
TZNAME:Europe/Berlin CET
END:STANDARD
BEGIN:STANDARD
DTSTART:20181028T020000
RDATE:20190331T030000
TZOFFSETFROM:+0200
TZOFFSETTO:+0100
TZNAME:Europe/Berlin CET
END:STANDARD
BEGIN:STANDARD
DTSTART:20191027T020000
RDATE:20200329T030000
TZOFFSETFROM:+0200
TZOFFSETTO:+0100
TZNAME:Europe/Berlin CET
END:STANDARD
BEGIN:STANDARD
DTSTART:20201025T020000
RDATE:20210328T030000
TZOFFSETFROM:+0200
TZOFFSETTO:+0100
TZNAME:Europe/Berlin CET
END:STANDARD
BEGIN:STANDARD
DTSTART:20211031T020000
RDATE:20220327T030000
TZOFFSETFROM:+0200
TZOFFSETTO:+0100
TZNAME:Europe/Berlin CET
END:STANDARD
BEGIN:STANDARD
DTSTART:20221030T020000
RDATE:20230326T030000
TZOFFSETFROM:+0200
TZOFFSETTO:+0100
TZNAME:Europe/Berlin CET
END:STANDARD
BEGIN:STANDARD
DTSTART:20231029T020000
RDATE:20240331T030000
TZOFFSETFROM:+0200
TZOFFSETTO:+0100
TZNAME:Europe/Berlin CET
END:STANDARD
BEGIN:STANDARD
DTSTART:20241027T020000
RDATE:20250330T030000
TZOFFSETFROM:+0200
TZOFFSETTO:+0100
TZNAME:Europe/Berlin CET
END:STANDARD
BEGIN:STANDARD
DTSTART:20251026T020000
RDATE:20260329T030000
TZOFFSETFROM:+0200
TZOFFSETTO:+0100
TZNAME:Europe/Berlin CET
END:STANDARD
BEGIN:STANDARD
DTSTART:20261025T020000
RDATE:20270328T030000
TZOFFSETFROM:+0200
TZOFFSETTO:+0100
TZNAME:Europe/Berlin CET
END:STANDARD
BEGIN:STANDARD
DTSTART:20271031T020000
RDATE:20280326T030000
TZOFFSETFROM:+0200
TZOFFSETTO:+0100
TZNAME:Europe/Berlin CET
END:STANDARD
BEGIN:STANDARD
DTSTART:20281029T020000
RDATE:20290325T030000
TZOFFSETFROM:+0200
TZOFFSETTO:+0100
TZNAME:Europe/Berlin CET
END:STANDARD
BEGIN:STANDARD
DTSTART:20291028T020000
RDATE:20300331T030000
TZOFFSETFROM:+0200
TZOFFSETTO:+0100
TZNAME:Europe/Berlin CET
END:STANDARD
BEGIN:STANDARD
DTSTART:20301027T020000
RDATE:20310330T030000
TZOFFSETFROM:+0200
TZOFFSETTO:+0100
TZNAME:Europe/Berlin CET
END:STANDARD
BEGIN:DAYLIGHT
DTSTART:20160327T030000
RDATE:20161030T020000
TZOFFSETFROM:+0100
TZOFFSETTO:+0200
TZNAME:Europe/Berlin CEST
END:DAYLIGHT
BEGIN:DAYLIGHT
DTSTART:20170326T030000
RDATE:20171029T020000
TZOFFSETFROM:+0100
TZOFFSETTO:+0200
TZNAME:Europe/Berlin CEST
END:DAYLIGHT
BEGIN:DAYLIGHT
DTSTART:20180325T030000
RDATE:20181028T020000
TZOFFSETFROM:+0100
TZOFFSETTO:+0200
TZNAME:Europe/Berlin CEST
END:DAYLIGHT
BEGIN:DAYLIGHT
DTSTART:20190331T030000
RDATE:20191027T020000
TZOFFSETFROM:+0100
TZOFFSETTO:+0200
TZNAME:Europe/Berlin CEST
END:DAYLIGHT
BEGIN:DAYLIGHT
DTSTART:20200329T030000
RDATE:20201025T020000
TZOFFSETFROM:+0100
TZOFFSETTO:+0200
TZNAME:Europe/Berlin CEST
END:DAYLIGHT
BEGIN:DAYLIGHT
DTSTART:20210328T030000
RDATE:20211031T020000
TZOFFSETFROM:+0100
TZOFFSETTO:+0200
TZNAME:Europe/Berlin CEST
END:DAYLIGHT
BEGIN:DAYLIGHT
DTSTART:20220327T030000
RDATE:20221030T020000
TZOFFSETFROM:+0100
TZOFFSETTO:+0200
TZNAME:Europe/Berlin CEST
END:DAYLIGHT
BEGIN:DAYLIGHT
DTSTART:20230326T030000
RDATE:20231029T020000
TZOFFSETFROM:+0100
TZOFFSETTO:+0200
TZNAME:Europe/Berlin CEST
END:DAYLIGHT
BEGIN:DAYLIGHT
DTSTART:20240331T030000
RDATE:20241027T020000
TZOFFSETFROM:+0100
TZOFFSETTO:+0200
TZNAME:Europe/Berlin CEST
END:DAYLIGHT
BEGIN:DAYLIGHT
DTSTART:20250330T030000
RDATE:20251026T020000
TZOFFSETFROM:+0100
TZOFFSETTO:+0200
TZNAME:Europe/Berlin CEST
END:DAYLIGHT
BEGIN:DAYLIGHT
DTSTART:20260329T030000
RDATE:20261025T020000
TZOFFSETFROM:+0100
TZOFFSETTO:+0200
TZNAME:Europe/Berlin CEST
END:DAYLIGHT
BEGIN:DAYLIGHT
DTSTART:20270328T030000
RDATE:20271031T020000
TZOFFSETFROM:+0100
TZOFFSETTO:+0200
TZNAME:Europe/Berlin CEST
END:DAYLIGHT
BEGIN:DAYLIGHT
DTSTART:20280326T030000
RDATE:20281029T020000
TZOFFSETFROM:+0100
TZOFFSETTO:+0200
TZNAME:Europe/Berlin CEST
END:DAYLIGHT
BEGIN:DAYLIGHT
DTSTART:20290325T030000
RDATE:20291028T020000
TZOFFSETFROM:+0100
TZOFFSETTO:+0200
TZNAME:Europe/Berlin CEST
END:DAYLIGHT
BEGIN:DAYLIGHT
DTSTART:20300331T030000
RDATE:20301027T020000
TZOFFSETFROM:+0100
TZOFFSETTO:+0200
TZNAME:Europe/Berlin CEST
END:DAYLIGHT
END:VTIMEZONE
BEGIN:VEVENT
UID:bab36becf1d2fc0a1fbe2d566f78c264
CATEGORIES:SVSt Veranstaltungen
CREATED:20161004T095720
SUMMARY:Martinsgans & Hausmusik
DESCRIPTION:Nachdem alle Regatten gesegelt, unzählige Seemeilen zurückgelegt und die Bo
 ote \neingewintert sind,\nbeginnt die gemütliche Zeit im SVSt; Gänseduft li
 egt in der Luft! \nDie Ökonomie zaubert ein St. Martins-Menu und segelnde M
 usiker &amp; musizierende \nSegler machen Hausmusik.\nWir freuen uns auf ei
 nen Abend mit kulinarischen und musikalischen Genüssen \nsowie mit guten Ge
 sprächen und schönen Geschichten aus der vergangenen \nSegelsaison.\nMenu: 
 17,00 Euro pro Person\nAnmeldung bitte über Diese E-Mail-Adresse ist vor Sp
 ambots geschützt! Zur Anzeige muss JavaScript eingeschaltet sein!
				docum
 ent.getElementById('cloak66b969c03871b66446a3991e1af31f4d').innerHTML = '';
 
				var prefix = '&#109;a' + 'i&#108;' + '&#116;o';
				var path = 'hr' + 
 'ef' + '=';
				var addy66b969c03871b66446a3991e1af31f4d = 'O&#101;k&#111;n
 &#111;m&#105;&#101;' + '&#64;';
				addy66b969c03871b66446a3991e1af31f4d = 
 addy66b969c03871b66446a3991e1af31f4d + 'svst' + '&#46;' + 'd&#101;';
				va
 r addy_text66b969c03871b66446a3991e1af31f4d = 'O&#101;k&#111;n&#111;m&#105;
 &#101;@svst.d&#101; ';document.getElementById('cloak66b969c03871b66446a3991
 e1af31f4d').innerHTML += '<a ' + path + '\'' + prefix + ':' + addy66b969c03
 871b66446a3991e1af31f4d + '\'>'+addy_text66b969c03871b66446a3991e1af31f4d+'
 ';
		bis Donnnerstag, 10.11., 19:00 Uhr\n
X-ALT-DESC;FMTTYPE=text/html:<p>Nachdem alle Regatten gesegelt, unz&auml;hlige Seemeilen zur&uuml;ckgele
 gt und die Boote <br />eingewintert sind,</p><hr id="system-readmore" /><p>
 beginnt die gem&uuml;tliche Zeit im SVSt; G&auml;nseduft liegt in der Luft!
  <br />Die &Ouml;konomie zaubert ein St. Martins-Menu und segelnde Musiker 
 &amp; musizierende <br />Segler machen Hausmusik.</p><p>Wir freuen uns auf 
 einen Abend mit kulinarischen und musikalischen Gen&uuml;ssen <br />sowie m
 it guten Gespr&auml;chen und sch&ouml;nen Geschichten aus der vergangenen <
 br />Segelsaison.</p><p>Menu: <strong>17,00 Euro pro Person</strong></p><p>
 <strong>Anmeldung</strong> bitte &uuml;ber <span id="cloak66b969c03871b6644
 6a3991e1af31f4d">Diese E-Mail-Adresse ist vor Spambots geschützt! Zur Anzei
 ge muss JavaScript eingeschaltet sein!</span><script type='text/javascript'
 >
				document.getElementById('cloak66b969c03871b66446a3991e1af31f4d').inne
 rHTML = '';
				var prefix = '&#109;a' + 'i&#108;' + '&#116;o';
				var pat
 h = 'hr' + 'ef' + '=';
				var addy66b969c03871b66446a3991e1af31f4d = 'O&#1
 01;k&#111;n&#111;m&#105;&#101;' + '&#64;';
				addy66b969c03871b66446a3991e
 1af31f4d = addy66b969c03871b66446a3991e1af31f4d + 'svst' + '&#46;' + 'd&#10
 1;';
				var addy_text66b969c03871b66446a3991e1af31f4d = 'O&#101;k&#111;n&#
 111;m&#105;&#101;@svst.d&#101; ';document.getElementById('cloak66b969c03871
 b66446a3991e1af31f4d').innerHTML += '<a ' + path + '\'' + prefix + ':' + ad
 dy66b969c03871b66446a3991e1af31f4d + '\'>'+addy_text66b969c03871b66446a3991
 e1af31f4d+'<\/a>';
		</script><strong>bis Donnnerstag, 10.11., 19:00 Uhr</s
 trong></p>
DTSTAMP:20260420T114000
DTSTART;TZID=Europe/Berlin:20161112T190000
SEQUENCE:0
TRANSP:OPAQUE
END:VEVENT
END:VCALENDAR