BEGIN:VCALENDAR
VERSION:2.0
PRODID:-//jEvents 2.0 for Joomla//EN
CALSCALE:GREGORIAN
METHOD:PUBLISH
BEGIN:VTIMEZONE
TZID:Europe/Berlin
BEGIN:STANDARD
DTSTART:20151231T193000
RDATE:20160327T030000
TZOFFSETFROM:+0200
TZOFFSETTO:+0100
TZNAME:Europe/Berlin CET
END:STANDARD
BEGIN:STANDARD
DTSTART:20161030T020000
RDATE:20170326T030000
TZOFFSETFROM:+0200
TZOFFSETTO:+0100
TZNAME:Europe/Berlin CET
END:STANDARD
BEGIN:STANDARD
DTSTART:20171029T020000
RDATE:20180325T030000
TZOFFSETFROM:+0200
TZOFFSETTO:+0100
TZNAME:Europe/Berlin CET
END:STANDARD
BEGIN:STANDARD
DTSTART:20181028T020000
RDATE:20190331T030000
TZOFFSETFROM:+0200
TZOFFSETTO:+0100
TZNAME:Europe/Berlin CET
END:STANDARD
BEGIN:STANDARD
DTSTART:20191027T020000
RDATE:20200329T030000
TZOFFSETFROM:+0200
TZOFFSETTO:+0100
TZNAME:Europe/Berlin CET
END:STANDARD
BEGIN:STANDARD
DTSTART:20201025T020000
RDATE:20210328T030000
TZOFFSETFROM:+0200
TZOFFSETTO:+0100
TZNAME:Europe/Berlin CET
END:STANDARD
BEGIN:STANDARD
DTSTART:20211031T020000
RDATE:20220327T030000
TZOFFSETFROM:+0200
TZOFFSETTO:+0100
TZNAME:Europe/Berlin CET
END:STANDARD
BEGIN:STANDARD
DTSTART:20221030T020000
RDATE:20230326T030000
TZOFFSETFROM:+0200
TZOFFSETTO:+0100
TZNAME:Europe/Berlin CET
END:STANDARD
BEGIN:STANDARD
DTSTART:20231029T020000
RDATE:20240331T030000
TZOFFSETFROM:+0200
TZOFFSETTO:+0100
TZNAME:Europe/Berlin CET
END:STANDARD
BEGIN:STANDARD
DTSTART:20241027T020000
RDATE:20250330T030000
TZOFFSETFROM:+0200
TZOFFSETTO:+0100
TZNAME:Europe/Berlin CET
END:STANDARD
BEGIN:STANDARD
DTSTART:20251026T020000
RDATE:20260329T030000
TZOFFSETFROM:+0200
TZOFFSETTO:+0100
TZNAME:Europe/Berlin CET
END:STANDARD
BEGIN:STANDARD
DTSTART:20261025T020000
RDATE:20270328T030000
TZOFFSETFROM:+0200
TZOFFSETTO:+0100
TZNAME:Europe/Berlin CET
END:STANDARD
BEGIN:STANDARD
DTSTART:20271031T020000
RDATE:20280326T030000
TZOFFSETFROM:+0200
TZOFFSETTO:+0100
TZNAME:Europe/Berlin CET
END:STANDARD
BEGIN:STANDARD
DTSTART:20281029T020000
RDATE:20290325T030000
TZOFFSETFROM:+0200
TZOFFSETTO:+0100
TZNAME:Europe/Berlin CET
END:STANDARD
BEGIN:STANDARD
DTSTART:20291028T020000
RDATE:20300331T030000
TZOFFSETFROM:+0200
TZOFFSETTO:+0100
TZNAME:Europe/Berlin CET
END:STANDARD
BEGIN:STANDARD
DTSTART:20301027T020000
RDATE:20310330T030000
TZOFFSETFROM:+0200
TZOFFSETTO:+0100
TZNAME:Europe/Berlin CET
END:STANDARD
BEGIN:DAYLIGHT
DTSTART:20160327T030000
RDATE:20161030T020000
TZOFFSETFROM:+0100
TZOFFSETTO:+0200
TZNAME:Europe/Berlin CEST
END:DAYLIGHT
BEGIN:DAYLIGHT
DTSTART:20170326T030000
RDATE:20171029T020000
TZOFFSETFROM:+0100
TZOFFSETTO:+0200
TZNAME:Europe/Berlin CEST
END:DAYLIGHT
BEGIN:DAYLIGHT
DTSTART:20180325T030000
RDATE:20181028T020000
TZOFFSETFROM:+0100
TZOFFSETTO:+0200
TZNAME:Europe/Berlin CEST
END:DAYLIGHT
BEGIN:DAYLIGHT
DTSTART:20190331T030000
RDATE:20191027T020000
TZOFFSETFROM:+0100
TZOFFSETTO:+0200
TZNAME:Europe/Berlin CEST
END:DAYLIGHT
BEGIN:DAYLIGHT
DTSTART:20200329T030000
RDATE:20201025T020000
TZOFFSETFROM:+0100
TZOFFSETTO:+0200
TZNAME:Europe/Berlin CEST
END:DAYLIGHT
BEGIN:DAYLIGHT
DTSTART:20210328T030000
RDATE:20211031T020000
TZOFFSETFROM:+0100
TZOFFSETTO:+0200
TZNAME:Europe/Berlin CEST
END:DAYLIGHT
BEGIN:DAYLIGHT
DTSTART:20220327T030000
RDATE:20221030T020000
TZOFFSETFROM:+0100
TZOFFSETTO:+0200
TZNAME:Europe/Berlin CEST
END:DAYLIGHT
BEGIN:DAYLIGHT
DTSTART:20230326T030000
RDATE:20231029T020000
TZOFFSETFROM:+0100
TZOFFSETTO:+0200
TZNAME:Europe/Berlin CEST
END:DAYLIGHT
BEGIN:DAYLIGHT
DTSTART:20240331T030000
RDATE:20241027T020000
TZOFFSETFROM:+0100
TZOFFSETTO:+0200
TZNAME:Europe/Berlin CEST
END:DAYLIGHT
BEGIN:DAYLIGHT
DTSTART:20250330T030000
RDATE:20251026T020000
TZOFFSETFROM:+0100
TZOFFSETTO:+0200
TZNAME:Europe/Berlin CEST
END:DAYLIGHT
BEGIN:DAYLIGHT
DTSTART:20260329T030000
RDATE:20261025T020000
TZOFFSETFROM:+0100
TZOFFSETTO:+0200
TZNAME:Europe/Berlin CEST
END:DAYLIGHT
BEGIN:DAYLIGHT
DTSTART:20270328T030000
RDATE:20271031T020000
TZOFFSETFROM:+0100
TZOFFSETTO:+0200
TZNAME:Europe/Berlin CEST
END:DAYLIGHT
BEGIN:DAYLIGHT
DTSTART:20280326T030000
RDATE:20281029T020000
TZOFFSETFROM:+0100
TZOFFSETTO:+0200
TZNAME:Europe/Berlin CEST
END:DAYLIGHT
BEGIN:DAYLIGHT
DTSTART:20290325T030000
RDATE:20291028T020000
TZOFFSETFROM:+0100
TZOFFSETTO:+0200
TZNAME:Europe/Berlin CEST
END:DAYLIGHT
BEGIN:DAYLIGHT
DTSTART:20300331T030000
RDATE:20301027T020000
TZOFFSETFROM:+0100
TZOFFSETTO:+0200
TZNAME:Europe/Berlin CEST
END:DAYLIGHT
END:VTIMEZONE
BEGIN:VEVENT
UID:fed55c3a6901bb1c856c41a688089884
CATEGORIES:SVSt Veranstaltungen
CREATED:20161004T095427
SUMMARY:SILVESTER im SVSt mit BERLINs FINEST
DESCRIPTION:Mit Live-Jazz, Pop &amp; Soul und großem Silvesterbuffet: Das bereits vom "
 Jazz am See" \nbekannte und hochgelobte Ensemble BERLINs FINEST-Quartett ko
 nnte erneut für den \nSVSt gewonnen werden und spielt zunächst feine Dinner
 -Music bevor die Party mit Tanz \nzum Jahreswechsel steigt und alle zu eine
 m beschwingten Start in ein gutes Neues Jahr \nbewegt.\n28,00 Euro pro Pers
 on inkl. Silvesterbuffet mit Begrüßungsdrink und Mitternachtssekt.\nAnmeldu
 ngen ab sofort bei der Ökonomie, Frau Harnisch 0172 9561570 oder 030 308145
 61 \noder Diese E-Mail-Adresse ist vor Spambots geschützt! Zur Anzeige muss
  JavaScript eingeschaltet sein!
				document.getElementById('cloak22dec8e1e
 d1de33f9fd995a2c14662f5').innerHTML = '';
				var prefix = '&#109;a' + 'i&#
 108;' + '&#116;o';
				var path = 'hr' + 'ef' + '=';
				var addy22dec8e1ed
 1de33f9fd995a2c14662f5 = 'O&#101;k&#111;n&#111;m&#105;&#101;' + '&#64;';
		
 		addy22dec8e1ed1de33f9fd995a2c14662f5 = addy22dec8e1ed1de33f9fd995a2c14662
 f5 + 'SVSt' + '&#46;' + 'd&#101;';
				var addy_text22dec8e1ed1de33f9fd995a
 2c14662f5 = 'O&#101;k&#111;n&#111;m&#105;&#101;' + '&#64;' + 'SVSt' + '&#46
 ;' + 'd&#101;';document.getElementById('cloak22dec8e1ed1de33f9fd995a2c14662
 f5').innerHTML += '<a ' + path + '\'' + prefix + ':' + addy22dec8e1ed1de33f
 9fd995a2c14662f5 + '\'>'+addy_text22dec8e1ed1de33f9fd995a2c14662f5+'';
		 o
 der in der aushängenden Liste bitte bis 28.12.2016.\nDownload Einladung zur
  Silvesterfeier (pdf) (images/pdf/2016_12_31_SVSt_Silvester.pdf)\n \n \nSil
 vesterbuffet*\n \n\nAperol-Spritz zur Begrüßung\n♦\nHähnchen-Ananas-Lauchsa
 lat\nRoastbeef mit Remouladensauce\nFrische Wintersalate mit Vinaigrette\nB
 aguettebrot &amp; Butter\n♦\nPenne Classico mit Scampi - tomatisiert mit Ol
 iven\nSchweinefiletmedaillons mit getrockneten Backpflaumen\n in französisc
 hem Armagnac mit kleinen Kartoffeln\nGratinierte Champignons mit verschiede
 nen Füllungen\nSteinpilzgnocchi mit Parmaschinken\n♦\nMousse von dunkler Sc
 hokolade mit Mangocreme\n♦\nMitternachtssekt &amp; verschieden gefüllte Pfa
 nnkuchen\n* Änderungen vorbehalten\n \n \n \n \n
X-ALT-DESC;FMTTYPE=text/html:<p>Mit Live-Jazz, Pop &amp; Soul und gro&szlig;em Silvesterbuffet: Das bere
 its vom "Jazz am See" <br />bekannte und hochgelobte Ensemble BERLINs FINES
 T-Quartett konnte erneut f&uuml;r den <br />SVSt gewonnen werden und spielt
  zun&auml;chst feine Dinner-Music bevor die Party mit Tanz <br />zum Jahres
 wechsel steigt und alle zu einem beschwingten Start in ein gutes Neues Jahr
  <br />bewegt.</p><p>28,00 Euro pro Person inkl. Silvesterbuffet mit Begr&u
 uml;&szlig;ungsdrink und Mitternachtssekt.</p><p>Anmeldungen ab sofort bei 
 der &Ouml;konomie, Frau Harnisch 0172 9561570 oder 030 30814561 <br />oder 
 <span id="cloak22dec8e1ed1de33f9fd995a2c14662f5">Diese E-Mail-Adresse ist v
 or Spambots geschützt! Zur Anzeige muss JavaScript eingeschaltet sein!</spa
 n><script type='text/javascript'>
				document.getElementById('cloak22dec8e
 1ed1de33f9fd995a2c14662f5').innerHTML = '';
				var prefix = '&#109;a' + 'i
 &#108;' + '&#116;o';
				var path = 'hr' + 'ef' + '=';
				var addy22dec8e1
 ed1de33f9fd995a2c14662f5 = 'O&#101;k&#111;n&#111;m&#105;&#101;' + '&#64;';

 				addy22dec8e1ed1de33f9fd995a2c14662f5 = addy22dec8e1ed1de33f9fd995a2c146
 62f5 + 'SVSt' + '&#46;' + 'd&#101;';
				var addy_text22dec8e1ed1de33f9fd99
 5a2c14662f5 = 'O&#101;k&#111;n&#111;m&#105;&#101;' + '&#64;' + 'SVSt' + '&#
 46;' + 'd&#101;';document.getElementById('cloak22dec8e1ed1de33f9fd995a2c146
 62f5').innerHTML += '<a ' + path + '\'' + prefix + ':' + addy22dec8e1ed1de3
 3f9fd995a2c14662f5 + '\'>'+addy_text22dec8e1ed1de33f9fd995a2c14662f5+'<\/a>
 ';
		</script> oder in der aush&auml;ngenden Liste bitte bis 28.12.2016.</p
 ><p><a href="images/pdf/2016_12_31_SVSt_Silvester.pdf">Download Einladung z
 ur Silvesterfeier (pdf)</a></p><p>&nbsp;</p><p>&nbsp;</p><div class="WordSe
 ction1"><p style="margin-bottom: 0.0001pt; text-align: center; line-height:
  24.9pt;"><span style="font-size: 22pt; font-family: 'Libre Semi Sans SSi',
 'serif'; color: #003d77;"><strong>Silvesterbuffet</strong>*<br /> </span><s
 pan style="font-size: 18pt; font-family: 'Libre Semi Sans SSi','serif'; col
 or: #003d77;"></span></p><p style="margin: 0.5pt 3.65pt 0.0001pt -1px; text
 -align: center; line-height: normal;"><span style="font-size: 14pt; font-fa
 mily: 'Libre Semi Sans SSi','serif'; color: #003d77;"></span></p><p style="
 text-align: center;"><span style="font-size: 14pt; line-height: 115%; font-
 family: 'Libre Semi Sans SSi','serif'; color: #003d77;">Aperol-Spritz zur B
 egr&uuml;&szlig;ung</span></p><p style="text-align: center;"><span style="f
 ont-size: 14pt; line-height: 115%; font-family: 'Times New Roman','serif'; 
 color: red;">&diams;</span></p><p style="margin: 0.5pt 3.65pt 0.0001pt -1px
 ; text-align: center; line-height: 170%;"><span style="font-size: 14pt; lin
 e-height: 170%; font-family: 'Libre Semi Sans SSi','serif'; color: #003d77;
 ">H&auml;hnchen-Ananas-Lauchsalat</span></p><p style="margin: 0.5pt 3.65pt 
 0.0001pt -1px; text-align: center; line-height: 170%;"><span style="font-si
 ze: 14pt; line-height: 170%; font-family: 'Libre Semi Sans SSi','serif'; co
 lor: #003d77;">Roastbeef mit Remouladensauce</span></p><p style="text-align
 : center;"><span style="font-size: 14pt; line-height: 115%; font-family: 'L
 ibre Semi Sans SSi','serif'; color: #003d77;">Frische Wintersalate mit Vina
 igrette</span></p><p style="margin: 0.5pt 3.65pt 0.0001pt -1px; text-align:
  center; line-height: 170%;"><span style="font-size: 14pt; line-height: 170
 %; font-family: 'Libre Semi Sans SSi','serif'; color: #003d77;">Baguettebro
 t &amp; Butter</span></p><p style="text-align: center;"><span style="font-s
 ize: 14pt; line-height: 115%; font-family: 'Times New Roman','serif'; color
 : red;">&diams;</span></p><p style="margin: 0.5pt 3.65pt 0.0001pt -1px; tex
 t-align: center; line-height: 170%;"><span style="font-size: 14pt; line-hei
 ght: 170%; font-family: 'Libre Semi Sans SSi','serif'; color: #003d77;">Pen
 ne Classico mit Scampi - tomatisiert mit Oliven</span></p><p style="margin:
  0.5pt 3.65pt 10pt -1px; text-align: center; line-height: normal;"><span st
 yle="font-size: 14pt; font-family: 'Libre Semi Sans SSi','serif'; color: #0
 03d77;">Schweinefiletmedaillons mit getrockneten Backpflaumen<br /> in fran
 z&ouml;sischem Armagnac mit kleinen Kartoffeln</span></p><p style="margin: 
 0.5pt 3.65pt 0.0001pt -1px; text-align: center; line-height: 170%;"><span s
 tyle="font-size: 14pt; line-height: 170%; font-family: 'Libre Semi Sans SSi
 ','serif'; color: #003d77;">Gratinierte Champignons mit verschiedenen F&uum
 l;llungen</span></p><p style="margin: 0.5pt 3.65pt 0.0001pt -1px; text-alig
 n: center; line-height: 170%;"><span style="font-size: 14pt; line-height: 1
 70%; font-family: 'Libre Semi Sans SSi','serif'; color: #003d77;">Steinpilz
 gnocchi mit Parmaschinken</span></p><p style="text-align: center;"><span st
 yle="font-size: 14pt; line-height: 115%; font-family: 'Times New Roman','se
 rif'; color: red;">&diams;</span></p><p style="margin: 0.5pt 3.65pt 0.0001p
 t -1px; text-align: center; line-height: 170%;"><span style="font-size: 14p
 t; line-height: 170%; font-family: 'Libre Semi Sans SSi','serif'; color: #0
 03d77;">Mousse von dunkler Schokolade mit Mangocreme</span></p><p style="te
 xt-align: center;"><span style="font-size: 14pt; line-height: 115%; font-fa
 mily: 'Times New Roman','serif'; color: red;">&diams;</span></p><p style="m
 argin: 0.5pt 3.65pt 0.0001pt -1px; text-align: center; line-height: 170%;">
 <span style="font-size: 14pt; line-height: 170%; font-family: 'Libre Semi S
 ans SSi','serif'; color: #003d77;">Mitternachtssekt &amp; verschieden gef&u
 uml;llte Pfannkuchen</span></p><p style="margin: 0.5pt 3.65pt 0.0001pt 30px
 ; text-align: right; line-height: normal;"><span style="font-size: 12pt; fo
 nt-family: 'Libre Semi Sans SSi','serif'; color: #003d77;">* &Auml;nderunge
 n vorbehalten<br /> <br /> </span></p></div><p><span style="font-size: 12pt
 ; font-family: 'Libre Semi Sans SSi','serif';"><br style="page-break-before
 : always;" clear="all" /> </span></p><p>&nbsp;</p>
DTSTAMP:20260420T121126
DTSTART;TZID=Europe/Berlin:20161231T193000
SEQUENCE:0
TRANSP:OPAQUE
END:VEVENT
END:VCALENDAR