BEGIN:VCALENDAR
VERSION:2.0
PRODID:-//jEvents 2.0 for Joomla//EN
CALSCALE:GREGORIAN
METHOD:PUBLISH
BEGIN:VTIMEZONE
TZID:Europe/Berlin
BEGIN:STANDARD
DTSTART:20151025T020000
RDATE:20160327T030000
TZOFFSETFROM:+0200
TZOFFSETTO:+0100
TZNAME:Europe/Berlin CET
END:STANDARD
BEGIN:STANDARD
DTSTART:20161030T020000
RDATE:20170326T030000
TZOFFSETFROM:+0200
TZOFFSETTO:+0100
TZNAME:Europe/Berlin CET
END:STANDARD
BEGIN:STANDARD
DTSTART:20171029T020000
RDATE:20180325T030000
TZOFFSETFROM:+0200
TZOFFSETTO:+0100
TZNAME:Europe/Berlin CET
END:STANDARD
BEGIN:STANDARD
DTSTART:20181028T020000
RDATE:20190331T030000
TZOFFSETFROM:+0200
TZOFFSETTO:+0100
TZNAME:Europe/Berlin CET
END:STANDARD
BEGIN:STANDARD
DTSTART:20191027T020000
RDATE:20200329T030000
TZOFFSETFROM:+0200
TZOFFSETTO:+0100
TZNAME:Europe/Berlin CET
END:STANDARD
BEGIN:STANDARD
DTSTART:20201025T020000
RDATE:20210328T030000
TZOFFSETFROM:+0200
TZOFFSETTO:+0100
TZNAME:Europe/Berlin CET
END:STANDARD
BEGIN:STANDARD
DTSTART:20211031T020000
RDATE:20220327T030000
TZOFFSETFROM:+0200
TZOFFSETTO:+0100
TZNAME:Europe/Berlin CET
END:STANDARD
BEGIN:STANDARD
DTSTART:20221030T020000
RDATE:20230326T030000
TZOFFSETFROM:+0200
TZOFFSETTO:+0100
TZNAME:Europe/Berlin CET
END:STANDARD
BEGIN:STANDARD
DTSTART:20231029T020000
RDATE:20240331T030000
TZOFFSETFROM:+0200
TZOFFSETTO:+0100
TZNAME:Europe/Berlin CET
END:STANDARD
BEGIN:STANDARD
DTSTART:20241027T020000
RDATE:20250330T030000
TZOFFSETFROM:+0200
TZOFFSETTO:+0100
TZNAME:Europe/Berlin CET
END:STANDARD
BEGIN:STANDARD
DTSTART:20251026T020000
RDATE:20260329T030000
TZOFFSETFROM:+0200
TZOFFSETTO:+0100
TZNAME:Europe/Berlin CET
END:STANDARD
BEGIN:STANDARD
DTSTART:20261025T020000
RDATE:20270328T030000
TZOFFSETFROM:+0200
TZOFFSETTO:+0100
TZNAME:Europe/Berlin CET
END:STANDARD
BEGIN:STANDARD
DTSTART:20271031T020000
RDATE:20280326T030000
TZOFFSETFROM:+0200
TZOFFSETTO:+0100
TZNAME:Europe/Berlin CET
END:STANDARD
BEGIN:STANDARD
DTSTART:20281029T020000
RDATE:20290325T030000
TZOFFSETFROM:+0200
TZOFFSETTO:+0100
TZNAME:Europe/Berlin CET
END:STANDARD
BEGIN:STANDARD
DTSTART:20291028T020000
RDATE:20300331T030000
TZOFFSETFROM:+0200
TZOFFSETTO:+0100
TZNAME:Europe/Berlin CET
END:STANDARD
BEGIN:STANDARD
DTSTART:20301027T020000
RDATE:20310330T030000
TZOFFSETFROM:+0200
TZOFFSETTO:+0100
TZNAME:Europe/Berlin CET
END:STANDARD
BEGIN:DAYLIGHT
DTSTART:20150820T000000
RDATE:20151025T020000
TZOFFSETFROM:+0100
TZOFFSETTO:+0200
TZNAME:Europe/Berlin CEST
END:DAYLIGHT
BEGIN:DAYLIGHT
DTSTART:20160327T030000
RDATE:20161030T020000
TZOFFSETFROM:+0100
TZOFFSETTO:+0200
TZNAME:Europe/Berlin CEST
END:DAYLIGHT
BEGIN:DAYLIGHT
DTSTART:20170326T030000
RDATE:20171029T020000
TZOFFSETFROM:+0100
TZOFFSETTO:+0200
TZNAME:Europe/Berlin CEST
END:DAYLIGHT
BEGIN:DAYLIGHT
DTSTART:20180325T030000
RDATE:20181028T020000
TZOFFSETFROM:+0100
TZOFFSETTO:+0200
TZNAME:Europe/Berlin CEST
END:DAYLIGHT
BEGIN:DAYLIGHT
DTSTART:20190331T030000
RDATE:20191027T020000
TZOFFSETFROM:+0100
TZOFFSETTO:+0200
TZNAME:Europe/Berlin CEST
END:DAYLIGHT
BEGIN:DAYLIGHT
DTSTART:20200329T030000
RDATE:20201025T020000
TZOFFSETFROM:+0100
TZOFFSETTO:+0200
TZNAME:Europe/Berlin CEST
END:DAYLIGHT
BEGIN:DAYLIGHT
DTSTART:20210328T030000
RDATE:20211031T020000
TZOFFSETFROM:+0100
TZOFFSETTO:+0200
TZNAME:Europe/Berlin CEST
END:DAYLIGHT
BEGIN:DAYLIGHT
DTSTART:20220327T030000
RDATE:20221030T020000
TZOFFSETFROM:+0100
TZOFFSETTO:+0200
TZNAME:Europe/Berlin CEST
END:DAYLIGHT
BEGIN:DAYLIGHT
DTSTART:20230326T030000
RDATE:20231029T020000
TZOFFSETFROM:+0100
TZOFFSETTO:+0200
TZNAME:Europe/Berlin CEST
END:DAYLIGHT
BEGIN:DAYLIGHT
DTSTART:20240331T030000
RDATE:20241027T020000
TZOFFSETFROM:+0100
TZOFFSETTO:+0200
TZNAME:Europe/Berlin CEST
END:DAYLIGHT
BEGIN:DAYLIGHT
DTSTART:20250330T030000
RDATE:20251026T020000
TZOFFSETFROM:+0100
TZOFFSETTO:+0200
TZNAME:Europe/Berlin CEST
END:DAYLIGHT
BEGIN:DAYLIGHT
DTSTART:20260329T030000
RDATE:20261025T020000
TZOFFSETFROM:+0100
TZOFFSETTO:+0200
TZNAME:Europe/Berlin CEST
END:DAYLIGHT
BEGIN:DAYLIGHT
DTSTART:20270328T030000
RDATE:20271031T020000
TZOFFSETFROM:+0100
TZOFFSETTO:+0200
TZNAME:Europe/Berlin CEST
END:DAYLIGHT
BEGIN:DAYLIGHT
DTSTART:20280326T030000
RDATE:20281029T020000
TZOFFSETFROM:+0100
TZOFFSETTO:+0200
TZNAME:Europe/Berlin CEST
END:DAYLIGHT
BEGIN:DAYLIGHT
DTSTART:20290325T030000
RDATE:20291028T020000
TZOFFSETFROM:+0100
TZOFFSETTO:+0200
TZNAME:Europe/Berlin CEST
END:DAYLIGHT
BEGIN:DAYLIGHT
DTSTART:20300331T030000
RDATE:20301027T020000
TZOFFSETFROM:+0100
TZOFFSETTO:+0200
TZNAME:Europe/Berlin CEST
END:DAYLIGHT
END:VTIMEZONE
BEGIN:VEVENT
UID:83aaa2396a065936f5dad3abc8fefa42
CATEGORIES:Regatten SVSt
CREATED:20160210T122124
SUMMARY:Berolina Cup 2016
DESCRIPTION:Auch in diesem Jahr richtet der SVSt wieder den traditionellen „Berolina Cu
 p“ aus.\nAls Besonderheit ist zu erwähnen, dass die Nordischen Folkeboote a
 uf einer eigenen Bahn starten werden.\n Das bedeutet: Zwei Startschiffe, zw
 ei Tonnensätze, Motorboote usw. Der Aufwand ist zwar erheblich, aber die Un
 terstützung unser Nachbarvereine hilft uns, das Material für zwei Bahnen zu
 sammenzustellen.\n H-Jollen, Dyas, Trias und Skippi 650 kämpfen auf ihrer B
 ahn um die Plätze.\n Die H-Jollen wollen ihren Berliner Meister ermitteln.\
 n Trias und Skippi 650 sind schon traditionell dabei, auch wenn sie die gef
 orderten Meldezahlen manchmal knapp verfehlten.\n Wettfahrtleiter werden Je
 ns Merda (SVSt) Bahn1 und Knut Hohenstein (SSVaW) Bahn 2 sein.\n \n Wind is
 t vorbestellt….\n \n Wir freuen uns auf hohe Meldezahlen \n \n Harry Gluch 
 \nSportwart\n \n Ausschreibung und Meldung Berolina Cup 2016\n (images/pdf/
 AusschreibungBC16_2.pdf) <a target="_blank" href="http://www.raceoffice.org
 /event.php?eid=1859271088577cca62abace"> Meldung (Raceoffice) </a> \n Progr
 amm / Segelanweisungen (images/pdf/ProgrammBC16.pdf)\n<a target="_blank" hr
 ef="images/pdf/BC_2016_Ergebnis_Folkeboot.pdf"> Ergebnisliste Folkeboot</a>
 \n (images/pdf/Ergebnis_Gruppe_1.pdf) <a target="_blank" href="images/pdf/B
 C_2016_Ergebnis_H-Jolle.pdf"> Ergebnisliste H-Jolle\n</a>  Ergebnisliste Dy
 as (images/pdf/BC_2016_Ergebnis_Dyas.pdf)\n
X-ALT-DESC;FMTTYPE=text/html:<p>Auch in diesem Jahr richtet der SVSt wieder den traditionellen &bdquo;Be
 rolina Cup&ldquo; aus.</p><p>Als Besonderheit ist zu erw&auml;hnen, dass di
 e Nordischen Folkeboote auf einer eigenen Bahn starten werden.<br /> Das be
 deutet: Zwei Startschiffe, zwei Tonnens&auml;tze, Motorboote usw. Der Aufwa
 nd ist zwar erheblich, aber die Unterst&uuml;tzung unser Nachbarvereine hil
 ft uns, das Material f&uuml;r zwei Bahnen zusammenzustellen.<br /> H-Jollen
 , Dyas, Trias und Skippi 650 k&auml;mpfen auf ihrer Bahn um die Pl&auml;tze
 .<br /> Die H-Jollen wollen ihren Berliner Meister ermitteln.<br /> Trias u
 nd Skippi 650 sind schon traditionell dabei, auch wenn sie die geforderten 
 Meldezahlen manchmal knapp verfehlten.<br /> Wettfahrtleiter werden Jens Me
 rda (SVSt) Bahn1 und Knut Hohenstein (SSVaW) Bahn 2 sein.<br /> <br /> Wind
  ist vorbestellt&hellip;.<br /> <br /> Wir freuen uns auf hohe Meldezahlen 
 <br /> <br /> Harry Gluch <br />Sportwart</p><p>&nbsp;</p><p><a href="image
 s/pdf/AusschreibungBC16_2.pdf" target="_blank"><em class="fa fa-file-pdf-o"
 ></em> Ausschreibung und Meldung Berolina Cup 2016<br /></a> <a target="_bl
 ank" href="http://www.raceoffice.org/event.php?eid=1859271088577cca62abace"
 ><em class="fa fa-hand-o-right"></em> Meldung (Raceoffice)&nbsp;</a> <a tar
 get="_blank" href="images/pdf/ProgrammBC16.pdf"><br /><em class="fa fa-file
 -pdf-o"></em> Programm / Segelanweisungen</a></p><p><a target="_blank" href
 ="images/pdf/BC_2016_Ergebnis_Folkeboot.pdf"><em class="fa fa-file-pdf-o"><
 /em> Ergebnisliste Folkeboot</a><a href="images/pdf/Ergebnis_Gruppe_1.pdf">
 <br /></a> <a target="_blank" href="images/pdf/BC_2016_Ergebnis_H-Jolle.pdf
 "><em class="fa fa-file-pdf-o"></em> Ergebnisliste H-Jolle<br /></a> <a tar
 get="_blank" href="images/pdf/BC_2016_Ergebnis_Dyas.pdf"><em class="fa fa-f
 ile-pdf-o"></em> Ergebnisliste Dyas</a></p>
DTSTAMP:20260420T070001
DTSTART;TZID=Europe/Berlin;VALUE=DATE:20160820
DTEND;TZID=Europe/Berlin;VALUE=DATE:20160822
SEQUENCE:0
TRANSP:OPAQUE
END:VEVENT
END:VCALENDAR