BEGIN:VCALENDAR
VERSION:2.0
PRODID:-//jEvents 2.0 for Joomla//EN
CALSCALE:GREGORIAN
METHOD:PUBLISH
BEGIN:VTIMEZONE
TZID:Europe/Berlin
BEGIN:STANDARD
DTSTART:20151025T020000
RDATE:20160327T030000
TZOFFSETFROM:+0200
TZOFFSETTO:+0100
TZNAME:Europe/Berlin CET
END:STANDARD
BEGIN:STANDARD
DTSTART:20161030T020000
RDATE:20170326T030000
TZOFFSETFROM:+0200
TZOFFSETTO:+0100
TZNAME:Europe/Berlin CET
END:STANDARD
BEGIN:STANDARD
DTSTART:20171029T020000
RDATE:20180325T030000
TZOFFSETFROM:+0200
TZOFFSETTO:+0100
TZNAME:Europe/Berlin CET
END:STANDARD
BEGIN:STANDARD
DTSTART:20181028T020000
RDATE:20190331T030000
TZOFFSETFROM:+0200
TZOFFSETTO:+0100
TZNAME:Europe/Berlin CET
END:STANDARD
BEGIN:STANDARD
DTSTART:20191027T020000
RDATE:20200329T030000
TZOFFSETFROM:+0200
TZOFFSETTO:+0100
TZNAME:Europe/Berlin CET
END:STANDARD
BEGIN:STANDARD
DTSTART:20201025T020000
RDATE:20210328T030000
TZOFFSETFROM:+0200
TZOFFSETTO:+0100
TZNAME:Europe/Berlin CET
END:STANDARD
BEGIN:STANDARD
DTSTART:20211031T020000
RDATE:20220327T030000
TZOFFSETFROM:+0200
TZOFFSETTO:+0100
TZNAME:Europe/Berlin CET
END:STANDARD
BEGIN:STANDARD
DTSTART:20221030T020000
RDATE:20230326T030000
TZOFFSETFROM:+0200
TZOFFSETTO:+0100
TZNAME:Europe/Berlin CET
END:STANDARD
BEGIN:STANDARD
DTSTART:20231029T020000
RDATE:20240331T030000
TZOFFSETFROM:+0200
TZOFFSETTO:+0100
TZNAME:Europe/Berlin CET
END:STANDARD
BEGIN:STANDARD
DTSTART:20241027T020000
RDATE:20250330T030000
TZOFFSETFROM:+0200
TZOFFSETTO:+0100
TZNAME:Europe/Berlin CET
END:STANDARD
BEGIN:STANDARD
DTSTART:20251026T020000
RDATE:20260329T030000
TZOFFSETFROM:+0200
TZOFFSETTO:+0100
TZNAME:Europe/Berlin CET
END:STANDARD
BEGIN:STANDARD
DTSTART:20261025T020000
RDATE:20270328T030000
TZOFFSETFROM:+0200
TZOFFSETTO:+0100
TZNAME:Europe/Berlin CET
END:STANDARD
BEGIN:STANDARD
DTSTART:20271031T020000
RDATE:20280326T030000
TZOFFSETFROM:+0200
TZOFFSETTO:+0100
TZNAME:Europe/Berlin CET
END:STANDARD
BEGIN:STANDARD
DTSTART:20281029T020000
RDATE:20290325T030000
TZOFFSETFROM:+0200
TZOFFSETTO:+0100
TZNAME:Europe/Berlin CET
END:STANDARD
BEGIN:STANDARD
DTSTART:20291028T020000
RDATE:20300331T030000
TZOFFSETFROM:+0200
TZOFFSETTO:+0100
TZNAME:Europe/Berlin CET
END:STANDARD
BEGIN:STANDARD
DTSTART:20301027T020000
RDATE:20310330T030000
TZOFFSETFROM:+0200
TZOFFSETTO:+0100
TZNAME:Europe/Berlin CET
END:STANDARD
BEGIN:DAYLIGHT
DTSTART:20150505T000000
RDATE:20151025T020000
TZOFFSETFROM:+0100
TZOFFSETTO:+0200
TZNAME:Europe/Berlin CEST
END:DAYLIGHT
BEGIN:DAYLIGHT
DTSTART:20160327T030000
RDATE:20161030T020000
TZOFFSETFROM:+0100
TZOFFSETTO:+0200
TZNAME:Europe/Berlin CEST
END:DAYLIGHT
BEGIN:DAYLIGHT
DTSTART:20170326T030000
RDATE:20171029T020000
TZOFFSETFROM:+0100
TZOFFSETTO:+0200
TZNAME:Europe/Berlin CEST
END:DAYLIGHT
BEGIN:DAYLIGHT
DTSTART:20180325T030000
RDATE:20181028T020000
TZOFFSETFROM:+0100
TZOFFSETTO:+0200
TZNAME:Europe/Berlin CEST
END:DAYLIGHT
BEGIN:DAYLIGHT
DTSTART:20190331T030000
RDATE:20191027T020000
TZOFFSETFROM:+0100
TZOFFSETTO:+0200
TZNAME:Europe/Berlin CEST
END:DAYLIGHT
BEGIN:DAYLIGHT
DTSTART:20200329T030000
RDATE:20201025T020000
TZOFFSETFROM:+0100
TZOFFSETTO:+0200
TZNAME:Europe/Berlin CEST
END:DAYLIGHT
BEGIN:DAYLIGHT
DTSTART:20210328T030000
RDATE:20211031T020000
TZOFFSETFROM:+0100
TZOFFSETTO:+0200
TZNAME:Europe/Berlin CEST
END:DAYLIGHT
BEGIN:DAYLIGHT
DTSTART:20220327T030000
RDATE:20221030T020000
TZOFFSETFROM:+0100
TZOFFSETTO:+0200
TZNAME:Europe/Berlin CEST
END:DAYLIGHT
BEGIN:DAYLIGHT
DTSTART:20230326T030000
RDATE:20231029T020000
TZOFFSETFROM:+0100
TZOFFSETTO:+0200
TZNAME:Europe/Berlin CEST
END:DAYLIGHT
BEGIN:DAYLIGHT
DTSTART:20240331T030000
RDATE:20241027T020000
TZOFFSETFROM:+0100
TZOFFSETTO:+0200
TZNAME:Europe/Berlin CEST
END:DAYLIGHT
BEGIN:DAYLIGHT
DTSTART:20250330T030000
RDATE:20251026T020000
TZOFFSETFROM:+0100
TZOFFSETTO:+0200
TZNAME:Europe/Berlin CEST
END:DAYLIGHT
BEGIN:DAYLIGHT
DTSTART:20260329T030000
RDATE:20261025T020000
TZOFFSETFROM:+0100
TZOFFSETTO:+0200
TZNAME:Europe/Berlin CEST
END:DAYLIGHT
BEGIN:DAYLIGHT
DTSTART:20270328T030000
RDATE:20271031T020000
TZOFFSETFROM:+0100
TZOFFSETTO:+0200
TZNAME:Europe/Berlin CEST
END:DAYLIGHT
BEGIN:DAYLIGHT
DTSTART:20280326T030000
RDATE:20281029T020000
TZOFFSETFROM:+0100
TZOFFSETTO:+0200
TZNAME:Europe/Berlin CEST
END:DAYLIGHT
BEGIN:DAYLIGHT
DTSTART:20290325T030000
RDATE:20291028T020000
TZOFFSETFROM:+0100
TZOFFSETTO:+0200
TZNAME:Europe/Berlin CEST
END:DAYLIGHT
BEGIN:DAYLIGHT
DTSTART:20300331T030000
RDATE:20301027T020000
TZOFFSETFROM:+0100
TZOFFSETTO:+0200
TZNAME:Europe/Berlin CEST
END:DAYLIGHT
END:VTIMEZONE
BEGIN:VEVENT
UID:809d14619846c5564591df824d72fc87
CATEGORIES:Regatten SVSt
CREATED:20160210T115627
SUMMARY:Freundschaftswettfahrt 2016
DESCRIPTION:Der SVSt richtet in diesem Jahr die Freundschaftswettfahrt aus - Alle Mann 
 an Bord!\nKeine Crew? Kein Boot? Wir bringen alle zusammen, die dabei sein 
 wollen. Mitsegel-Gelegenheiten zwischen Bootseignern und "ohne Boot-Mitsegl
 ern" werden gerne vermittelt. Mehr dazu im internen Bereich (Anmeldung erfo
 rderlich). (mitgliederinfo/105-mitsegelgelegenheiten-fuer-die-freundschafts
 wettfahrt)\nFür Bootseigner, die zwar ein Schiff im SVSt haben, aber nicht 
 so genau wissen, wie das mit dem "Regatta-Kram" geht, finden sich motiviert
 e Jugendliche, die das Regattasegeln im Verein gelernt haben, die Regeln ke
 nnen und nur auf eine Mitsegel-Gelegenheit warten.\nFür Neu-Stössenseeer mi
 t und ohne Regattaerfahrung, Segelbegeisterte ohne eigenes Boot oder Jollen
 segler, die einmal auf einem Dickschiff mitsegeln wollen, ist das die Geleg
 enheit!\nBei der Freundschaftswettfahrt geht es schließlich nicht nur darum
  zu gewinnen, sondern um gemeinsam eine schöne Zeit auf dem Wasser zu verbr
 ingen und Segelfreundschaften zu knüpfen.\nDie Ausschreibung finden Sie unt
 enstehend als pdf zum Download.\nDie Wettfahrtprogramme liegen am 04.05.201
 6 ab 19.00 Uhr in den einzelnen Vereinshäusern aus.\nBitte melden Sie sich 
 online direkt über <a href="http://www.raceoffice.org/entrylist.php?eid=104
 0433678570954c8718a6" target="_blank">raceoffice.org</a> an. Meldeschluss i
 st der 04.05.2016.\n \nBei Interesse oder Fragen wenden Sie sich gerne an u
 nseren Sportwart Harry Gluch unter 030/607 6921 oder (Diese E-Mail-Adresse 
 ist vor Spambots geschützt! Zur Anzeige muss JavaScript eingeschaltet sein!
 
				document.getElementById('cloak3b8fc291d2afd5d863fcc8edba26cca4').inner
 HTML = '';
				var prefix = '&#109;a' + 'i&#108;' + '&#116;o';
				var path
  = 'hr' + 'ef' + '=';
				var addy3b8fc291d2afd5d863fcc8edba26cca4 = 'sp&#1
 11;rt' + '&#64;';
				addy3b8fc291d2afd5d863fcc8edba26cca4 = addy3b8fc291d2
 afd5d863fcc8edba26cca4 + 'svst' + '&#46;' + 'd&#101;';
				var addy_text3b8
 fc291d2afd5d863fcc8edba26cca4 = 'sp&#111;rt' + '&#64;' + 'svst' + '&#46;' +
  'd&#101;';document.getElementById('cloak3b8fc291d2afd5d863fcc8edba26cca4')
 .innerHTML += '<a ' + path + '\'' + prefix + ':' + addy3b8fc291d2afd5d863fc
 c8edba26cca4 + '\'>'+addy_text3b8fc291d2afd5d863fcc8edba26cca4+'';
		).\nAu
 sschreibung Freundschaftswettfahrt 2016 (images/pdf/Ausschreibung_FW2016.pd
 f)\n \n
X-ALT-DESC;FMTTYPE=text/html:<p><strong>Der SVSt richtet in diesem Jahr die Freundschaftswettfahrt aus -
  Alle Mann an Bord!</strong></p><p>Keine Crew? Kein Boot? Wir bringen alle 
 zusammen, die dabei sein wollen.<strong> Mitsegel-Gelegenheiten</strong> zw
 ischen Bootseignern und "ohne Boot-Mitseglern" werden gerne vermittelt. Meh
 r dazu im <a href="mitgliederinfo/105-mitsegelgelegenheiten-fuer-die-freund
 schaftswettfahrt">internen Bereich (Anmeldung erforderlich).</a></p><p>F&uu
 ml;r Bootseigner, die zwar ein Schiff im SVSt haben, aber nicht so genau wi
 ssen, wie das mit dem "Regatta-Kram" geht, finden sich motivierte Jugendlic
 he, die das Regattasegeln im Verein gelernt haben, die Regeln kennen und nu
 r auf eine Mitsegel-Gelegenheit warten.</p><p>F&uuml;r Neu-St&ouml;ssenseee
 r mit und ohne Regattaerfahrung, Segelbegeisterte ohne eigenes Boot oder Jo
 llensegler, die einmal auf einem Dickschiff mitsegeln wollen, ist das die G
 elegenheit!</p><p>Bei der Freundschaftswettfahrt geht es schlie&szlig;lich 
 nicht nur darum zu gewinnen, sondern um gemeinsam eine sch&ouml;ne Zeit auf
  dem Wasser zu verbringen und Segelfreundschaften zu kn&uuml;pfen.</p><p>Di
 e <strong>Ausschreibung</strong> finden Sie untenstehend als pdf zum Downlo
 ad.<br />Die <strong>Wettfahrtprogramme</strong> liegen am 04.05.2016 ab 19
 .00 Uhr in den einzelnen Vereinsh&auml;usern aus.</p><p>Bitte <strong>melde
 n</strong> Sie sich online direkt &uuml;ber <a href="http://www.raceoffice.
 org/entrylist.php?eid=1040433678570954c8718a6" target="_blank">raceoffice.o
 rg</a> an. <strong>Meldeschluss ist der 04.05.2016</strong>.</p><p>&nbsp;</
 p><p>Bei Interesse oder Fragen wenden Sie sich gerne an unseren Sportwart H
 arry Gluch unter 030/607 6921 oder (<span id="cloak3b8fc291d2afd5d863fcc8ed
 ba26cca4">Diese E-Mail-Adresse ist vor Spambots geschützt! Zur Anzeige muss
  JavaScript eingeschaltet sein!</span><script type='text/javascript'>
				d
 ocument.getElementById('cloak3b8fc291d2afd5d863fcc8edba26cca4').innerHTML =
  '';
				var prefix = '&#109;a' + 'i&#108;' + '&#116;o';
				var path = 'hr
 ' + 'ef' + '=';
				var addy3b8fc291d2afd5d863fcc8edba26cca4 = 'sp&#111;rt'
  + '&#64;';
				addy3b8fc291d2afd5d863fcc8edba26cca4 = addy3b8fc291d2afd5d8
 63fcc8edba26cca4 + 'svst' + '&#46;' + 'd&#101;';
				var addy_text3b8fc291d
 2afd5d863fcc8edba26cca4 = 'sp&#111;rt' + '&#64;' + 'svst' + '&#46;' + 'd&#1
 01;';document.getElementById('cloak3b8fc291d2afd5d863fcc8edba26cca4').inner
 HTML += '<a ' + path + '\'' + prefix + ':' + addy3b8fc291d2afd5d863fcc8edba
 26cca4 + '\'>'+addy_text3b8fc291d2afd5d863fcc8edba26cca4+'<\/a>';
		</scrip
 t>).</p><p><a href="images/pdf/Ausschreibung_FW2016.pdf" target="_blank">Au
 sschreibung Freundschaftswettfahrt 2016</a></p><p>&nbsp;</p>
DTSTAMP:20260420T232646
DTSTART;TZID=Europe/Berlin;VALUE=DATE:20160505
DTEND;TZID=Europe/Berlin;VALUE=DATE:20160506
SEQUENCE:0
TRANSP:OPAQUE
END:VEVENT
END:VCALENDAR