BEGIN:VCALENDAR
VERSION:2.0
PRODID:-//jEvents 2.0 for Joomla//EN
CALSCALE:GREGORIAN
METHOD:PUBLISH
BEGIN:VTIMEZONE
TZID:Europe/Berlin
BEGIN:STANDARD
DTSTART:20151025T020000
RDATE:20160327T030000
TZOFFSETFROM:+0200
TZOFFSETTO:+0100
TZNAME:Europe/Berlin CET
END:STANDARD
BEGIN:STANDARD
DTSTART:20161030T020000
RDATE:20170326T030000
TZOFFSETFROM:+0200
TZOFFSETTO:+0100
TZNAME:Europe/Berlin CET
END:STANDARD
BEGIN:STANDARD
DTSTART:20171029T020000
RDATE:20180325T030000
TZOFFSETFROM:+0200
TZOFFSETTO:+0100
TZNAME:Europe/Berlin CET
END:STANDARD
BEGIN:STANDARD
DTSTART:20181028T020000
RDATE:20190331T030000
TZOFFSETFROM:+0200
TZOFFSETTO:+0100
TZNAME:Europe/Berlin CET
END:STANDARD
BEGIN:STANDARD
DTSTART:20191027T020000
RDATE:20200329T030000
TZOFFSETFROM:+0200
TZOFFSETTO:+0100
TZNAME:Europe/Berlin CET
END:STANDARD
BEGIN:STANDARD
DTSTART:20201025T020000
RDATE:20210328T030000
TZOFFSETFROM:+0200
TZOFFSETTO:+0100
TZNAME:Europe/Berlin CET
END:STANDARD
BEGIN:STANDARD
DTSTART:20211031T020000
RDATE:20220327T030000
TZOFFSETFROM:+0200
TZOFFSETTO:+0100
TZNAME:Europe/Berlin CET
END:STANDARD
BEGIN:STANDARD
DTSTART:20221030T020000
RDATE:20230326T030000
TZOFFSETFROM:+0200
TZOFFSETTO:+0100
TZNAME:Europe/Berlin CET
END:STANDARD
BEGIN:STANDARD
DTSTART:20231029T020000
RDATE:20240331T030000
TZOFFSETFROM:+0200
TZOFFSETTO:+0100
TZNAME:Europe/Berlin CET
END:STANDARD
BEGIN:STANDARD
DTSTART:20241027T020000
RDATE:20250330T030000
TZOFFSETFROM:+0200
TZOFFSETTO:+0100
TZNAME:Europe/Berlin CET
END:STANDARD
BEGIN:STANDARD
DTSTART:20251026T020000
RDATE:20260329T030000
TZOFFSETFROM:+0200
TZOFFSETTO:+0100
TZNAME:Europe/Berlin CET
END:STANDARD
BEGIN:STANDARD
DTSTART:20261025T020000
RDATE:20270328T030000
TZOFFSETFROM:+0200
TZOFFSETTO:+0100
TZNAME:Europe/Berlin CET
END:STANDARD
BEGIN:STANDARD
DTSTART:20271031T020000
RDATE:20280326T030000
TZOFFSETFROM:+0200
TZOFFSETTO:+0100
TZNAME:Europe/Berlin CET
END:STANDARD
BEGIN:STANDARD
DTSTART:20281029T020000
RDATE:20290325T030000
TZOFFSETFROM:+0200
TZOFFSETTO:+0100
TZNAME:Europe/Berlin CET
END:STANDARD
BEGIN:STANDARD
DTSTART:20291028T020000
RDATE:20300331T030000
TZOFFSETFROM:+0200
TZOFFSETTO:+0100
TZNAME:Europe/Berlin CET
END:STANDARD
BEGIN:STANDARD
DTSTART:20301027T020000
RDATE:20310330T030000
TZOFFSETFROM:+0200
TZOFFSETTO:+0100
TZNAME:Europe/Berlin CET
END:STANDARD
BEGIN:DAYLIGHT
DTSTART:20150416T090000
RDATE:20151025T020000
TZOFFSETFROM:+0100
TZOFFSETTO:+0200
TZNAME:Europe/Berlin CEST
END:DAYLIGHT
BEGIN:DAYLIGHT
DTSTART:20160327T030000
RDATE:20161030T020000
TZOFFSETFROM:+0100
TZOFFSETTO:+0200
TZNAME:Europe/Berlin CEST
END:DAYLIGHT
BEGIN:DAYLIGHT
DTSTART:20170326T030000
RDATE:20171029T020000
TZOFFSETFROM:+0100
TZOFFSETTO:+0200
TZNAME:Europe/Berlin CEST
END:DAYLIGHT
BEGIN:DAYLIGHT
DTSTART:20180325T030000
RDATE:20181028T020000
TZOFFSETFROM:+0100
TZOFFSETTO:+0200
TZNAME:Europe/Berlin CEST
END:DAYLIGHT
BEGIN:DAYLIGHT
DTSTART:20190331T030000
RDATE:20191027T020000
TZOFFSETFROM:+0100
TZOFFSETTO:+0200
TZNAME:Europe/Berlin CEST
END:DAYLIGHT
BEGIN:DAYLIGHT
DTSTART:20200329T030000
RDATE:20201025T020000
TZOFFSETFROM:+0100
TZOFFSETTO:+0200
TZNAME:Europe/Berlin CEST
END:DAYLIGHT
BEGIN:DAYLIGHT
DTSTART:20210328T030000
RDATE:20211031T020000
TZOFFSETFROM:+0100
TZOFFSETTO:+0200
TZNAME:Europe/Berlin CEST
END:DAYLIGHT
BEGIN:DAYLIGHT
DTSTART:20220327T030000
RDATE:20221030T020000
TZOFFSETFROM:+0100
TZOFFSETTO:+0200
TZNAME:Europe/Berlin CEST
END:DAYLIGHT
BEGIN:DAYLIGHT
DTSTART:20230326T030000
RDATE:20231029T020000
TZOFFSETFROM:+0100
TZOFFSETTO:+0200
TZNAME:Europe/Berlin CEST
END:DAYLIGHT
BEGIN:DAYLIGHT
DTSTART:20240331T030000
RDATE:20241027T020000
TZOFFSETFROM:+0100
TZOFFSETTO:+0200
TZNAME:Europe/Berlin CEST
END:DAYLIGHT
BEGIN:DAYLIGHT
DTSTART:20250330T030000
RDATE:20251026T020000
TZOFFSETFROM:+0100
TZOFFSETTO:+0200
TZNAME:Europe/Berlin CEST
END:DAYLIGHT
BEGIN:DAYLIGHT
DTSTART:20260329T030000
RDATE:20261025T020000
TZOFFSETFROM:+0100
TZOFFSETTO:+0200
TZNAME:Europe/Berlin CEST
END:DAYLIGHT
BEGIN:DAYLIGHT
DTSTART:20270328T030000
RDATE:20271031T020000
TZOFFSETFROM:+0100
TZOFFSETTO:+0200
TZNAME:Europe/Berlin CEST
END:DAYLIGHT
BEGIN:DAYLIGHT
DTSTART:20280326T030000
RDATE:20281029T020000
TZOFFSETFROM:+0100
TZOFFSETTO:+0200
TZNAME:Europe/Berlin CEST
END:DAYLIGHT
BEGIN:DAYLIGHT
DTSTART:20290325T030000
RDATE:20291028T020000
TZOFFSETFROM:+0100
TZOFFSETTO:+0200
TZNAME:Europe/Berlin CEST
END:DAYLIGHT
BEGIN:DAYLIGHT
DTSTART:20300331T030000
RDATE:20301027T020000
TZOFFSETFROM:+0100
TZOFFSETTO:+0200
TZNAME:Europe/Berlin CEST
END:DAYLIGHT
END:VTIMEZONE
BEGIN:VEVENT
UID:d9eb893152b2a2b896dc28f85af0045d
CATEGORIES:SVSt Veranstaltungen
CREATED:20160210T115146
SUMMARY:Allgemeiner Arbeitsdienst
DESCRIPTION:Der Hafenmeister gibt bekannt: Außer den üblichen Arbeiten werden Erdarbeit
 en im Bereich des Windenschuppens erforderlich sein und das Entfernen der m
 aroden Holzstege am Nordsteg. Spieren, Balken, alte Bootsböcke aus Holz ode
 r Metall, Surfbretter incl. Zubehör, die nicht namentlich gekennzeichnet si
 nd, werden entsorgt. Andere notwendige Arbeiten werden von mir vor Ort eing
 eteilt.\nAuch der Messewart bittet um Unterstüzung: Ich möchte aus diesem A
 nlass alle Mitglieder, die sich in der Vergangenheit den Arbeiten im Bereic
 h Messe widmeten, bitten - diese auch in 2016 fortzuführen. Gleichzeitig la
 de ich alle, die sich in der Messe versuchen wollen natürlich herzlich ein,
  das „Messeteam“ zu vergrößern. Die Liste mit den notwendigen Arbeiten häng
 t am „Schwarzen Brett“ und wurde per E-Mail versandt. Sollten in der Auflis
 tung „Wartungsarbeiten“ fehlen, bin ich für Ergänzungen und Anregungen dank
 bar.\nDieter Knorr benötigt dringend Unterstützung bei der Neugestaltung de
 r Vitrinen - hier seine Aufgabenbeschreibung: Wir brauchen einen Elektriker
  zur Montage einer neuen Vitrinen-Beleuchtung; drei geschliffene Glasböden 
 sollen mit Scheibenträgern montiert werden. Schließlich werden wir die ganz
 en Pokale ausstellen und mit den Spots anstrahlen. Ein weiteres "Projekt" b
 etrifft die großen Pflanzen. Die müssen wir umtopfen, dazu brauchen wir Hil
 fe ... Dieter bittet um Kontaktaufnahme.\n\n
X-ALT-DESC;FMTTYPE=text/html:<p>Der <strong>Hafenmeister</strong> gibt bekannt: Außer den üblichen Arbei
 ten werden <strong>Erdarbeiten im Bereich des Windenschuppens</strong> erfo
 rderlich sein und das <strong>Entfernen der maroden Holzstege am Nordsteg</
 strong>. Spieren, Balken, alte Bootsböcke aus Holz oder Metall, Surfbretter
  incl. Zubehör, die nicht namentlich gekennzeichnet sind, werden entsorgt. 
 Andere notwendige Arbeiten werden von mir vor Ort eingeteilt.</p><p>Auch de
 r <strong>Messewart</strong> bittet um Unterstüzung: Ich möchte aus diesem 
 Anlass alle Mitglieder, die sich in der Vergangenheit den Arbeiten im Berei
 ch Messe widmeten, bitten - diese auch in 2016 fortzuführen. Gleichzeitig l
 ade ich alle, die sich in der Messe versuchen wollen natürlich herzlich ein
 , das &bdquo;Messeteam&ldquo; zu vergrößern. Die <strong>Liste mit den notw
 endigen Arbeiten hängt am &bdquo;Schwarzen Brett&ldquo;</strong> und wurde 
 per E-Mail versandt. Sollten in der Auflistung &bdquo;Wartungsarbeiten&ldqu
 o; fehlen, bin ich für Ergänzungen und Anregungen dankbar.</p><p><strong>Di
 eter Knorr</strong> benötigt dringend Unterstützung bei der <strong>Neugest
 altung der Vitrinen</strong> - hier seine Aufgabenbeschreibung: Wir brauche
 n einen Elektriker zur <strong>Montage einer neuen Vitrinen-Beleuchtung</st
 rong>; drei geschliffene Glasböden sollen mit Scheibenträgern montiert werd
 en. Schließlich werden wir die ganzen Pokale ausstellen und mit den Spots a
 nstrahlen. Ein weiteres "Projekt" betrifft die <strong>großen Pflanzen</str
 ong>. Die müssen wir <strong>umtopfen</strong>, dazu brauchen wir Hilfe ...
  Dieter bittet um Kontaktaufnahme.<em><br /></em></p>
DTSTAMP:20260420T132011
DTSTART;TZID=Europe/Berlin:20160416T090000
DTEND;TZID=Europe/Berlin:20160416T140000
SEQUENCE:0
TRANSP:OPAQUE
END:VEVENT
END:VCALENDAR