BEGIN:VCALENDAR
VERSION:2.0
PRODID:-//jEvents 2.0 for Joomla//EN
CALSCALE:GREGORIAN
METHOD:PUBLISH
BEGIN:VTIMEZONE
TZID:Europe/Berlin
BEGIN:STANDARD
DTSTART:20151025T020000
RDATE:20160327T030000
TZOFFSETFROM:+0200
TZOFFSETTO:+0100
TZNAME:Europe/Berlin CET
END:STANDARD
BEGIN:STANDARD
DTSTART:20161030T020000
RDATE:20170326T030000
TZOFFSETFROM:+0200
TZOFFSETTO:+0100
TZNAME:Europe/Berlin CET
END:STANDARD
BEGIN:STANDARD
DTSTART:20171029T020000
RDATE:20180325T030000
TZOFFSETFROM:+0200
TZOFFSETTO:+0100
TZNAME:Europe/Berlin CET
END:STANDARD
BEGIN:STANDARD
DTSTART:20181028T020000
RDATE:20190331T030000
TZOFFSETFROM:+0200
TZOFFSETTO:+0100
TZNAME:Europe/Berlin CET
END:STANDARD
BEGIN:STANDARD
DTSTART:20191027T020000
RDATE:20200329T030000
TZOFFSETFROM:+0200
TZOFFSETTO:+0100
TZNAME:Europe/Berlin CET
END:STANDARD
BEGIN:STANDARD
DTSTART:20201025T020000
RDATE:20210328T030000
TZOFFSETFROM:+0200
TZOFFSETTO:+0100
TZNAME:Europe/Berlin CET
END:STANDARD
BEGIN:STANDARD
DTSTART:20211031T020000
RDATE:20220327T030000
TZOFFSETFROM:+0200
TZOFFSETTO:+0100
TZNAME:Europe/Berlin CET
END:STANDARD
BEGIN:STANDARD
DTSTART:20221030T020000
RDATE:20230326T030000
TZOFFSETFROM:+0200
TZOFFSETTO:+0100
TZNAME:Europe/Berlin CET
END:STANDARD
BEGIN:STANDARD
DTSTART:20231029T020000
RDATE:20240331T030000
TZOFFSETFROM:+0200
TZOFFSETTO:+0100
TZNAME:Europe/Berlin CET
END:STANDARD
BEGIN:STANDARD
DTSTART:20241027T020000
RDATE:20250330T030000
TZOFFSETFROM:+0200
TZOFFSETTO:+0100
TZNAME:Europe/Berlin CET
END:STANDARD
BEGIN:STANDARD
DTSTART:20251026T020000
RDATE:20260329T030000
TZOFFSETFROM:+0200
TZOFFSETTO:+0100
TZNAME:Europe/Berlin CET
END:STANDARD
BEGIN:STANDARD
DTSTART:20261025T020000
RDATE:20270328T030000
TZOFFSETFROM:+0200
TZOFFSETTO:+0100
TZNAME:Europe/Berlin CET
END:STANDARD
BEGIN:STANDARD
DTSTART:20271031T020000
RDATE:20280326T030000
TZOFFSETFROM:+0200
TZOFFSETTO:+0100
TZNAME:Europe/Berlin CET
END:STANDARD
BEGIN:STANDARD
DTSTART:20281029T020000
RDATE:20290325T030000
TZOFFSETFROM:+0200
TZOFFSETTO:+0100
TZNAME:Europe/Berlin CET
END:STANDARD
BEGIN:STANDARD
DTSTART:20291028T020000
RDATE:20300331T030000
TZOFFSETFROM:+0200
TZOFFSETTO:+0100
TZNAME:Europe/Berlin CET
END:STANDARD
BEGIN:STANDARD
DTSTART:20301027T020000
RDATE:20310330T030000
TZOFFSETFROM:+0200
TZOFFSETTO:+0100
TZNAME:Europe/Berlin CET
END:STANDARD
BEGIN:DAYLIGHT
DTSTART:20151023T120000
RDATE:20151025T020000
TZOFFSETFROM:+0100
TZOFFSETTO:+0200
TZNAME:Europe/Berlin CEST
END:DAYLIGHT
BEGIN:DAYLIGHT
DTSTART:20160327T030000
RDATE:20161030T020000
TZOFFSETFROM:+0100
TZOFFSETTO:+0200
TZNAME:Europe/Berlin CEST
END:DAYLIGHT
BEGIN:DAYLIGHT
DTSTART:20170326T030000
RDATE:20171029T020000
TZOFFSETFROM:+0100
TZOFFSETTO:+0200
TZNAME:Europe/Berlin CEST
END:DAYLIGHT
BEGIN:DAYLIGHT
DTSTART:20180325T030000
RDATE:20181028T020000
TZOFFSETFROM:+0100
TZOFFSETTO:+0200
TZNAME:Europe/Berlin CEST
END:DAYLIGHT
BEGIN:DAYLIGHT
DTSTART:20190331T030000
RDATE:20191027T020000
TZOFFSETFROM:+0100
TZOFFSETTO:+0200
TZNAME:Europe/Berlin CEST
END:DAYLIGHT
BEGIN:DAYLIGHT
DTSTART:20200329T030000
RDATE:20201025T020000
TZOFFSETFROM:+0100
TZOFFSETTO:+0200
TZNAME:Europe/Berlin CEST
END:DAYLIGHT
BEGIN:DAYLIGHT
DTSTART:20210328T030000
RDATE:20211031T020000
TZOFFSETFROM:+0100
TZOFFSETTO:+0200
TZNAME:Europe/Berlin CEST
END:DAYLIGHT
BEGIN:DAYLIGHT
DTSTART:20220327T030000
RDATE:20221030T020000
TZOFFSETFROM:+0100
TZOFFSETTO:+0200
TZNAME:Europe/Berlin CEST
END:DAYLIGHT
BEGIN:DAYLIGHT
DTSTART:20230326T030000
RDATE:20231029T020000
TZOFFSETFROM:+0100
TZOFFSETTO:+0200
TZNAME:Europe/Berlin CEST
END:DAYLIGHT
BEGIN:DAYLIGHT
DTSTART:20240331T030000
RDATE:20241027T020000
TZOFFSETFROM:+0100
TZOFFSETTO:+0200
TZNAME:Europe/Berlin CEST
END:DAYLIGHT
BEGIN:DAYLIGHT
DTSTART:20250330T030000
RDATE:20251026T020000
TZOFFSETFROM:+0100
TZOFFSETTO:+0200
TZNAME:Europe/Berlin CEST
END:DAYLIGHT
BEGIN:DAYLIGHT
DTSTART:20260329T030000
RDATE:20261025T020000
TZOFFSETFROM:+0100
TZOFFSETTO:+0200
TZNAME:Europe/Berlin CEST
END:DAYLIGHT
BEGIN:DAYLIGHT
DTSTART:20270328T030000
RDATE:20271031T020000
TZOFFSETFROM:+0100
TZOFFSETTO:+0200
TZNAME:Europe/Berlin CEST
END:DAYLIGHT
BEGIN:DAYLIGHT
DTSTART:20280326T030000
RDATE:20281029T020000
TZOFFSETFROM:+0100
TZOFFSETTO:+0200
TZNAME:Europe/Berlin CEST
END:DAYLIGHT
BEGIN:DAYLIGHT
DTSTART:20290325T030000
RDATE:20291028T020000
TZOFFSETFROM:+0100
TZOFFSETTO:+0200
TZNAME:Europe/Berlin CEST
END:DAYLIGHT
BEGIN:DAYLIGHT
DTSTART:20300331T030000
RDATE:20301027T020000
TZOFFSETFROM:+0100
TZOFFSETTO:+0200
TZNAME:Europe/Berlin CEST
END:DAYLIGHT
END:VTIMEZONE
BEGIN:VEVENT
UID:dd42d75058a20c09f0336869754c7e22
CATEGORIES:Regatten SVSt
CREATED:20160921T142313
SUMMARY:HighNoon Regatta 2
DESCRIPTION:Wegen des großen Erfolgs HighNoon 2 im SVSt\n - Start im Bereich „ Alte Lie
 be“, Pichelsdorfer Gemünd.\n - Gesegelt wird um Fahrwassertonnen der Unterh
 avel.\n - Länge der Kurse sind nach Windstärke unterschiedlich.\n - Bahnkar
 ten werden ausgegeben.\n - Meldeschluß 21.10.2016 24.00h\n - Meldegeld 0€\n
  - Wertung: Yardstick Berliner Liste (ohne Spi +2.)\n - Eine Stunde nach Zi
 eldurchgang des letzten Schiffes wird das Ergebnis der Tageswettfahrt bekan
 nt gegeben.\n - Nach der Wettfahrt Seglerhock am Grill. Bitte Grillgut mitb
 ringen, Getränke hält die Ökonomie bereit. \nMeldestelle: www.raceoffice.or
 g (http://www.raceoffice.org/event.php?eid=177681679557d8570437475) | E-Mai
 l: Diese E-Mail-Adresse ist vor Spambots geschützt! Zur Anzeige muss JavaSc
 ript eingeschaltet sein!
				document.getElementById('cloak248cdb3cd57db77d
 d54ffec56e60fcb9').innerHTML = '';
				var prefix = '&#109;a' + 'i&#108;' +
  '&#116;o';
				var path = 'hr' + 'ef' + '=';
				var addy248cdb3cd57db77dd
 54ffec56e60fcb9 = 'sp&#111;rt' + '&#64;';
				addy248cdb3cd57db77dd54ffec56
 e60fcb9 = addy248cdb3cd57db77dd54ffec56e60fcb9 + 'svst' + '&#46;' + 'd&#101
 ;';
				var addy_text248cdb3cd57db77dd54ffec56e60fcb9 = 'sp&#111;rt@svst.d&
 #101; ';document.getElementById('cloak248cdb3cd57db77dd54ffec56e60fcb9').in
 nerHTML += '<a ' + path + '\'' + prefix + ':' + addy248cdb3cd57db77dd54ffec
 56e60fcb9 + '\'>'+addy_text248cdb3cd57db77dd54ffec56e60fcb9+'';
		| Meldeli
 ste am Sportbrett.\nAlle Meldestellen sind geöffnet!\nEs sind weitere Regat
 ten geplant.\n
X-ALT-DESC;FMTTYPE=text/html:<h3>Wegen des gro&szlig;en Erfolgs HighNoon 2 im SVSt</h3><ul><li>Start im 
 Bereich &bdquo; Alte Liebe&ldquo;, Pichelsdorfer Gem&uuml;nd.</li><li>Geseg
 elt wird um Fahrwassertonnen der Unterhavel.</li><li>L&auml;nge der Kurse s
 ind nach Windst&auml;rke unterschiedlich.</li><li>Bahnkarten werden ausgege
 ben.</li><li>Meldeschlu&szlig; 21.10.2016 24.00h</li><li>Meldegeld 0&euro;<
 /li><li>Wertung: Yardstick Berliner Liste (ohne Spi +2.)</li><li>Eine Stund
 e nach Zieldurchgang des letzten Schiffes wird das Ergebnis der Tageswettfa
 hrt bekannt gegeben.</li><li>Nach der Wettfahrt Seglerhock am Grill. Bitte 
 Grillgut mitbringen, Getr&auml;nke h&auml;lt die &Ouml;konomie bereit.</li>
 </ul><p>&nbsp;</p><p>Meldestelle: <a href="http://www.raceoffice.org/event.
 php?eid=177681679557d8570437475" target="_blank">www.raceoffice.org</a> | E
 -Mail: <span id="cloak248cdb3cd57db77dd54ffec56e60fcb9">Diese E-Mail-Adress
 e ist vor Spambots geschützt! Zur Anzeige muss JavaScript eingeschaltet sei
 n!</span><script type='text/javascript'>
				document.getElementById('cloak
 248cdb3cd57db77dd54ffec56e60fcb9').innerHTML = '';
				var prefix = '&#109;
 a' + 'i&#108;' + '&#116;o';
				var path = 'hr' + 'ef' + '=';
				var addy2
 48cdb3cd57db77dd54ffec56e60fcb9 = 'sp&#111;rt' + '&#64;';
				addy248cdb3cd
 57db77dd54ffec56e60fcb9 = addy248cdb3cd57db77dd54ffec56e60fcb9 + 'svst' + '
 &#46;' + 'd&#101;';
				var addy_text248cdb3cd57db77dd54ffec56e60fcb9 = 'sp
 &#111;rt@svst.d&#101; ';document.getElementById('cloak248cdb3cd57db77dd54ff
 ec56e60fcb9').innerHTML += '<a ' + path + '\'' + prefix + ':' + addy248cdb3
 cd57db77dd54ffec56e60fcb9 + '\'>'+addy_text248cdb3cd57db77dd54ffec56e60fcb9
 +'<\/a>';
		</script>| Meldeliste am Sportbrett.</p><p>Alle Meldestellen si
 nd ge&ouml;ffnet!<span></span></p><p>Es sind weitere Regatten geplant.</p>
DTSTAMP:20260420T122526
DTSTART;TZID=Europe/Berlin:20161023T120000
DTEND;TZID=Europe/Berlin:20161023T230000
SEQUENCE:0
TRANSP:OPAQUE
END:VEVENT
END:VCALENDAR