BEGIN:VCALENDAR
VERSION:2.0
PRODID:-//jEvents 2.0 for Joomla//EN
CALSCALE:GREGORIAN
METHOD:PUBLISH
BEGIN:VTIMEZONE
TZID:Europe/Berlin
BEGIN:STANDARD
DTSTART:20151025T020000
RDATE:20160327T030000
TZOFFSETFROM:+0200
TZOFFSETTO:+0100
TZNAME:Europe/Berlin CET
END:STANDARD
BEGIN:STANDARD
DTSTART:20161030T020000
RDATE:20170326T030000
TZOFFSETFROM:+0200
TZOFFSETTO:+0100
TZNAME:Europe/Berlin CET
END:STANDARD
BEGIN:STANDARD
DTSTART:20171029T020000
RDATE:20180325T030000
TZOFFSETFROM:+0200
TZOFFSETTO:+0100
TZNAME:Europe/Berlin CET
END:STANDARD
BEGIN:STANDARD
DTSTART:20181028T020000
RDATE:20190331T030000
TZOFFSETFROM:+0200
TZOFFSETTO:+0100
TZNAME:Europe/Berlin CET
END:STANDARD
BEGIN:STANDARD
DTSTART:20191027T020000
RDATE:20200329T030000
TZOFFSETFROM:+0200
TZOFFSETTO:+0100
TZNAME:Europe/Berlin CET
END:STANDARD
BEGIN:STANDARD
DTSTART:20201025T020000
RDATE:20210328T030000
TZOFFSETFROM:+0200
TZOFFSETTO:+0100
TZNAME:Europe/Berlin CET
END:STANDARD
BEGIN:STANDARD
DTSTART:20211031T020000
RDATE:20220327T030000
TZOFFSETFROM:+0200
TZOFFSETTO:+0100
TZNAME:Europe/Berlin CET
END:STANDARD
BEGIN:STANDARD
DTSTART:20221030T020000
RDATE:20230326T030000
TZOFFSETFROM:+0200
TZOFFSETTO:+0100
TZNAME:Europe/Berlin CET
END:STANDARD
BEGIN:STANDARD
DTSTART:20231029T020000
RDATE:20240331T030000
TZOFFSETFROM:+0200
TZOFFSETTO:+0100
TZNAME:Europe/Berlin CET
END:STANDARD
BEGIN:STANDARD
DTSTART:20241027T020000
RDATE:20250330T030000
TZOFFSETFROM:+0200
TZOFFSETTO:+0100
TZNAME:Europe/Berlin CET
END:STANDARD
BEGIN:STANDARD
DTSTART:20251026T020000
RDATE:20260329T030000
TZOFFSETFROM:+0200
TZOFFSETTO:+0100
TZNAME:Europe/Berlin CET
END:STANDARD
BEGIN:STANDARD
DTSTART:20261025T020000
RDATE:20270328T030000
TZOFFSETFROM:+0200
TZOFFSETTO:+0100
TZNAME:Europe/Berlin CET
END:STANDARD
BEGIN:STANDARD
DTSTART:20271031T020000
RDATE:20280326T030000
TZOFFSETFROM:+0200
TZOFFSETTO:+0100
TZNAME:Europe/Berlin CET
END:STANDARD
BEGIN:STANDARD
DTSTART:20281029T020000
RDATE:20290325T030000
TZOFFSETFROM:+0200
TZOFFSETTO:+0100
TZNAME:Europe/Berlin CET
END:STANDARD
BEGIN:STANDARD
DTSTART:20291028T020000
RDATE:20300331T030000
TZOFFSETFROM:+0200
TZOFFSETTO:+0100
TZNAME:Europe/Berlin CET
END:STANDARD
BEGIN:STANDARD
DTSTART:20301027T020000
RDATE:20310330T030000
TZOFFSETFROM:+0200
TZOFFSETTO:+0100
TZNAME:Europe/Berlin CET
END:STANDARD
BEGIN:DAYLIGHT
DTSTART:20150813T120000
RDATE:20151025T020000
TZOFFSETFROM:+0100
TZOFFSETTO:+0200
TZNAME:Europe/Berlin CEST
END:DAYLIGHT
BEGIN:DAYLIGHT
DTSTART:20160327T030000
RDATE:20161030T020000
TZOFFSETFROM:+0100
TZOFFSETTO:+0200
TZNAME:Europe/Berlin CEST
END:DAYLIGHT
BEGIN:DAYLIGHT
DTSTART:20170326T030000
RDATE:20171029T020000
TZOFFSETFROM:+0100
TZOFFSETTO:+0200
TZNAME:Europe/Berlin CEST
END:DAYLIGHT
BEGIN:DAYLIGHT
DTSTART:20180325T030000
RDATE:20181028T020000
TZOFFSETFROM:+0100
TZOFFSETTO:+0200
TZNAME:Europe/Berlin CEST
END:DAYLIGHT
BEGIN:DAYLIGHT
DTSTART:20190331T030000
RDATE:20191027T020000
TZOFFSETFROM:+0100
TZOFFSETTO:+0200
TZNAME:Europe/Berlin CEST
END:DAYLIGHT
BEGIN:DAYLIGHT
DTSTART:20200329T030000
RDATE:20201025T020000
TZOFFSETFROM:+0100
TZOFFSETTO:+0200
TZNAME:Europe/Berlin CEST
END:DAYLIGHT
BEGIN:DAYLIGHT
DTSTART:20210328T030000
RDATE:20211031T020000
TZOFFSETFROM:+0100
TZOFFSETTO:+0200
TZNAME:Europe/Berlin CEST
END:DAYLIGHT
BEGIN:DAYLIGHT
DTSTART:20220327T030000
RDATE:20221030T020000
TZOFFSETFROM:+0100
TZOFFSETTO:+0200
TZNAME:Europe/Berlin CEST
END:DAYLIGHT
BEGIN:DAYLIGHT
DTSTART:20230326T030000
RDATE:20231029T020000
TZOFFSETFROM:+0100
TZOFFSETTO:+0200
TZNAME:Europe/Berlin CEST
END:DAYLIGHT
BEGIN:DAYLIGHT
DTSTART:20240331T030000
RDATE:20241027T020000
TZOFFSETFROM:+0100
TZOFFSETTO:+0200
TZNAME:Europe/Berlin CEST
END:DAYLIGHT
BEGIN:DAYLIGHT
DTSTART:20250330T030000
RDATE:20251026T020000
TZOFFSETFROM:+0100
TZOFFSETTO:+0200
TZNAME:Europe/Berlin CEST
END:DAYLIGHT
BEGIN:DAYLIGHT
DTSTART:20260329T030000
RDATE:20261025T020000
TZOFFSETFROM:+0100
TZOFFSETTO:+0200
TZNAME:Europe/Berlin CEST
END:DAYLIGHT
BEGIN:DAYLIGHT
DTSTART:20270328T030000
RDATE:20271031T020000
TZOFFSETFROM:+0100
TZOFFSETTO:+0200
TZNAME:Europe/Berlin CEST
END:DAYLIGHT
BEGIN:DAYLIGHT
DTSTART:20280326T030000
RDATE:20281029T020000
TZOFFSETFROM:+0100
TZOFFSETTO:+0200
TZNAME:Europe/Berlin CEST
END:DAYLIGHT
BEGIN:DAYLIGHT
DTSTART:20290325T030000
RDATE:20291028T020000
TZOFFSETFROM:+0100
TZOFFSETTO:+0200
TZNAME:Europe/Berlin CEST
END:DAYLIGHT
BEGIN:DAYLIGHT
DTSTART:20300331T030000
RDATE:20301027T020000
TZOFFSETFROM:+0100
TZOFFSETTO:+0200
TZNAME:Europe/Berlin CEST
END:DAYLIGHT
END:VTIMEZONE
BEGIN:VEVENT
UID:aae1b07e6a92223463c0a72916486609
CATEGORIES:Regatten SVSt
CREATED:20160719T180419
SUMMARY:High-Noon-Regatta
DESCRIPTION:Start der High-Noon-Regatta für alle Teilnehmer um 12 Uhr. \nKurze Steuerma
 nnsbesprechung um 11 Uhr.\n Jede Yacht erhält Bahnkarte und Segelanweisung.
 \nEine Flagge am Südsteg und eine Boje mit Flagge im Stößensee bilden die S
 tart und Ziellinie.\nKurs: Gesegelt wird um Fahrwassertonnen der Unterhavel
 . Länge der Kurse nach Windstärke \nunterschiedlich. Guter Wind ist bestell
 t!\n\nMeldeschluss: 10.08.2016, 24.00h \nMeldegeld: 0€\nAnschließend Segler
 hock am Grill. Bitte Grillgut nicht vergessen.\nEine Stunde nach Zieldurchg
 ang des letzten Schiffes wird das Ergebnis der Tageswettfahrt \nbekannt geg
 eben.\nWertung: Nach Yardstick ohne Spi +2 . Es sind weitere Regatten gepla
 nt. \nBei mehr als drei Ergebnissen kommen die besten drei in die Wertung.\
 nMeldestelle: www.raceoffice.org (https://www.raceoffice.org/entry.php?eid=
 1951140578578e41441fb58) | E-Mail: Diese E-Mail-Adresse ist vor Spambots ge
 schützt! Zur Anzeige muss JavaScript eingeschaltet sein!
				document.getEl
 ementById('cloakfb64fee12da133b8c5f3d808301e764e').innerHTML = '';
				var 
 prefix = '&#109;a' + 'i&#108;' + '&#116;o';
				var path = 'hr' + 'ef' + '=
 ';
				var addyfb64fee12da133b8c5f3d808301e764e = 'sp&#111;rt' + '&#64;';
	
 			addyfb64fee12da133b8c5f3d808301e764e = addyfb64fee12da133b8c5f3d808301e7
 64e + 'svst' + '&#46;' + 'd&#101;';
				var addy_textfb64fee12da133b8c5f3d8
 08301e764e = 'sp&#111;rt@svst.d&#101; ';document.getElementById('cloakfb64f
 ee12da133b8c5f3d808301e764e').innerHTML += '<a ' + path + '\'' + prefix + '
 :' + addyfb64fee12da133b8c5f3d808301e764e + '\'>'+addy_textfb64fee12da133b8
 c5f3d808301e764e+'';
		| Meldeliste am Sportbrett.\nAlle Meldestellen sind 
 geöffnet!\n
X-ALT-DESC;FMTTYPE=text/html:<p><strong>Start</strong> der High-Noon-Regatta f&uuml;r alle Teilnehmer um
  <strong>12 Uhr</strong>. <br />Kurze Steuermannsbesprechung um <strong>11 
 Uhr</strong>.<br /> Jede Yacht erh&auml;lt Bahnkarte und Segelanweisung.<br
  />Eine Flagge am S&uuml;dsteg und eine Boje mit Flagge im St&ouml;&szlig;e
 nsee bilden die Start und Ziellinie.<br />Kurs: Gesegelt wird um Fahrwasser
 tonnen der Unterhavel. L&auml;nge der Kurse nach Windst&auml;rke <br />unte
 rschiedlich. Guter Wind ist bestellt!</p><p><br />Meldeschluss: 10.08.2016,
  24.00h <br />Meldegeld: 0&euro;</p><p>Anschlie&szlig;end Seglerhock am Gri
 ll. Bitte Grillgut nicht vergessen.</p><p>Eine Stunde nach Zieldurchgang de
 s letzten Schiffes wird das Ergebnis der Tageswettfahrt <br />bekannt gegeb
 en.</p><p>Wertung: Nach Yardstick ohne Spi +2 . Es sind weitere Regatten ge
 plant. <br />Bei mehr als drei Ergebnissen kommen die besten drei in die We
 rtung.</p><p>Meldestelle: <a href="https://www.raceoffice.org/entry.php?eid
 =1951140578578e41441fb58" target="_blank">www.raceoffice.org</a> | E-Mail: 
 <span id="cloakfb64fee12da133b8c5f3d808301e764e">Diese E-Mail-Adresse ist v
 or Spambots geschützt! Zur Anzeige muss JavaScript eingeschaltet sein!</spa
 n><script type='text/javascript'>
				document.getElementById('cloakfb64fee
 12da133b8c5f3d808301e764e').innerHTML = '';
				var prefix = '&#109;a' + 'i
 &#108;' + '&#116;o';
				var path = 'hr' + 'ef' + '=';
				var addyfb64fee1
 2da133b8c5f3d808301e764e = 'sp&#111;rt' + '&#64;';
				addyfb64fee12da133b8
 c5f3d808301e764e = addyfb64fee12da133b8c5f3d808301e764e + 'svst' + '&#46;' 
 + 'd&#101;';
				var addy_textfb64fee12da133b8c5f3d808301e764e = 'sp&#111;r
 t@svst.d&#101; ';document.getElementById('cloakfb64fee12da133b8c5f3d808301e
 764e').innerHTML += '<a ' + path + '\'' + prefix + ':' + addyfb64fee12da133
 b8c5f3d808301e764e + '\'>'+addy_textfb64fee12da133b8c5f3d808301e764e+'<\/a>
 ';
		</script>| Meldeliste am Sportbrett.</p><p>Alle Meldestellen sind ge&o
 uml;ffnet!<span></span></p>
DTSTAMP:20260420T132313
DTSTART;TZID=Europe/Berlin:20160813T120000
DTEND;TZID=Europe/Berlin:20160813T230000
SEQUENCE:0
TRANSP:OPAQUE
END:VEVENT
END:VCALENDAR