BEGIN:VCALENDAR
VERSION:2.0
PRODID:-//jEvents 2.0 for Joomla//EN
CALSCALE:GREGORIAN
METHOD:PUBLISH
BEGIN:VTIMEZONE
TZID:Europe/Berlin
BEGIN:STANDARD
DTSTART:20151025T020000
RDATE:20160327T030000
TZOFFSETFROM:+0200
TZOFFSETTO:+0100
TZNAME:Europe/Berlin CET
END:STANDARD
BEGIN:STANDARD
DTSTART:20161030T020000
RDATE:20170326T030000
TZOFFSETFROM:+0200
TZOFFSETTO:+0100
TZNAME:Europe/Berlin CET
END:STANDARD
BEGIN:STANDARD
DTSTART:20171029T020000
RDATE:20180325T030000
TZOFFSETFROM:+0200
TZOFFSETTO:+0100
TZNAME:Europe/Berlin CET
END:STANDARD
BEGIN:STANDARD
DTSTART:20181028T020000
RDATE:20190331T030000
TZOFFSETFROM:+0200
TZOFFSETTO:+0100
TZNAME:Europe/Berlin CET
END:STANDARD
BEGIN:STANDARD
DTSTART:20191027T020000
RDATE:20200329T030000
TZOFFSETFROM:+0200
TZOFFSETTO:+0100
TZNAME:Europe/Berlin CET
END:STANDARD
BEGIN:STANDARD
DTSTART:20201025T020000
RDATE:20210328T030000
TZOFFSETFROM:+0200
TZOFFSETTO:+0100
TZNAME:Europe/Berlin CET
END:STANDARD
BEGIN:STANDARD
DTSTART:20211031T020000
RDATE:20220327T030000
TZOFFSETFROM:+0200
TZOFFSETTO:+0100
TZNAME:Europe/Berlin CET
END:STANDARD
BEGIN:STANDARD
DTSTART:20221030T020000
RDATE:20230326T030000
TZOFFSETFROM:+0200
TZOFFSETTO:+0100
TZNAME:Europe/Berlin CET
END:STANDARD
BEGIN:STANDARD
DTSTART:20231029T020000
RDATE:20240331T030000
TZOFFSETFROM:+0200
TZOFFSETTO:+0100
TZNAME:Europe/Berlin CET
END:STANDARD
BEGIN:STANDARD
DTSTART:20241027T020000
RDATE:20250330T030000
TZOFFSETFROM:+0200
TZOFFSETTO:+0100
TZNAME:Europe/Berlin CET
END:STANDARD
BEGIN:STANDARD
DTSTART:20251026T020000
RDATE:20260329T030000
TZOFFSETFROM:+0200
TZOFFSETTO:+0100
TZNAME:Europe/Berlin CET
END:STANDARD
BEGIN:STANDARD
DTSTART:20261025T020000
RDATE:20270328T030000
TZOFFSETFROM:+0200
TZOFFSETTO:+0100
TZNAME:Europe/Berlin CET
END:STANDARD
BEGIN:STANDARD
DTSTART:20271031T020000
RDATE:20280326T030000
TZOFFSETFROM:+0200
TZOFFSETTO:+0100
TZNAME:Europe/Berlin CET
END:STANDARD
BEGIN:STANDARD
DTSTART:20281029T020000
RDATE:20290325T030000
TZOFFSETFROM:+0200
TZOFFSETTO:+0100
TZNAME:Europe/Berlin CET
END:STANDARD
BEGIN:STANDARD
DTSTART:20291028T020000
RDATE:20300331T030000
TZOFFSETFROM:+0200
TZOFFSETTO:+0100
TZNAME:Europe/Berlin CET
END:STANDARD
BEGIN:STANDARD
DTSTART:20301027T020000
RDATE:20310330T030000
TZOFFSETFROM:+0200
TZOFFSETTO:+0100
TZNAME:Europe/Berlin CET
END:STANDARD
BEGIN:DAYLIGHT
DTSTART:20150917T110000
RDATE:20151025T020000
TZOFFSETFROM:+0100
TZOFFSETTO:+0200
TZNAME:Europe/Berlin CEST
END:DAYLIGHT
BEGIN:DAYLIGHT
DTSTART:20160327T030000
RDATE:20161030T020000
TZOFFSETFROM:+0100
TZOFFSETTO:+0200
TZNAME:Europe/Berlin CEST
END:DAYLIGHT
BEGIN:DAYLIGHT
DTSTART:20170326T030000
RDATE:20171029T020000
TZOFFSETFROM:+0100
TZOFFSETTO:+0200
TZNAME:Europe/Berlin CEST
END:DAYLIGHT
BEGIN:DAYLIGHT
DTSTART:20180325T030000
RDATE:20181028T020000
TZOFFSETFROM:+0100
TZOFFSETTO:+0200
TZNAME:Europe/Berlin CEST
END:DAYLIGHT
BEGIN:DAYLIGHT
DTSTART:20190331T030000
RDATE:20191027T020000
TZOFFSETFROM:+0100
TZOFFSETTO:+0200
TZNAME:Europe/Berlin CEST
END:DAYLIGHT
BEGIN:DAYLIGHT
DTSTART:20200329T030000
RDATE:20201025T020000
TZOFFSETFROM:+0100
TZOFFSETTO:+0200
TZNAME:Europe/Berlin CEST
END:DAYLIGHT
BEGIN:DAYLIGHT
DTSTART:20210328T030000
RDATE:20211031T020000
TZOFFSETFROM:+0100
TZOFFSETTO:+0200
TZNAME:Europe/Berlin CEST
END:DAYLIGHT
BEGIN:DAYLIGHT
DTSTART:20220327T030000
RDATE:20221030T020000
TZOFFSETFROM:+0100
TZOFFSETTO:+0200
TZNAME:Europe/Berlin CEST
END:DAYLIGHT
BEGIN:DAYLIGHT
DTSTART:20230326T030000
RDATE:20231029T020000
TZOFFSETFROM:+0100
TZOFFSETTO:+0200
TZNAME:Europe/Berlin CEST
END:DAYLIGHT
BEGIN:DAYLIGHT
DTSTART:20240331T030000
RDATE:20241027T020000
TZOFFSETFROM:+0100
TZOFFSETTO:+0200
TZNAME:Europe/Berlin CEST
END:DAYLIGHT
BEGIN:DAYLIGHT
DTSTART:20250330T030000
RDATE:20251026T020000
TZOFFSETFROM:+0100
TZOFFSETTO:+0200
TZNAME:Europe/Berlin CEST
END:DAYLIGHT
BEGIN:DAYLIGHT
DTSTART:20260329T030000
RDATE:20261025T020000
TZOFFSETFROM:+0100
TZOFFSETTO:+0200
TZNAME:Europe/Berlin CEST
END:DAYLIGHT
BEGIN:DAYLIGHT
DTSTART:20270328T030000
RDATE:20271031T020000
TZOFFSETFROM:+0100
TZOFFSETTO:+0200
TZNAME:Europe/Berlin CEST
END:DAYLIGHT
BEGIN:DAYLIGHT
DTSTART:20280326T030000
RDATE:20281029T020000
TZOFFSETFROM:+0100
TZOFFSETTO:+0200
TZNAME:Europe/Berlin CEST
END:DAYLIGHT
BEGIN:DAYLIGHT
DTSTART:20290325T030000
RDATE:20291028T020000
TZOFFSETFROM:+0100
TZOFFSETTO:+0200
TZNAME:Europe/Berlin CEST
END:DAYLIGHT
BEGIN:DAYLIGHT
DTSTART:20300331T030000
RDATE:20301027T020000
TZOFFSETFROM:+0100
TZOFFSETTO:+0200
TZNAME:Europe/Berlin CEST
END:DAYLIGHT
END:VTIMEZONE
BEGIN:VEVENT
UID:e04c0972c83c0a5f0228ac2a02470c94
CATEGORIES:SVSt Veranstaltungen
CREATED:20160704T174031
SUMMARY:Wandersegeln
DESCRIPTION:... ein Tag, an dem alle Mitglieder gemeinsam Segeln gehen und sich dann vo
 r Anker treffen. Vom Opti bis zum Dickschiff - alle sind herzlich eingelade
 n!\nDer Plan: Um 11 Uhr treffen wir uns im SVSt und segeln gemeinsam raus. 
 Unser Ziel ist die Lieper Bucht (nördlich von Lindwerder). Gegen 14 Uhr wol
 len wir dort vor Anker gehen und unser „SVSt-Päckchen“ bilden. Wer lieber n
 och ein bisschen länger segelt oder den gemeinsamen Start verpasst hat, der
  kann einfach später dazu kommen.\nAber ich habe kein Boot!? Natürlich steh
 en unsere Vereinsboote zur Verfügung! Bitte frühzeitig reservieren. Außerde
 m vermittelt Sinikka gerne „Mitfahrgelegenheiten“ und sucht Mitglieder mit 
 Boot, die gerne noch jemanden mitnehmen. Bitte spätestens 5 Tage vorher mel
 den - telefonisch (Mitgliederliste) oder per Email (Diese E-Mail-Adresse is
 t vor Spambots geschützt! Zur Anzeige muss JavaScript eingeschaltet sein!
	
 			document.getElementById('cloakbb4efb7567b5c40a2e7a014926030f1e').innerHT
 ML = '';
				var prefix = '&#109;a' + 'i&#108;' + '&#116;o';
				var path =
  'hr' + 'ef' + '=';
				var addybb4efb7567b5c40a2e7a014926030f1e = 'sp&#111
 ;rt' + '&#64;';
				addybb4efb7567b5c40a2e7a014926030f1e = addybb4efb7567b5
 c40a2e7a014926030f1e + 'svst' + '&#46;' + 'd&#101;';
				var addy_textbb4ef
 b7567b5c40a2e7a014926030f1e = 'sp&#111;rt' + '&#64;' + 'svst' + '&#46;' + '
 d&#101;';document.getElementById('cloakbb4efb7567b5c40a2e7a014926030f1e').i
 nnerHTML += '<a ' + path + '\'' + prefix + ':' + addybb4efb7567b5c40a2e7a01
 4926030f1e + '\'>'+addy_textbb4efb7567b5c40a2e7a014926030f1e+'';
		).\nBrau
 che ich noch irgendetwas?\n• Material zum „Abfendern“ (geht auch mit Schwim
 mwesten)\n• Anlegeleinen\n• Einen Anker (wenn vorhanden)\nEs gilt wieder da
 s Prinzip Selbstversorgung. Mit Kuchen oder Nudelsalat für alle kann man na
 türlich punkten!\nEine Anmeldung ist nicht nötig - einfach dabei sein und m
 itsegeln!\nAuf viele Boote in der Lieper Bucht freut sich\nSinikka Attner\n
 Und hier Sinikkas kurzer Bericht vom letzten Wandersegeln am 16. Juli 2016:
  kurz vor unserer gemeinsamen Startzeit suchte der eine noch ein Schiff zum
  Mitfahren und ein Anderer drückte mir Obst in die Hand mit den Worten: "Ni
 mm das schon mal mit, das ist für alle. Ich komme später nach." \nUm 11:30 
 Uhr starteten dann 4 Schiffe gemeinsam bei schönem Wind und Sonnenschein. W
 ir verteilten uns über die Havel und genossen den Wind. Um 14:00 Uhr trafen
  wir uns wie geplant vor Lindwerder. Anker wurden geworfen, Leinen übergebe
 n, Proviant ausgepackt und schon hatten wir unser SVSt-Päckchen. Inzwischen
  waren es 7 Schiffe vom SVSt. Kuchen, Bouletten und Blätterteig wurden heru
 mgereicht und einige gingen schwimmen. Später holte dann einer seine Gitarr
 e raus, fing an zu spielen und diejenigen, die den Text kannten, stimmten b
 eim Singen mit ein. Pünktlich zum Abend setzte dann eine frische Brise ein,
  das Päckchen löste sich nach und nach auf und wir konnten schön bei Halbwi
 nd wieder in den Hafen segeln.\n
X-ALT-DESC;FMTTYPE=text/html:<p>... ein Tag, an dem alle Mitglieder gemeinsam Segeln gehen und sich dann
  vor Anker treffen. Vom Opti bis zum Dickschiff - alle sind herzlich eingel
 aden!</p><p>Der Plan: Um 11 Uhr treffen wir uns im SVSt und segeln gemeinsa
 m raus. Unser Ziel ist die <strong>Lieper Bucht</strong> (n&ouml;rdlich von
  Lindwerder). Gegen 14 Uhr wollen wir dort vor Anker gehen und unser &bdquo
 ;SVSt-P&auml;ckchen&ldquo; bilden. Wer lieber noch ein bisschen l&auml;nger
  segelt oder den gemeinsamen Start verpasst hat, der kann einfach sp&auml;t
 er dazu kommen.</p><p><strong>Aber ich habe kein Boot!?</strong> Nat&uuml;r
 lich stehen unsere Vereinsboote zur Verf&uuml;gung! Bitte fr&uuml;hzeitig r
 eservieren. Au&szlig;erdem vermittelt Sinikka gerne &bdquo;<strong>Mitfahrg
 elegenheiten</strong>&ldquo; und sucht Mitglieder mit Boot, die gerne noch 
 jemanden mitnehmen. Bitte sp&auml;testens 5 Tage vorher melden - telefonisc
 h (Mitgliederliste) oder per Email (<span id="cloakbb4efb7567b5c40a2e7a0149
 26030f1e">Diese E-Mail-Adresse ist vor Spambots geschützt! Zur Anzeige muss
  JavaScript eingeschaltet sein!</span><script type='text/javascript'>
				d
 ocument.getElementById('cloakbb4efb7567b5c40a2e7a014926030f1e').innerHTML =
  '';
				var prefix = '&#109;a' + 'i&#108;' + '&#116;o';
				var path = 'hr
 ' + 'ef' + '=';
				var addybb4efb7567b5c40a2e7a014926030f1e = 'sp&#111;rt'
  + '&#64;';
				addybb4efb7567b5c40a2e7a014926030f1e = addybb4efb7567b5c40a
 2e7a014926030f1e + 'svst' + '&#46;' + 'd&#101;';
				var addy_textbb4efb756
 7b5c40a2e7a014926030f1e = 'sp&#111;rt' + '&#64;' + 'svst' + '&#46;' + 'd&#1
 01;';document.getElementById('cloakbb4efb7567b5c40a2e7a014926030f1e').inner
 HTML += '<a ' + path + '\'' + prefix + ':' + addybb4efb7567b5c40a2e7a014926
 030f1e + '\'>'+addy_textbb4efb7567b5c40a2e7a014926030f1e+'<\/a>';
		</scrip
 t>).</p><p><strong>Brauche ich noch irgendetwas?</strong></p><p>&bull; Mate
 rial zum &bdquo;Abfendern&ldquo; (geht auch mit Schwimmwesten)<br />&bull; 
 Anlegeleinen<br />&bull; Einen Anker (wenn vorhanden)</p><p>Es gilt wieder 
 das Prinzip Selbstversorgung. Mit Kuchen oder Nudelsalat f&uuml;r alle kann
  man nat&uuml;rlich punkten!</p><p>Eine Anmeldung ist nicht n&ouml;tig - ei
 nfach dabei sein und mitsegeln!</p><p>Auf viele Boote in der Lieper Bucht f
 reut sich<br />Sinikka Attner</p><p><span style="font-family: 'Arial','sans
 -serif';"><strong>Und hier Sinikkas kurzer Bericht vom letzten Wandersegeln
  am 16. Juli 2016:</strong> kurz vor unserer gemeinsamen Startzeit suchte d
 er eine noch ein Schiff zum Mitfahren und ein Anderer dr&uuml;ckte mir Obst
  in die Hand mit den Worten: "Nimm das schon mal mit, das ist f&uuml;r alle
 . Ich komme sp&auml;ter nach." </span></p><p><span style="font-family: 'Ari
 al','sans-serif';">Um 11:30 Uhr starteten dann 4 Schiffe gemeinsam bei sch&
 ouml;nem Wind und Sonnenschein. Wir verteilten uns &uuml;ber die Havel und 
 genossen den Wind. Um 14:00 Uhr trafen wir uns wie geplant vor Lindwerder. 
 Anker wurden geworfen, Leinen &uuml;bergeben, Proviant ausgepackt und schon
  hatten wir unser SVSt-P&auml;ckchen. Inzwischen waren es 7 Schiffe vom SVS
 t. Kuchen, Bouletten und Bl&auml;tterteig wurden herumgereicht und einige g
 ingen schwimmen. Sp&auml;ter holte dann einer seine Gitarre raus, fing an z
 u spielen und diejenigen, die den Text kannten, stimmten beim Singen mit ei
 n. P&uuml;nktlich zum Abend setzte dann eine frische Brise ein, das P&auml;
 ckchen l&ouml;ste sich nach und nach auf und wir konnten sch&ouml;n bei Hal
 bwind wieder in den Hafen segeln.</span></p>
DTSTAMP:20260420T132332
DTSTART;TZID=Europe/Berlin:20160917T110000
SEQUENCE:0
TRANSP:OPAQUE
END:VEVENT
END:VCALENDAR